BEGIN:VCALENDAR
VERSION:2.0
PRODID:-//Mercados Medievales - ECPv6.15.20//NONSGML v1.0//EN
CALSCALE:GREGORIAN
METHOD:PUBLISH
X-WR-CALNAME:Mercados Medievales
X-ORIGINAL-URL:https://demercadosmedievales.info
X-WR-CALDESC:Eventos para Mercados Medievales
REFRESH-INTERVAL;VALUE=DURATION:PT1H
X-Robots-Tag:noindex
X-PUBLISHED-TTL:PT1H
BEGIN:VTIMEZONE
TZID:Europe/Madrid
BEGIN:DAYLIGHT
TZOFFSETFROM:+0100
TZOFFSETTO:+0200
TZNAME:CEST
DTSTART:20250330T010000
END:DAYLIGHT
BEGIN:STANDARD
TZOFFSETFROM:+0200
TZOFFSETTO:+0100
TZNAME:CET
DTSTART:20251026T010000
END:STANDARD
BEGIN:DAYLIGHT
TZOFFSETFROM:+0100
TZOFFSETTO:+0200
TZNAME:CEST
DTSTART:20260329T010000
END:DAYLIGHT
BEGIN:STANDARD
TZOFFSETFROM:+0200
TZOFFSETTO:+0100
TZNAME:CET
DTSTART:20261025T010000
END:STANDARD
BEGIN:DAYLIGHT
TZOFFSETFROM:+0100
TZOFFSETTO:+0200
TZNAME:CEST
DTSTART:20270328T010000
END:DAYLIGHT
BEGIN:STANDARD
TZOFFSETFROM:+0200
TZOFFSETTO:+0100
TZNAME:CET
DTSTART:20271031T010000
END:STANDARD
END:VTIMEZONE
BEGIN:VEVENT
DTSTART;TZID=Europe/Madrid:20260423T000000
DTEND;TZID=Europe/Madrid:20260423T235959
DTSTAMP:20260420T043222
CREATED:20260326T192716Z
LAST-MODIFIED:20260419T102259Z
UID:10003362-1776902400-1776988799@demercadosmedievales.info
SUMMARY:Mercado Renacentista de Torrelobatón 2026 (Valladolid) 🏰 Cartel y Programación
DESCRIPTION:Adéntrate en el pasado y vive la intensidad del Mercado Renacentista de Torrelobatón\, Mercado Comunero de Torrelobatón 2026. Un evento lleno de vida con artesanía\, recreaciones históricas\, animación\, exhibicion de cetreria y  más actividades se unen para ofrecerte una experiencia entretenida. \n\n\n\n\n\n\n\n \n\n\n\nContenido Mercado Renacentista de TorrelobatónCartel y Programación de las actividadesInformación para expositores📍 Descripción de la localidad y cómo llegar🚗 Cómo llegarMercados Medievales 2026: Fechas y Localidades ConfirmadasPara más información puedes consultar :¿Te apuntas? Síguenos y no te pierdas de nada.En Resumen\n\n\n\n \n\n\n\nMercado Renacentista de Torrelobatón\n\n\n\nSumérgete en la historia y emoción del Mercado Comunero en Torrelobatón. Disfruta de artesanía\, recreaciones\, talleres y gastronomía. \n\n\n\n \n\n\n\nCartel y Programación de las actividades\n\n\n\nCartel promocional \n\n\n\n\n\n\n\n \n\n\n\nProgramación de Mercado Renacentista de Torrelobatón 2026 \n\n\n\n\n\n\n\n \n\n\n\nInformación para expositores\n\n\n\n\nEvento : Mercado Renacentista de Torrelobaton\n\n\n\nLa fecha de celebración será23 de abril de 2026\n\n\n\nHorario de apertura y cierre al publico11:00 apertura y cierre 22:00\n\n\n\nPlazo de Inscripción16 de abril\n\n\n\nUbicación dentro del municipio:Cascp histórico\n\n\n\nMunicipio y Provincia :Torrelobaton – VALLADOLID\n\n\n\nPeriodicidad:Anual\n\n\n\nTipo de productos a exponer y vender:Artesania y alimentacion\n\n\n\nFecha de Montaje22 de abril\n\n\n\nFecha de Desmontaje23 de abril\n\n\n\nFecha y hora de inauguración23 de abril a las 11:00 h.\n\n\n\nServicios que proporcionara el organizador :Puntos de Luz\n\n\n\nOrganizaLAS AGUILAS DE VALPORQUEROInformación e Inscripcionespor correo y por WhatsAppTeléfono /   WhatsApp622 39 10 84Email de contacto : artesanosaguilasevalporquero@gmail.com \n\n\n\nRequisitos de participación :Caracterización tanto de puesto como vestuario acorde a la época\, documentación.\n\n\n\nPrecio del metro linealGratuito\n\n\n\n\n \n\n\n\nINSCRIPCION EN MERCADO RENACENTISTA DE TORRELOBATONDescarga\n\n\n\n \n\n\n\n📍 Descripción de la localidad y cómo llegar\n\n\n\nTorrelobatón es un municipio y localidad de la provincia de Valladolid en Castilla y León en España. Se sitúa dentro de la comarca de los Montes Torozos y a través de ella transcurre el río Hornija. \n\n\n\n🚗 Cómo llegar\n\n\n\n\nDesde Valladolid: a unos 30 minutos en coche por la VA-30 y VA-505\n\n\n\nDesde Palencia: aproximadamente 1 hora\n\n\n\n\n\n\n \n\n\n\nMercados Medievales 2026: Fechas y Localidades Confirmadas\n\n\n\n\n\n\n\nEspaña cuenta con una de las agendas de ferias temáticas más ricas del mundo\, combinando gastronomía tradicional\, artesanía de autor y espectáculos en vivo. Si buscas un plan diferente para el fin de semana o quieres conocer el patrimonio de una forma única\, esta es tu guía definitiva. Leer más \n\n\n\nPara más información puedes consultar :\n\n\n\n\nPuedes Consultar en esté enlace las  Ferias y Mercados en España\n\n\n\nHaz clic en ESTE enlace :  Conoce los Organizadores de Mercados y Ferias\n\n\n\n\n¿Te apuntas? Síguenos y no te pierdas de nada.\n\n\n\n\nTelegram\n\n\n\nNewsletter\n\n\n\nWhatsApp\n\n\n\nInstagram\n\n\n\nPor supuesto en Facebook\n\n\n\n\nEn Resumen
URL:https://demercadosmedievales.info/mercadomedieval/mercado-renacentista-de-torrelobaton/
LOCATION:Torrelobatón (Valladolid) (***)\, Torrelobatón\, Valladolid\, 47134\, Spain
CATEGORIES:Cartel,Castilla y Leon,Comunidades y Ciudades Autónomas,Mercado Medieval,Programación,Valladolid
ATTACH;FMTTYPE=image/jpeg:https://demercadosmedievales.info/wp-content/uploads/2026/03/renacentista_torrelobaton_fb.jpg
ORGANIZER;CN="Las Aguilas de Valporquero":MAILTO:artesanosaguilasdevalporquero@gmail.com
GEO:41.6490527;-5.0250649
END:VEVENT
END:VCALENDAR