BEGIN:VCALENDAR
VERSION:2.0
PRODID:-//Mercados Medievales - ECPv6.15.20//NONSGML v1.0//EN
CALSCALE:GREGORIAN
METHOD:PUBLISH
X-ORIGINAL-URL:https://demercadosmedievales.info
X-WR-CALDESC:Eventos para Mercados Medievales
REFRESH-INTERVAL;VALUE=DURATION:PT1H
X-Robots-Tag:noindex
X-PUBLISHED-TTL:PT1H
BEGIN:VTIMEZONE
TZID:Europe/Madrid
BEGIN:DAYLIGHT
TZOFFSETFROM:+0100
TZOFFSETTO:+0200
TZNAME:CEST
DTSTART:20250330T010000
END:DAYLIGHT
BEGIN:STANDARD
TZOFFSETFROM:+0200
TZOFFSETTO:+0100
TZNAME:CET
DTSTART:20251026T010000
END:STANDARD
BEGIN:DAYLIGHT
TZOFFSETFROM:+0100
TZOFFSETTO:+0200
TZNAME:CEST
DTSTART:20260329T010000
END:DAYLIGHT
BEGIN:STANDARD
TZOFFSETFROM:+0200
TZOFFSETTO:+0100
TZNAME:CET
DTSTART:20261025T010000
END:STANDARD
BEGIN:DAYLIGHT
TZOFFSETFROM:+0100
TZOFFSETTO:+0200
TZNAME:CEST
DTSTART:20270328T010000
END:DAYLIGHT
BEGIN:STANDARD
TZOFFSETFROM:+0200
TZOFFSETTO:+0100
TZNAME:CET
DTSTART:20271031T010000
END:STANDARD
END:VTIMEZONE
BEGIN:VEVENT
DTSTART;TZID=Europe/Madrid:20260313T000000
DTEND;TZID=Europe/Madrid:20260315T235959
DTSTAMP:20260420T060604
CREATED:20260221T085052Z
LAST-MODIFIED:20260221T213546Z
UID:10003248-1773360000-1773619199@demercadosmedievales.info
SUMMARY:Mercado Medieval en Santa Eulalia 2026 Murcia - 13 al 15 de Marzo
DESCRIPTION:El Mercado Medieval en Santa Eulalia 2026 se celebrará del 13 al 15 de marzo en Murcia\, ofreciendo un fin de semana lleno de historia\, espectáculos y actividades para toda la familia. \n\n\n\n\n\n\n\n \n\n\n\nÍndice 🏰 ¡El Mercado Medieval regresa a Santa Eulalia! 🛡️13 al 15 de Marzo del 2026🏰 ¿Qué encontrarás en el Mercado Medieval en Santa Eulalia?Ubicación y FechasCartel del Mercado Medieval en Santa EulaliaBarrio de Santa Eulalia en Murcia Calendario de Mercados Medievales en 2026Para más información puedes consultar :¿Te apuntas? Síguenos y no te pierdas de nada.En Resumen….\n\n\n\n \n\n\n\n🏰 ¡El Mercado Medieval regresa a Santa Eulalia! 🛡️\n\n\n\n13 al 15 de Marzo del 2026\n\n\n\nEl barrio de Santa Eulalia\, en la ciudad de Murcia\, se transformará durante tres días en una auténtica villa medieval\, donde la artesanía\, la gastronomía y la animación histórica llenarán cada rincón. \n\n\n\n📅 Fechas: 13\, 14 y 15 de marzo de 2026📍 Ubicación: Santa Eulalia – Murcia ( MURCIA ) \n\n\n\nDurante el fin de semana\, vecinos y visitantes podrán disfrutar de una ambientación única y de una programación pensada para todas las edades. \n\n\n\n\n\n\n\n🏰 ¿Qué encontrarás en el Mercado Medieval en Santa Eulalia?\n\n\n\n🎨 Artesanía – Productos únicos hechos a mano.🍗 Gastronomía medieval – Sabores tradicionales y tabernas ambientadas.🎯 Talleres infantiles – Juegos\, aprendizaje y actividades participativas.🦅 Cetrería – Impresionantes exhibiciones de aves rapaces. \n\n\n\nUn plan perfecto para disfrutar en familia\, pasear entre puestos tematizados y dejarse llevar por la magia del pasado. \n\n\n\nEl evento está organizado por Mercados Arlekin\, empresa organizadora de mercados históricos y recreaciones temáticas. \n\n\n\n \n\n\n\nUbicación y Fechas\n\n\n\n\nNombre del evento: Mercado Medieval en Santa Eulalia 2026\n\n\n\nFechas: 13 al 15 de marzo de 2026\n\n\n\nUbicación: en el barrio de Santa Eulalia\n\n\n\nMunicipio: Murcia\n\n\n\nProvincia: MURCIA \n\n\n\nActividades destacadas: Artesanía\, gastronomía medieval\, talleres infantiles y cetrería.\n\n\n\nHorario: 11:00 – 21:00 (aprox.)\n\n\n\nEntrada: Libre para los visitantes\n\n\n\nProductos permitidos: Artesanía\, complementos\, regalos\, alimentación\n\n\n\nServicios incluidos: Organización\, promoción\, ambiente comercial\n\n\n\nRequisitos : Parada vestida con telas (puede ser de madera o hierro) de ambientación medieval\, Vestuario del Medievo\, Documentación en regla (Autónomos\, Seguridad Social\, Canet de Manipulación de alimentos)\n\n\n\nPrecio por metro lineal : Consultar \n\n\n\nOrganizador: Mercados Arlekin\n\n📲 Inscripciones por WhatsApp: 628 100 548\n\nDatos a enviar: \n\nNombre\n\n\n\nTeléfono\n\n\n\nMetros del puesto\n\n\n\nArtículo a la venta\n\n\n\nMercado interesado\n\n\n\nFoto del puesto\n\n\n\n\n\n\n\n\n\n\n \n\n\n\nCartel del Mercado Medieval en Santa Eulalia\n\n\n\nCartel del Mercado Medieval en Santa Eulalia\n\n\n\n \n\n\n\n \n\n\n\nBarrio de Santa Eulalia en Murcia \n\n\n\nSanta Eulalia se encuentra en el centro histórico de Murcia (MURCIA)\, con fácil acceso a pie\, en transporte público o vehículo privado. \n\n\n\n\n\nSi quieres descubrir más mercados medievales en la Región de Murcia\, visita: \n\n\n\n\nMercados Medievales de la provincia de Murcia\n\n\n\nMASS ARTESANÍA – XXXIII Mercado de Artesanía en Semana Santa de Lorca 2026\n\n\n\nMercado Medieval en Archena 2026 – Del 29 al 31 de Mayo\n\n\n\n\n \n\n\n\nCalendario de Mercados Medievales en 2026\n\n\n\n\n\n\n\nEspaña cuenta con una de las agendas de ferias temáticas más ricas del mundo\, combinando gastronomía tradicional\, artesanía de autor y espectáculos en vivo. Si buscas un plan diferente para el fin de semana o quieres conocer el patrimonio de una forma única\, esta es tu guía definitiva. Leer más \n\n\n\nPara más información puedes consultar :\n\n\n\n\nPuedes Consultar en esté enlace las  Ferias y Mercados en España\n\n\n\nHaz clic en ESTE enlace :  Conoce los Organizadores de Mercados y Ferias\n\n\n\n\n¿Te apuntas? Síguenos y no te pierdas de nada.\n\n\n\n\nTelegram\n\n\n\nNewsletter\n\n\n\nWhatsApp\n\n\n\nInstagram\n\n\n\nPor supuesto en Facebook\n\n\n\n\nEn Resumen….
URL:https://demercadosmedievales.info/mercadomedieval/mercado-medieval-en-santa-eulalia-2026-murcia-13-al-15-de-marzo/
LOCATION:Murcia (Santa Eulalia)\, Barrio de Santa Eulalia\, Murcia\, Spain
CATEGORIES:Mercado Medieval,Murcia,Region de Murcia
ATTACH;FMTTYPE=image/jpeg:https://demercadosmedievales.info/wp-content/uploads/2026/02/medieval_santa_eulalia_fb.jpg
ORGANIZER;CN="Mercados Arlekin":MAILTO:mercadosarlekin@gmail.com
END:VEVENT
BEGIN:VEVENT
DTSTART;TZID=Europe/Madrid:20260314T000000
DTEND;TZID=Europe/Madrid:20260315T235959
DTSTAMP:20260420T060604
CREATED:20260129T102250Z
LAST-MODIFIED:20260309T190228Z
UID:10003174-1773446400-1773619199@demercadosmedievales.info
SUMMARY:IV Jornadas Medievales de Mejorada 2026 Toledo
DESCRIPTION:IV Jornadas Medievales de Mejorada (Toledo) los días 14 y 15 de marzo de 2026 en la Plaza de la Constitución y aledaños. \n\n\n\n\n\n\n\n \n\n\n\nÍndice Mejorada revive su esencia medievalCartel del IV Jornadas Medievales de MejoradaInformación básica para artesanos y mercaderes :Programación IV Jornadas Medievales de Mejorada Mejorada\, raíces que unen pasado y presenteMercados Medievales 2026: Fechas y Localidades ConfirmadasPara más información puedes consultar :¿Te apuntas? Síguenos y no te pierdas de nada.En Resumen….\n\n\n\n \n\n\n\nMejorada revive su esencia medieval\n\n\n\nLas IV Jornadas Medievales de Mejorada se consolidan como una cita destacada dentro del calendario cultural de la comarca. Durante todo el fin de semana\, el centro del municipio se transforma en un escenario medieval donde vecinos y visitantes pueden disfrutar de un ambiente único\, lleno de color\, animación y recreación histórica. \n\n\n\nEl evento está pensado para todos los públicos y ofrece una experiencia cercana\, ideal para pasear en familia\, descubrir productos artesanos y dejarse llevar por el encanto del Medievo. Gracias a la implicación local y a una cuidada organización\, estas jornadas se han convertido en un referente que cada año atrae a más público. \n\n\n\nLa organización corre a cargo de Anayao Eventos\, que coordina tanto el desarrollo del evento como la participación de artesanos y mercaderes. \n\n\n\n \n\n\n\nCartel del IV Jornadas Medievales de Mejorada\n\n\n\nIV Jornadas Medievales de Mejorada\n\n\n\n \n\n\n\nInformación básica para artesanos y mercaderes :\n\n\n\n\nEvento:  IV Jornadas Medievales de Mejorada\n\n\n\nFechas: 14 y 15 de Marzo del 2026\n\n\n\nHorario: 12h hasta las 21:30 aproximadamente\n\n\n\nUbicación:  Plaza de la Constitución y aledaños\n\n\n\nInauguración:  Sábado a las 12 h (por confirmar)\n\n\n\nPeriodicidad:  Anual\n\n\n\nProductos permitidos:  Artesanía\, Alimentación y Gastronomía\n\n\n\nServicios incluidos: electricidad\, agua y seguridad\n\n\n\nOrganiza : Anayao Eventos\n\nCorreo electrónico : anayao.eventos@gmail.com\n\n\n\nTeléfono / WhatsApp : OFICINA 671 06 94 41 \, Sagrario 607 71 57 90 – Días laborables en horario de oficina\n\n\n\n\n\n\n \n\n\n\nProgramación IV Jornadas Medievales de Mejorada \n\n\n\n\n\n\n\n \n\n\n\n\n\n\n\n \n\n\n\n \n\n\n\nMejorada\, raíces que unen pasado y presente\n\n\n\nMejorada es una localidad de la provincia de Toledo\, situada en un entorno tranquilo y bien comunicado. Se accede fácilmente por carretera desde Talavera de la Reina y otros municipios cercanos\, lo que facilita la llegada de visitantes durante el evento. \n\n\n\n\n\n \n\n\n\n \n\n\n\nMercados Medievales 2026: Fechas y Localidades Confirmadas\n\n\n\n\n\n\n\nEspaña cuenta con una de las agendas de ferias temáticas más ricas del mundo\, combinando gastronomía tradicional\, artesanía de autor y espectáculos en vivo. Si buscas un plan diferente para el fin de semana o quieres conocer el patrimonio de una forma única\, esta es tu guía definitiva. Leer más \n\n\n\nPara más información puedes consultar :\n\n\n\n\nPuedes Consultar en esté enlace las  Ferias y Mercados en España\n\n\n\nHaz clic en ESTE enlace :  Conoce los Organizadores de Mercados y Ferias\n\n\n\n\n¿Te apuntas? Síguenos y no te pierdas de nada.\n\n\n\n\nTelegram\n\n\n\nNewsletter\n\n\n\nWhatsApp\n\n\n\nInstagram\n\n\n\nPor supuesto en Facebook\n\n\n\n\nEn Resumen….
URL:https://demercadosmedievales.info/mercadomedieval/iv-jornadas-medievales-de-mejorada-2026-toledo/
LOCATION:Mejorada (Toledo) (***)\, Mejorada\, Toledo\, 45622\, España
CATEGORIES:Cartel,Castilla La Mancha,Mercado Medieval,Programación,Toledo
ATTACH;FMTTYPE=image/jpeg:https://demercadosmedievales.info/wp-content/uploads/2026/01/medieval_mejorada_2026_fb.jpg
GEO:40.0101671;-4.9247074
END:VEVENT
END:VCALENDAR