BEGIN:VCALENDAR
VERSION:2.0
PRODID:-//Mercados Medievales - ECPv6.15.20//NONSGML v1.0//EN
CALSCALE:GREGORIAN
METHOD:PUBLISH
X-WR-CALNAME:Mercados Medievales
X-ORIGINAL-URL:https://demercadosmedievales.info
X-WR-CALDESC:Eventos para Mercados Medievales
REFRESH-INTERVAL;VALUE=DURATION:PT1H
X-Robots-Tag:noindex
X-PUBLISHED-TTL:PT1H
BEGIN:VTIMEZONE
TZID:Europe/Madrid
BEGIN:DAYLIGHT
TZOFFSETFROM:+0100
TZOFFSETTO:+0200
TZNAME:CEST
DTSTART:20250330T010000
END:DAYLIGHT
BEGIN:STANDARD
TZOFFSETFROM:+0200
TZOFFSETTO:+0100
TZNAME:CET
DTSTART:20251026T010000
END:STANDARD
BEGIN:DAYLIGHT
TZOFFSETFROM:+0100
TZOFFSETTO:+0200
TZNAME:CEST
DTSTART:20260329T010000
END:DAYLIGHT
BEGIN:STANDARD
TZOFFSETFROM:+0200
TZOFFSETTO:+0100
TZNAME:CET
DTSTART:20261025T010000
END:STANDARD
BEGIN:DAYLIGHT
TZOFFSETFROM:+0100
TZOFFSETTO:+0200
TZNAME:CEST
DTSTART:20270328T010000
END:DAYLIGHT
BEGIN:STANDARD
TZOFFSETFROM:+0200
TZOFFSETTO:+0100
TZNAME:CET
DTSTART:20271031T010000
END:STANDARD
END:VTIMEZONE
BEGIN:VEVENT
DTSTART;TZID=Europe/Madrid:20260105T000000
DTEND;TZID=Europe/Madrid:20260106T235959
DTSTAMP:20260420T085553
CREATED:20251228T110400Z
LAST-MODIFIED:20251228T110401Z
UID:10002914-1767571200-1767743999@demercadosmedievales.info
SUMMARY:Mercado Medieval de Los Gallardos 2026 (Almería)
DESCRIPTION:El 5 y 6 de enero de 2026\, el municipio de Los Gallardos (Almería) se transformará en una villa medieval con motivo de su Mercado Medieval\, un evento lleno de historia\, música\, color y tradición. \n\n\n\n\n\n\n\n \n\n\n\nLos Gallardos viaja al medievo para celebrar la magia de Reyes con su Mercado Medieval\n\n\n\nLas calles principales —Plaza Andalucía\, Calle Molino y Rafael Alberti— se llenarán de puestos de artesanía\, gastronomía y recreaciones históricas\, creando un ambiente mágico donde vecinos y visitantes podrán disfrutar de espectáculos\, pasacalles y actividades para toda la familia. \n\n\n\nProgramación del Mercado Medieval\n\n\n\n\n\n\n\n \n\n\n\nDatos básicos del Mercado Medieval\n\n\n\nOrganizado por Eventos Moxacar\, este mercado será una oportunidad única para vivir el encanto del medievo en pleno corazón de Almería\, coincidiendo con la festividad de Reyes y ofreciendo una alternativa cultural y festiva para disfrutar los primeros días del año. \n\n\n\n📅 Fechas: 5 y 6 de enero de 2026📍 Ubicación: Plaza Andalucía\, C/ Molino y C/ Rafael Alberti — Los Gallardos (Almería)🏛️ Organiza: Eventos Moxacar📞 Información e inscripciones: 670 202 690 (también WhatsApp) \n\n\n\n\n\n\n\n\n\n\n \n\n\n\n🏞️ Descripción de Los Gallardos (Almería)\n\n\n\nLos Gallardos es un encantador municipio del levante almeriense\, situado entre Sierra Cabrera y el valle del río Aguas\, a pocos kilómetros de Mojácar y del mar Mediterráneo. Su ubicación privilegiada\, rodeada de naturaleza y cerca de la costa\, lo convierte en un destino ideal para quienes buscan combinar historia\, tradición y paisajes únicos. \n\n\n\nEl pueblo conserva la esencia de la Andalucía rural\, con calles blancas\, plazas soleadas y una vida tranquila que gira en torno a la Plaza de Andalucía\, su corazón social y cultural. La Iglesia Parroquial de San José\, sus rincones típicos y las vistas hacia las montañas y el desierto almeriense ofrecen un entorno lleno de encanto. \n\n\n\nLos Gallardos destaca también por su hospitalidad y por la celebración de eventos que mantienen vivas sus tradiciones\, como ferias\, fiestas patronales y mercados temáticos. Entre ellos\, su Mercado Medieval\, que llena el centro del pueblo de música\, color y artesanía\, se ha convertido en una cita imprescindible para vecinos y visitantes. \n\n\n\nRodeado de olivares\, caminos rurales y rutas naturales\, Los Gallardos es además un excelente punto de partida para descubrir el Parque Natural de Cabo de Gata-Níjar o las playas cercanas del levante almeriense. \n\n\n\n\n\n\n\n\n\n\n\n\n \n\n\n\nMercados Medievales 2026: Fechas y Localidades Confirmadas\n\n\n\nEspaña cuenta con una de las agendas de ferias temáticas más ricas del mundo\, combinando gastronomía tradicional\, artesanía de autor y espectáculos en vivo. Si buscas un plan diferente para el fin de semana o quieres conocer el patrimonio de una forma única\, esta es tu guía definitiva. Leer más \n\n\n\nPara más información puedes consultar :\n\n\n\n\nPuedes Consultar en esté enlace las Ferias y Mercados en España\n\n\n\nHaz clic en ESTE enlace :  Conoce los Organizadores de Mercados y Ferias\n\n\n\n\nSi quieres seguirnos en las Redes Sociales\, aquí te dejamos los enlaces :\n\n\n\n\nTelegram\n\n\n\nNewsletter\n\n\n\nWhatsApp\n\n\n\nInstagram\n\n\n\nPor supuesto en Facebook\n\n\n\n\nEn Resumen…\n\n\n\n🏰 Mercado Medieval de Los Gallardos (Almería)📅 5 y 6 de enero de 2026📍 Plaza Andalucía\, C/ Molino y Rafael Alberti \n\n\n\nArtesanía\, música\, recreaciones y ambiente histórico para toda la familia ⚔️✨ \n\n\n\nMás información : https://demercadosmedievales.info/mercadomedieval/mercado-medieval-de-los-gallardos-2026-almeria/
URL:https://demercadosmedievales.info/mercadomedieval/mercado-medieval-de-los-gallardos-2026-almeria/
LOCATION:Los Gallardos (Almería) (***)\, Calle Almeria\, Los Gallardos\, Almería\, 04280\, Spain
CATEGORIES:Almería,Andalucia,Mercado Medieval
ATTACH;FMTTYPE=image/jpeg:https://demercadosmedievales.info/wp-content/uploads/2025/10/medieval_gallardos_fb.jpg
ORGANIZER;CN="Eventos Moxacar":MAILTO:EVENTOSMOXACAR2013@HOTMAIL.COM
GEO:37.1689271;-1.940621
X-APPLE-STRUCTURED-LOCATION;VALUE=URI;X-ADDRESS=Los Gallardos (Almería) (***) Calle Almeria Los Gallardos Almería 04280 Spain;X-APPLE-RADIUS=500;X-TITLE=Calle Almeria:geo:-1.940621,37.1689271
END:VEVENT
END:VCALENDAR