BEGIN:VCALENDAR
VERSION:2.0
PRODID:-//Mercados Medievales - ECPv6.15.20//NONSGML v1.0//EN
CALSCALE:GREGORIAN
METHOD:PUBLISH
X-WR-CALNAME:Mercados Medievales
X-ORIGINAL-URL:https://demercadosmedievales.info
X-WR-CALDESC:Eventos para Mercados Medievales
REFRESH-INTERVAL;VALUE=DURATION:PT1H
X-Robots-Tag:noindex
X-PUBLISHED-TTL:PT1H
BEGIN:VTIMEZONE
TZID:Europe/Madrid
BEGIN:DAYLIGHT
TZOFFSETFROM:+0100
TZOFFSETTO:+0200
TZNAME:CEST
DTSTART:20240331T010000
END:DAYLIGHT
BEGIN:STANDARD
TZOFFSETFROM:+0200
TZOFFSETTO:+0100
TZNAME:CET
DTSTART:20241027T010000
END:STANDARD
BEGIN:DAYLIGHT
TZOFFSETFROM:+0100
TZOFFSETTO:+0200
TZNAME:CEST
DTSTART:20250330T010000
END:DAYLIGHT
BEGIN:STANDARD
TZOFFSETFROM:+0200
TZOFFSETTO:+0100
TZNAME:CET
DTSTART:20251026T010000
END:STANDARD
BEGIN:DAYLIGHT
TZOFFSETFROM:+0100
TZOFFSETTO:+0200
TZNAME:CEST
DTSTART:20260329T010000
END:DAYLIGHT
BEGIN:STANDARD
TZOFFSETFROM:+0200
TZOFFSETTO:+0100
TZNAME:CET
DTSTART:20261025T010000
END:STANDARD
BEGIN:DAYLIGHT
TZOFFSETFROM:+0100
TZOFFSETTO:+0200
TZNAME:CEST
DTSTART:20270328T010000
END:DAYLIGHT
BEGIN:STANDARD
TZOFFSETFROM:+0200
TZOFFSETTO:+0100
TZNAME:CET
DTSTART:20271031T010000
END:STANDARD
END:VTIMEZONE
BEGIN:VEVENT
DTSTART;TZID=Europe/Madrid:20251227T000000
DTEND;TZID=Europe/Madrid:20260101T235959
DTSTAMP:20260420T085619
CREATED:20251222T205843Z
LAST-MODIFIED:20251222T205844Z
UID:10002920-1766793600-1767311999@demercadosmedievales.info
SUMMARY:MERCADO MEDIEVAL DE PEÑÍSCOLA (CASTELLÓN) 2025
DESCRIPTION:El fin de año y el inicio del nuevo se viven con aire medieval en Peñíscola (Castellón)\, donde del 27 de diciembre al 01 de enero se celebrará un fascinante Mercado Medieval lleno de magia\, historia y diversión. \n\n\n\n\n\n\n\n \n\n\n\n \n\n\n\nEl Medievo revive junto al mar en Peñíscola\n\n\n\nOrganizado por LEGEND Especialistas\, este mercado transformará las emblemáticas plazas de Santa María y Dels Bous en un auténtico poblado medieval con puestos de artesanía\, tabernas\, exhibiciones\, cetrería\, animación de calle\, música y actividades para todas las edades. \n\n\n\nUna experiencia perfecta para despedir el año y dar la bienvenida a 2026 en un entorno histórico incomparable\, junto al castillo templario y las murallas que dominan el Mediterráneo. \n\n\n\n\n\n\n\n\n\n\nPROGRAMACION DEL MERCADO MEDIEVAL DE PEÑÍSCOLA\n\n\n\n\n\n\n\nEl último medieval del año… \n\n\n\n📅 Fechas de celebración: del 27 de diciembre al 01 de enero📍 Ubicación:Pendiente de confirmación\, posiblemente en las plazas de Santa María y Dels Bous (como en la edición anterior).👥 Organiza: LEGEND Especialistas📧 Correo electrónico: artesanos@legendespecialistas.com📞 Teléfono / WhatsApp: Oficinas 966 851 604 | Móvil 663 049 625 \n\n\n\n\n\n\n\n\n\n\n🧭 DESCRIPCIÓN DE PEÑÍSCOLA (CASTELLÓN)\n\n\n\nPeñíscola\, uno de los pueblos más bellos del Mediterráneo\, se alza sobre una imponente roca coronada por el Castillo del Papa Luna\, testigo de siglos de historia. Su casco antiguo\, rodeado de murallas\, conserva el encanto medieval en cada rincón. \n\n\n\nDurante las fiestas navideñas\, la ciudad se transforma en un escenario único donde la historia cobra vida. El Mercado Medieval\, con su ambiente templario\, artesanía y espectáculos\, ofrece una experiencia inolvidable para vecinos y visitantes en uno de los destinos más emblemáticos de la Costa del Azahar. \n\n\n\n \n\n\n\nPara más información puedes consultar :\n\n\n\n\nPuedes Consultar en esté enlace las Ferias y Mercados en España\n\n\n\nHaz clic en ESTE enlace :  Conoce los Organizadores de Mercados y Ferias\n\n\n\n\n\n\n\n\n¿Te apuntas? Dale follow y no te lo pierdas.\n\n\n\n\nTelegram: Recibe nuestras noticias y contenido exclusivo (clic aquí).\n\n\n\nNewsletter: Recibe un correos con nuestras últimas noticias (clic aquí).\n\n\n\nWhatsApp: Suscríbete para seguirnos en nuestro canal (clic aquí).\n\n\n\nInstagram: Síguenos en Instagram ( clic aquí )\n\n\n\n\nEn Resumen…\n\n\n\n⚔️ Mercado Medieval en #Peñíscola del 27 de diciembre al 01 de enero🎭 Artesanía\, cetrería y espectáculos frente al mar📧 artesanos@legendespecialistas.com \n\n\n\nmás información : https://demercadosmedievales.info/mercadomedieval/medieval-peniscola-2025/
URL:https://demercadosmedievales.info/mercadomedieval/medieval-peniscola-2025/
LOCATION:Navarre
CATEGORIES:Cartel,Castellon,Comunidad valenciana,Mercado Medieval,Programación
ATTACH;FMTTYPE=image/jpeg:https://demercadosmedievales.info/wp-content/uploads/2025/12/navidad_peniscola_programa_page-0001.jpg
ORGANIZER;CN="Legend Especialistas":MAILTO:artesanos@legendespecialistas.com
END:VEVENT
BEGIN:VEVENT
DTSTART;TZID=Europe/Madrid:20251230T000000
DTEND;TZID=Europe/Madrid:20251230T235959
DTSTAMP:20260420T085619
CREATED:20251218T180641Z
LAST-MODIFIED:20251218T180658Z
UID:10002989-1767052800-1767139199@demercadosmedievales.info
SUMMARY:Mercado Medieval de Fuengirola (Málaga) 2025
DESCRIPTION:El Mercado Medieval de Fuengirola es una cita imperdible para los amantes de la artesanía\, la historia y las tradiciones populares. \n\n\n\n\n\n\n\n \n\n\n\n \n\n\n\nVive la magia del Medievo en la Costa del Sol !\n\n\n\nEl próximo 30 de diciembre\, la ciudad de Fuengirola (Málaga) se vestirá de historia para acoger un espectacular Mercado Medieval\, organizado por Tempus Aevus\, donde se reunirán artesanos\, músicos\, y artistas para despedir el año con un viaje al pasado. \n\n\n\nEl evento se desarrollará en pleno corazón de Fuengirola\, a lo largo del Camino de Coín (desde calle Camilo José Cela hasta Avenida Condes de San Isidro)\, Avenida Condes de San Isidro (hasta calle Victoria)\, Plaza de Reyes Católicos y Calle San Antonio. \n\n\n\nDurante toda la jornada\, vecinos y visitantes podrán disfrutar de puestos de artesanía\, productos naturales\, bisutería\, cuero\, orfebrería\, gastronomía medieval\, espectáculos de calle\, música\, pasacalles y talleres para todas las edades. \n\n\n\n \n\n\n\nProgramación del Mercado Medieval de Fuengirola :\n\n\n\n\n\n\n\n \n\n\n\n\n\n\n\n \n\n\n\nInformación para Artesanos y Mercaderes :\n\n\n\n\nFecha :  30 de Diciembre del 2025\n\n\n\nLocalidad y Provincia : Fuengirola\, Malaga\n\n\n\nUbicación : Camino de Coín\, Avenida Condes de San Isidro\, Plaza de Reyes Católicos y Calle San Antonio.\n\n\n\nOrganiza : Tempus Aevus\n\n\n\n\n\n\n\n\n🧺 ¿Eres artesano o mercader y quieres participar?\n\n\n\nPara formar parte del Mercado Medieval de Fuengirola\, envía un correo a:📧 tempusaevus@gmail.comcon los siguientes datos: \n\n\n\nMERCADO QUE ME INTERESA: FUENGIROLA (MÁLAGA)\nNOMBRE Y APELLIDOS:\nDIRECCIÓN COMPLETA:\nDNI O CIF:\nTELÉFONO MÓVIL:\nCORREO ELECTRÓNICO:\nARTÍCULO A LA VENTA:\nMETROS DEL PUESTO (INCLUIR FONDO):\nPOTENCIA DE LUZ NECESARIA:\nMATRÍCULA DEL VEHÍCULO:\nOBSERVACIONES:\n\n\n\n\n📞 Contacto directo: 622 712 382 \n\n\n\n\n\n\n\n⚖️ Requisitos para expositores\n\n\n\nPara participar\, es necesario: \n\n\n\n\nEn caso de alimentación\, disponer de carnet de manipulador y registro sanitario o presentar facturas/albaranes de compra.\n\n\n\nEstar dado de alta en Seguridad Social (autónomo o cooperativa).\n\n\n\nContar con seguro de responsabilidad civil (RC).\n\n\n\nAlta en IAE.\n\n\n\n\n \n\n\n\n🏖️ Fuengirola\, joya costera de la Costa del Sol\n\n\n\nSituada en el corazón de la Costa del Sol\, la localidad de Fuengirola (Málaga) es uno de los destinos turísticos más destacados de Andalucía. Con más de 8 kilómetros de playas\, un clima mediterráneo privilegiado y una amplia oferta cultural\, comercial y gastronómica\, Fuengirola combina a la perfección el encanto andaluz con la vitalidad de una ciudad moderna y abierta al mar. \n\n\n\nSu casco histórico\, de calles peatonales y plazas llenas de vida\, conserva el sabor tradicional de un antiguo pueblo pesquero\, mientras que sus avenidas\, parques y zonas comerciales muestran una ciudad dinámica y acogedora. \n\n\n\nEntre sus principales atractivos destacan el Castillo Sohail\, una fortaleza árabe del siglo X que se alza junto al mar y acoge numerosos eventos culturales; el Paseo Marítimo Rey de España\, uno de los más largos de Europa; y una completa programación de actividades durante todo el año\, desde ferias y festivales hasta mercadillos y eventos temáticos. \n\n\n\nGracias a su excelente comunicación por carretera y tren\, y su cercanía al Aeropuerto Internacional de Málaga\, Fuengirola es un punto de encuentro perfecto tanto para visitantes como para expositores y artistas que participan en sus celebraciones. \n\n\n\n\n\n \n\n\n\nPara más información puedes consultar :\n\n\n\n\nPuedes Consultar en esté enlace las Ferias y Mercados en España\n\n\n\nHaz clic en ESTE enlace :  Conoce los Organizadores de Mercados y Ferias\n\n\n\n\n \n\n\n\n¿Te apuntas? Dale follow y no te lo pierdas.\n\n\n\n\nTelegram: Recibe nuestras noticias y contenido exclusivo (clic aquí).\n\n\n\nNewsletter: Recibe un correos con nuestras últimas noticias (clic aquí).\n\n\n\nWhatsApp: Suscríbete para seguirnos en nuestro canal (clic aquí).\n\n\n\nInstagram: Síguenos en Instagram ( clic aquí )\n\n\n\n\n \n\n\n\nEn Resumen…
URL:https://demercadosmedievales.info/mercadomedieval/mercado-medieval-de-fuengirola-malaga-2025/
LOCATION:Fuengirola (Málaga) (***)\, Fuengirola\, Málaga\, 29640\, Spain
CATEGORIES:Andalucia,Malaga,Mercado Medieval,Programación
ATTACH;FMTTYPE=image/jpeg:https://demercadosmedievales.info/wp-content/uploads/2025/12/medieval_fuengirola_cartel.jpg
ORGANIZER;CN="Tempus Aevus":MAILTO:tempusaevus@gmail.com
GEO:36.5421095;-4.6238731
END:VEVENT
END:VCALENDAR