BEGIN:VCALENDAR
VERSION:2.0
PRODID:-//Mercados Medievales - ECPv6.15.20//NONSGML v1.0//EN
CALSCALE:GREGORIAN
METHOD:PUBLISH
X-ORIGINAL-URL:https://demercadosmedievales.info
X-WR-CALDESC:Eventos para Mercados Medievales
REFRESH-INTERVAL;VALUE=DURATION:PT1H
X-Robots-Tag:noindex
X-PUBLISHED-TTL:PT1H
BEGIN:VTIMEZONE
TZID:Europe/Madrid
BEGIN:DAYLIGHT
TZOFFSETFROM:+0100
TZOFFSETTO:+0200
TZNAME:CEST
DTSTART:20240331T010000
END:DAYLIGHT
BEGIN:STANDARD
TZOFFSETFROM:+0200
TZOFFSETTO:+0100
TZNAME:CET
DTSTART:20241027T010000
END:STANDARD
BEGIN:DAYLIGHT
TZOFFSETFROM:+0100
TZOFFSETTO:+0200
TZNAME:CEST
DTSTART:20250330T010000
END:DAYLIGHT
BEGIN:STANDARD
TZOFFSETFROM:+0200
TZOFFSETTO:+0100
TZNAME:CET
DTSTART:20251026T010000
END:STANDARD
BEGIN:DAYLIGHT
TZOFFSETFROM:+0100
TZOFFSETTO:+0200
TZNAME:CEST
DTSTART:20260329T010000
END:DAYLIGHT
BEGIN:STANDARD
TZOFFSETFROM:+0200
TZOFFSETTO:+0100
TZNAME:CET
DTSTART:20261025T010000
END:STANDARD
END:VTIMEZONE
BEGIN:VEVENT
DTSTART;TZID=Europe/Madrid:20251121T000000
DTEND;TZID=Europe/Madrid:20251124T235959
DTSTAMP:20260420T115555
CREATED:20251117T174955Z
LAST-MODIFIED:20251117T175114Z
UID:10002826-1763683200-1764028799@demercadosmedievales.info
SUMMARY:[Programación] Mercado Medieval de Lorca 2025 en Plaza España
DESCRIPTION:Del 21 al 24 de noviembre\, Lorca celebra su Mercado Medieval en Plaza España con artesanía\, animación y ambiente histórico. \n\n\n\n\n\n\n\n \n\n\n\n📜 Programación del  Mercado Medieval de Lorca 2025 \n\n\n\n\n\n\n\n \n\n\n\n\n\n\n\n \n\n\n\n \n\n\n\n📌 Convocatoria – Mercado Medieval de Lorca 2025\n\n\n\nCon motivo de las Fiestas en honor al patrón de la ciudad\, San Clemente \n\n\n\n📅 Fechas: del 21 al 24 de noviembre de 2025📍 Lugar: Plaza España\, Lorca (Murcia)🕗 Montaje: viernes 21 a las 8:30h👥 Organiza: Mercados Arlekin \n\n\n\n📲 Inscripciones y reservas:Los interesados deben enviar por WhatsApp al 628100548: \n\n\n\n\nFotos de la parada y productos (con breve descripción)\n\n\n\nNombre\, apellidos y teléfono de contacto\n\n\n\nFerias a las que se desea asistir\n\n\n\nMedidas del puesto (metros lineales y de fondo)\n\n\n\n\n⚠️ Nota: No se atenderán solicitudes por otras vías. \n\n\n\n Las fiestas de San Clemente\n\n\n\nLas Fiestas de San Clemente en Lorca se celebran en torno al 23 de noviembre\, conmemorando la festividad del santo patrón y la historia de la ciudad\, incluyendo su pasado musulmán\, judío y cristiano. Las celebraciones incluyen desfiles de moros y cristianos\, procesiones\, mercados medievales y actividades culturales que recuerdan la reconquista y la convivencia de las tres culturas\, como la subida al Castillo de Lorca. \n\n\n\nActividades principales\n\n\n\n\nDesfiles y representaciones: Se recrea la historia de la ciudad a través de los desfiles de huestes moras y cristianas\, con la participación de grupos organizados.\n\n\n\nMercado Medieval: Se instala un mercado que transportan a los asistentes a «tiempos de otros tiempos».\n\n\n\nSubida al Castillo: Una de las tradiciones más arraigadas es la subida al Castillo de Lorca\, el asentamiento humano más antiguo de la región.\n\n\n\nActos por la Paz: La fiesta también tiene un componente de recuerdo y un enfoque en la paz para el presente y el futuro de la ciudad.\n\n\n\nProcesiones: Se realizan procesiones\, a menudo a la luz de las antorchas\, para honrar al patrón.\n\n\n\n\nDescripción de la localidad : \n\n\n\nLorca es una ciudad y municipio español perteneciente a la Región de Murcia\, situada en la comarca del Alto Guadalentín\, en el sureste de la península ibérica. Es la tercera población en importancia de la Región de Murcia tras Murcia y Cartagena\, con 98 334 habitantes (INE 2024) \n\n\n\n\n\n \n\n\n\nPara más información puedes consultar :\n\n\n\n\nPuedes Consultar en esté enlace las Ferias y Mercados en España\n\n\n\nHaz clic en ESTE enlace :  Conoce los Organizadores de Mercados y Ferias\n\n\n\n\n\n\n\n\n¿Te apuntas? Dale follow y no te lo pierdas.\n\n\n\n\nTelegram: Recibe nuestras noticias y contenido exclusivo (clic aquí).\n\n\n\nNewsletter: Recibe un correos con nuestras últimas noticias (clic aquí).\n\n\n\nWhatsApp: Suscríbete para seguirnos en nuestro canal (clic aquí).\n\n\n\nInstagram: Síguenos en Instagram ( clic aquí )\n\n\n\n\nEn Resumen…
URL:https://demercadosmedievales.info/mercadomedieval/mercado-medieval-de-lorca-2025-en-plaza-espana/
LOCATION:Lorca (Murcia) (***)\, Lorca\, Murcia\, 30800\, España
CATEGORIES:Cartel,Mercado Medieval,Region de Murcia
ATTACH;FMTTYPE=image/jpeg:https://demercadosmedievales.info/wp-content/uploads/2025/10/medieval_lorca_facebook_1.jpg
ORGANIZER;CN="Mercados Arlekin":MAILTO:mercadosarlekin@gmail.com
GEO:37.6735925;-1.6968357
END:VEVENT
END:VCALENDAR