BEGIN:VCALENDAR
VERSION:2.0
PRODID:-//Mercados Medievales - ECPv6.15.20//NONSGML v1.0//EN
CALSCALE:GREGORIAN
METHOD:PUBLISH
X-ORIGINAL-URL:https://demercadosmedievales.info
X-WR-CALDESC:Eventos para Mercados Medievales
REFRESH-INTERVAL;VALUE=DURATION:PT1H
X-Robots-Tag:noindex
X-PUBLISHED-TTL:PT1H
BEGIN:VTIMEZONE
TZID:Europe/Madrid
BEGIN:DAYLIGHT
TZOFFSETFROM:+0100
TZOFFSETTO:+0200
TZNAME:CEST
DTSTART:20240331T010000
END:DAYLIGHT
BEGIN:STANDARD
TZOFFSETFROM:+0200
TZOFFSETTO:+0100
TZNAME:CET
DTSTART:20241027T010000
END:STANDARD
BEGIN:DAYLIGHT
TZOFFSETFROM:+0100
TZOFFSETTO:+0200
TZNAME:CEST
DTSTART:20250330T010000
END:DAYLIGHT
BEGIN:STANDARD
TZOFFSETFROM:+0200
TZOFFSETTO:+0100
TZNAME:CET
DTSTART:20251026T010000
END:STANDARD
BEGIN:DAYLIGHT
TZOFFSETFROM:+0100
TZOFFSETTO:+0200
TZNAME:CEST
DTSTART:20260329T010000
END:DAYLIGHT
BEGIN:STANDARD
TZOFFSETFROM:+0200
TZOFFSETTO:+0100
TZNAME:CET
DTSTART:20261025T010000
END:STANDARD
END:VTIMEZONE
BEGIN:VEVENT
DTSTART;TZID=Europe/Madrid:20251030T000000
DTEND;TZID=Europe/Madrid:20251102T235959
DTSTAMP:20260420T121002
CREATED:20251029T182651Z
LAST-MODIFIED:20251029T184730Z
UID:10002971-1761782400-1762127999@demercadosmedievales.info
SUMMARY:Programación de la Feria Franca Medieval de Niebla (Huelva) 2025
DESCRIPTION:Del 30 de octubre al 2 de noviembre de 2025\, la histórica ciudad amurallada de Niebla (Huelva) se prepara para acoger una de las celebraciones más esperadas del otoño andaluz: la Real Feria de Niebla – Tosantos 2025.Una cita que combina tradición\, historia\, comercio y cultura popular\, con un completo programa de actividades que llenará las calles de vida\, música y artesanía. \n\n\n\n\n\n\n\n \n\n\n\n🏰 “Historia\, tradición y sabor en el corazón de Niebla.”\n\n\n\n⚔️ Feria Franca Medieval y Mercado Medieval en el imponente Castillo de Niebla\, donde artesanos\, músicos y recreadores harán viajar en el tiempo a todos los asistentes.🧳 XXV Exponiebla\, la gran Feria Comercial y de Muestras del Condado de Niebla\, punto de encuentro empresarial y cultural con participación de productores\, comerciantes y entidades locales. \n\n\n\nDurante estos cuatro días\, la ciudad se llenará de color\, alegría y tradición\, celebrando el espíritu de Tosantos con un ambiente único que combina historia\, cultura\, gastronomía y diversión. \n\n\n\n📅 Fechas: 30 y 31 de octubre\, 1 y 2 de noviembre de 2025📍 Lugar: Niebla (Huelva)🎪 Organiza: Ayuntamiento de Niebla \n\n\n\n\n\n\n\n\n\n\n\n\n\n\n\n\n\n\n\n\n\n\n\n\n\n\n\n\n\n\n\n\n\n \n\n\n\n\n\n\n\n4️⃣ Descripción de la localidad\n\n\n\nNiebla\, situada en el corazón del Condado de Huelva\, es una de las ciudades más antiguas de Andalucía. Su majestuoso recinto amurallado y su castillo la convierten en un enclave histórico incomparable.Durante la Real Feria\, sus calles se llenan de vida\, visitantes y tradición\, ofreciendo una experiencia única donde se combinan artesanía\, gastronomía\, historia y cultura popular. \n\n\n\n\n\n \n\n\n\nEnlaces a consultar:\n\n\n\n\nPuedes Consultar en esté enlace las Ferias y Mercados en España\n\n\n\nHaz clic en ESTE enlace :  Conoce los Organizadores de Mercados y Ferias\n\n\n\n\n\n\n\n\n¿Te apuntas? Dale follow y no te lo pierdas.\n\n\n\n\nTelegram: Recibe nuestras noticias y contenido exclusivo (clic aquí).\n\n\n\nNewsletter: Recibe un correos con nuestras últimas noticias (clic aquí).\n\n\n\nWhatsApp: Suscríbete para seguirnos en nuestro canal (clic aquí).\n\n\n\nInstagram: Síguenos en Instagram ( clic aquí )\n\n\n\n\nTe Resumimos lo básico…\n\n\n\n✨🏰 ¡Vuelve la Real Feria de Niebla – Tosantos 2025!Del 30 de octubre al 2 de noviembre\, ven a vivir una fiesta donde se mezclan historia\, cultura y tradición. \n\n\n\n🐂 Feria de Ganado⚔️ Mercado Medieval🎠 Feria Tradicional🧳 XXV Exponiebla \n\n\n\n📍 Niebla (Huelva)#RealFeriaDeNiebla #Tosantos2025 #Huelva #Andalucía #FeriaMedieval #Artesanía #CulturaAndaluza #EventosConHistoria
URL:https://demercadosmedievales.info/mercadomedieval/niebla_medieval_2025/
LOCATION:Niebla (Huelva)\, Niebla\, Huelva\, España
CATEGORIES:Andalucia,Mercado Medieval
ATTACH;FMTTYPE=image/jpeg:https://demercadosmedievales.info/wp-content/uploads/2025/10/feria_medieval_niebla_facebook.jpg
ORGANIZER;CN="Rivendel mercados tem%C3%A1ticos":MAILTO:mercados@rivendelmercados.com
END:VEVENT
END:VCALENDAR