BEGIN:VCALENDAR
VERSION:2.0
PRODID:-//Mercados Medievales - ECPv6.15.20//NONSGML v1.0//EN
CALSCALE:GREGORIAN
METHOD:PUBLISH
X-ORIGINAL-URL:https://demercadosmedievales.info
X-WR-CALDESC:Eventos para Mercados Medievales
REFRESH-INTERVAL;VALUE=DURATION:PT1H
X-Robots-Tag:noindex
X-PUBLISHED-TTL:PT1H
BEGIN:VTIMEZONE
TZID:Europe/Madrid
BEGIN:DAYLIGHT
TZOFFSETFROM:+0100
TZOFFSETTO:+0200
TZNAME:CEST
DTSTART:20250330T010000
END:DAYLIGHT
BEGIN:STANDARD
TZOFFSETFROM:+0200
TZOFFSETTO:+0100
TZNAME:CET
DTSTART:20251026T010000
END:STANDARD
BEGIN:DAYLIGHT
TZOFFSETFROM:+0100
TZOFFSETTO:+0200
TZNAME:CEST
DTSTART:20260329T010000
END:DAYLIGHT
BEGIN:STANDARD
TZOFFSETFROM:+0200
TZOFFSETTO:+0100
TZNAME:CET
DTSTART:20261025T010000
END:STANDARD
BEGIN:DAYLIGHT
TZOFFSETFROM:+0100
TZOFFSETTO:+0200
TZNAME:CEST
DTSTART:20270328T010000
END:DAYLIGHT
BEGIN:STANDARD
TZOFFSETFROM:+0200
TZOFFSETTO:+0100
TZNAME:CET
DTSTART:20271031T010000
END:STANDARD
END:VTIMEZONE
BEGIN:VEVENT
DTSTART;TZID=Europe/Madrid:20261016T000000
DTEND;TZID=Europe/Madrid:20261018T235959
DTSTAMP:20260420T120840
CREATED:20260405T185515Z
LAST-MODIFIED:20260406T055148Z
UID:10003399-1792108800-1792367999@demercadosmedievales.info
SUMMARY:Mercado Medieval en Yuncler 2026 (Toledo) Información artesanos
DESCRIPTION:El Mercado Medieval en Yuncler que tendrá lugar del 16 al 18 de octubre en la céntrica Plaza del Ayuntamiento\, con diferentes actividades infantiles como ludoteca\, ambientación medieval \, música medieval\, espectáculos de trapecio y de fuego y anuncian mucho más. . \n\n\n\nDurante este fin de semana\, la localidad se transformará en un auténtico escenario medieval\, ofreciendo a vecinos y visitantes una experiencia única llena de historia\, tradición y ambiente festivo.  \n\n\n\n\n\n\n\n \n\n\n\n\n\n\n\n¿Eres artesano o amante de las ferias temáticas? > Descubre el mayor calendario de mercados medievales 2026. Síguenos en nuestro Instagram oficial o conecta con nosotros vía WhatsApp para recibir novedades sobre plazos de inscripción y fechas de eventos. No olvides suscribirte a nuestra Newsletter para no perderte ninguna publicación. \n\n\n\n\n\n\n\n \n\n\n\nContenido Mercado Medieval en YunclerInformación para artesanos y mercaderesCartel promocional del Mercado Medieval en Yuncler🎭 Actividades Destacadas📍Sobre Yuncler🚗 Cómo llegar al Mercado Medieval en YunclerEn coche🚌 En autobúsEventos más próximos Mercados Medievales 2026: Calendario de Fechas y LocalidadesInformación clave sobre Mercados medievales y temáticosÚnete a la Red de Artesanos y MercaderesDescripcíon del Evento :\n\n\n\n \n\n\n\nMercado Medieval en Yuncler \n\n\n\n \n\n\n\nInformación para artesanos y mercaderes\n\n\n\n\nEvento:  Mercado Medieval en Yuncler\n\n\n\nTemática :  Mercado Medieval\n\n\n\nFechas:  16 al 18 de Octubre del 2026\n\n\n\nHorario:   \n\n\n\nUbicación:   en la Plaza del Ayuntamiento \n\n\n\nLocalidad y provincia : Yuncler  \, Toledo\n\n\n\nMontaje:  por confirmar\n\n\n\nDesmontaje:  Cuando finalice el mercado\n\n\n\nInauguración: por confirmar\n\n\n\nPeriodicidad: Anual \n\n\n\nProductos permitidos: Artesanía\, alimentación\, gastronomía\, mercaderías varias\n\n\n\nServicios incluidos: Animación\, seguridad disuasoria\, luz\, publicidad\n\n\n\nOrganiza ERAGON EVENTOS\n\n📞 Teléfono 610 64 54 53\n\n\n\n\n\n📧 Email AGUSTINMBXXL@HOTMAIL.COM\n\n\n\nPrecio por metro lineal :\n\n\n\n\n\n\n \n\n\n\nCartel promocional del Mercado Medieval en Yuncler\n\n\n\n\n\n\n\n \n\n\n\n🎭 Actividades Destacadas\n\n\n\nEl cartel anuncia una variada oferta de entretenimiento para todas las edades: \n\n\n\n\nInfantil: Ludoteca y colchoneta elástica.\n\n\n\nAmbiente: Música medieval en directo.\n\n\n\nEspectáculos: Exhibiciones de trapecio y el esperado espectáculo de fuego.\n\n\n\nY mucho más…\n\n\n\n\n \n\n\n\n📍Sobre Yuncler\n\n\n\nYuncler es una localidad situada en la provincia de Toledo\, dentro de la comarca de La Sagra\, una zona caracterizada por su cercanía a grandes núcleos urbanos y su carácter dinámico. \n\n\n\nCon una ubicación estratégica entre Toledo y Madrid\, Yuncler combina tradición y crecimiento\, manteniendo su esencia de pueblo con un ambiente acogedor y participativo. \n\n\n\nSus plazas y calles\, especialmente la Plaza del Ayuntamiento\, se convierten en puntos de encuentro para eventos culturales y festivos como el Mercado Medieval\, que atrae tanto a vecinos como a visitantes. \n\n\n\n \n\n\n\n🚗 Cómo llegar al Mercado Medieval en Yuncler\n\n\n\nEn coche\n\n\n\n\nDesde Madrid: acceso por la A-42 dirección Toledo (aprox. 45 minutos).\n\n\n\nDesde Toledo: por la A-42 en dirección Madrid (unos 20 minutos).\n\n\n\nSalidas bien señalizadas hacia Yuncler.\n\n\n\n\n🚌 En autobús\n\n\n\n\nLíneas regulares conectan Yuncler con Toledo y poblaciones cercanas.\n\n\n\nParadas en el centro del municipio.\n\n\n\n\n\n\n \n\n\n\n \n\n\n\n \n\n\n\nEventos más próximos \n\n\n\nFestival Steampunk de Illescas 2026 (Toledo) Nuevo! Cartel y Programa24 abril - 26 abrilFeria de Abril en Yeles 2026 música flamenco y gastronomía (Toledo)25 abrilMercado Medieval de Toledo 2026 — Paseo Recaredo30 abril - 3 mayo\n\n\n\n \n\n\n\n \n\n\n\nMercados Medievales 2026: Calendario de Fechas y Localidades\n\n\n\n \n\n\n\nMercados Medievales en la RED\n\n\n\n¿Eres artesano o mercader y buscas nuevos eventos para exponer tus productos? España ofrece una de las agendas de ferias temáticas y mercados medievales más dinámicas de Europa. Estos eventos son el escaparate perfecto para la artesanía de autor\, combinando un gran flujo de visitantes con entornos de venta estratégicos. \n\n\n\nSi tu objetivo es ampliar tu ruta de mercados y asegurar tu participación en las mejores plazas\, esta es tu plataforma profesional de referencia. \n\n\n\n \n\n\n\nInformación clave sobre Mercados medievales y temáticos\n\n\n\nOptimizamos tu logística facilitándote el acceso a la información clave para el montaje y la solicitud de plazas: \n\n\n\n\nPróximas Ferias y Mercados en España: Consulta las localidades confirmadas y las fechas de los próximos eventos para planificar tu ruta anual.\n\n\n\nGuía de Organizadores de Mercados y Ferias: Accede al listado de empresas organizadoras para solicitar bases de participación\, precios de metros y condiciones de montaje.\n\n\n\n\n\n\n\n\n \n\n\n\nÚnete a la Red de Artesanos y Mercaderes\n\n\n\nLas plazas en los mejores mercados se agotan rápido. No te quedes fuera de las convocatorias más importantes del año. Únete a nuestros canales exclusivos para profesionales y recibe alertas sobre nuevas aperturas de plazos e inscripciones: \n\n\n\n\nAlertas Inmediatas: Únete a nuestro Telegram o WhatsApp para recibir avisos de última hora.\n\n\n\nComunidad y Visibilidad: Conecta con nosotros en Instagram\, Facebook y nuestra Newsletter profesional.\n\n\n\n\n\n\n\n\n \n\n\n\nDescripcíon del Evento :
URL:https://demercadosmedievales.info/mercadomedieval/mercado-medieval-en-yuncler-2026/
LOCATION:Yuncler (Toledo) (***)\, Yuncler\, Toledo\, 45529\, España
CATEGORIES:Castilla La Mancha,eventos 2026,Mercado Medieval,Mercados tematicos,Toledo
ATTACH;FMTTYPE=image/jpeg:https://demercadosmedievales.info/wp-content/uploads/2026/04/mercado-medieval-yuncler-2026-fb.jpg
ORGANIZER;CN="Erag%C3%B3n eventos":MAILTO:AGUSTINMBXXL@HOTMAIL.COM
GEO:40.0426269;-3.9024482
END:VEVENT
BEGIN:VEVENT
DTSTART;TZID=Europe/Madrid:20261023T000000
DTEND;TZID=Europe/Madrid:20261025T235959
DTSTAMP:20260420T120840
CREATED:20260211T111308Z
LAST-MODIFIED:20260211T182222Z
UID:10003214-1792713600-1792972799@demercadosmedievales.info
SUMMARY:Mercado Medieval de Alfafar (Valencia) | 23 al 25 de Octubre 2026
DESCRIPTION:El Mercado Medieval en Alfafar se celebrará del 23 al 25 de Octubre de 2026\, convirtiendo la localidad valenciana en un punto de encuentro para la historia\, la tradición y el ocio cultural. \n\n\n\n\n\n\n\n \n\n\n\nÍndice Mercado Medieval de AlfafarInformación básica del Mercado Medieval de Alfafar📢 Información para artesanos y comerciantesAlfafar\, tradición y vida junto a ValenciaMercados Medievales 2026: Fechas y Localidades ConfirmadasPara más información puedes consultar :¿Te apuntas? Síguenos y no te pierdas de nada.En Resumen…\n\n\n\nMercado Medieval de Alfafar \n\n\n\nLa Mercado Medieval de Alfafar es una fiesta tradicional que se celebra en la localidad valenciana de Alfafar desde el año 2003\, que normalmente se celebra en enero pero las condiciones climatológicas no lo ha permitido. \n\n\n\n\nPasacalles\, exhibiciones tradicionales y teatros \n\n\n\n\nEl objetivo de la feria es recrear el ambiente medieval de la comarca de l’Horta Sur. Para lo cual\, las calles y plazas del centro de la población se llenan de paradas de artesanía\, gastronomía y atracciones. \n\n\n\nAdemás\, la feria ofrece una programación de actas culturales y festivos\, como por ejemplo conciertos\, espectáculos de teatro y danza \, pasacalles y más actividades. \n\n\n\nEn esta edición\, la feria se celebrará del 23 al 25 de Octubre de 2026. \n\n\n\n \n\n\n\n \n\n\n\nInformación básica del Mercado Medieval de Alfafar\n\n\n\nEvento: Mercado Medieval de AlfafarFechas: Del 23 al 25 de octubre de 2026Horario: Por confirmarUbicación: Plaza del Ayuntamiento de Alfafar (VALENCIA)Periodicidad: AnualProductos permitidos: Artesanía\, alimentación\, gastronomía\, mercaderías variadasServicios incluidos: Animación\, seguridad\, luz\, publicidadOrganiza: Balconet \n\n\n\n📢 Información para artesanos y comerciantes\n\n\n\nLos artesanos y comerciantes interesados en participar deberán presentar su solicitud enviando un correo electrónico a:  📧 balconetmedieval@gmail.com \n\n\n\n\nAsunto del email:  Mercado Medieval en Alfafar\n\n\n\nImportante para realizar la solicitud: \n\nEnviar 2 fotos:\n\n1 foto de la parada completa\n\n\n\n1 foto del producto\n\n\n\n\n\nIndicar los requisitos específicos\, detallando:\n\nMetros necesarios\n\n\n\nElectricidad\n\n\n\nAgua u otros servicios\n\n\n\n\n\n\n\n\nVia https://www.abc.es/espana/comunidad-valenciana/feria-medieval-vuelve-alfafar-honor-patron-san-20240118161055-nt.html\n\n\n\nAlfafar\, tradición y vida junto a Valencia\n\n\n\nAlfafar es un municipio situado en el área metropolitana de Valencia\, con una marcada identidad local y una intensa vida social y cultural. Su cercanía a la capital y su carácter dinámico lo convierten en un enclave idóneo para la celebración de eventos como el Mercado Medieval\, que aportan valor cultural y dinamizan la actividad comercial del municipio. \n\n\n\n\n\n \n\n\n\nMercados Medievales 2026: Fechas y Localidades Confirmadas\n\n\n\n\n\n\n\nEspaña cuenta con una de las agendas de ferias temáticas más ricas del mundo\, combinando gastronomía tradicional\, artesanía de autor y espectáculos en vivo. Si buscas un plan diferente para el fin de semana o quieres conocer el patrimonio de una forma única\, esta es tu guía definitiva. Leer más \n\n\n\n \n\n\n\nPara más información puedes consultar :\n\n\n\n\nPuedes Consultar en esté enlace las  Ferias y Mercados en España\n\n\n\nHaz clic en ESTE enlace :  Conoce los Organizadores de Mercados y Ferias\n\n\n\n\n¿Te apuntas? Síguenos y no te pierdas de nada.\n\n\n\n\nTelegram\n\n\n\nNewsletter\n\n\n\nWhatsApp\n\n\n\nInstagram\n\n\n\nPor supuesto en Facebook\n\n\n\n\n \n\n\n\nEn Resumen…
URL:https://demercadosmedievales.info/mercadomedieval/mercado-medieval-de-alfafar-valencia-23-al-25-de-octubre-2026/
LOCATION:Alfafar (Valencia) (***)\, Alcalde José Puertes s/n\, Alfafar\, Valencia\, España
CATEGORIES:Comunidad valenciana,Mercado Medieval,Valencia
ATTACH;FMTTYPE=image/jpeg:https://demercadosmedievales.info/wp-content/uploads/2026/02/Copia-de-alfafar_2026_fb_oct.jpg
ORGANIZER;CN="Balconet Mercados Tem%C3%A1ticos":MAILTO:balconetmedieval@gmail.com
GEO:39.4161934;-0.3811011
X-APPLE-STRUCTURED-LOCATION;VALUE=URI;X-ADDRESS=Alfafar (Valencia) (***) Alcalde José Puertes s/n Alfafar Valencia España;X-APPLE-RADIUS=500;X-TITLE=Alcalde José Puertes s/n:geo:-0.3811011,39.4161934
END:VEVENT
END:VCALENDAR