BEGIN:VCALENDAR
VERSION:2.0
PRODID:-//Mercados Medievales - ECPv6.15.20//NONSGML v1.0//EN
CALSCALE:GREGORIAN
METHOD:PUBLISH
X-ORIGINAL-URL:https://demercadosmedievales.info
X-WR-CALDESC:Eventos para Mercados Medievales
REFRESH-INTERVAL;VALUE=DURATION:PT1H
X-Robots-Tag:noindex
X-PUBLISHED-TTL:PT1H
BEGIN:VTIMEZONE
TZID:Europe/Madrid
BEGIN:DAYLIGHT
TZOFFSETFROM:+0100
TZOFFSETTO:+0200
TZNAME:CEST
DTSTART:20250330T010000
END:DAYLIGHT
BEGIN:STANDARD
TZOFFSETFROM:+0200
TZOFFSETTO:+0100
TZNAME:CET
DTSTART:20251026T010000
END:STANDARD
BEGIN:DAYLIGHT
TZOFFSETFROM:+0100
TZOFFSETTO:+0200
TZNAME:CEST
DTSTART:20260329T010000
END:DAYLIGHT
BEGIN:STANDARD
TZOFFSETFROM:+0200
TZOFFSETTO:+0100
TZNAME:CET
DTSTART:20261025T010000
END:STANDARD
BEGIN:DAYLIGHT
TZOFFSETFROM:+0100
TZOFFSETTO:+0200
TZNAME:CEST
DTSTART:20270328T010000
END:DAYLIGHT
BEGIN:STANDARD
TZOFFSETFROM:+0200
TZOFFSETTO:+0100
TZNAME:CET
DTSTART:20271031T010000
END:STANDARD
END:VTIMEZONE
BEGIN:VEVENT
DTSTART;TZID=Europe/Madrid:20260429T000000
DTEND;TZID=Europe/Madrid:20260503T235959
DTSTAMP:20260420T233307
CREATED:20260416T212334Z
LAST-MODIFIED:20260417T212244Z
UID:10003303-1777420800-1777852799@demercadosmedievales.info
SUMMARY:Mercado Goyesco de Móstoles (Madrid) 2026
DESCRIPTION:Tradicional Mercado Goyesco de Móstoles que se celebra durante el puente de Mayo\, en la calle Antonio Hernández\, plaza del pradillo\, de la cultura y Agustina de Aragón. \n\n\n\n\n\n\n\n \n\n\n\nMercado Goyesco de MóstolesUbicación del Mercado Goyesco de MóstolesInformación para participarCartel y Programación de actividadesAcerca de MóstolesCómo llegar al Mercado Goyesco de MóstolesPara más información puedes consultar :¿Te apuntas a nuestras redes?\n\n\n\n \n\n\n\n\n\n \n\n\n\nEl Mercado Goyesco de Móstoles se celebrará del 29 de abril al 3 de mayo de 2026 en varias calles y plazas del centro del municipio. Durante el evento\, los visitantes podrán pasear entre puestos de artesanía\, gastronomía y actividades inspiradas en el siglo XVIII\, en un ambiente festivo que recrea la época goyesca. \n\n\n\n \n\n\n\n\n\n\n\nUbicación del Mercado Goyesco de Móstoles\n\n\n\nEl mercado estará repartido por varias zonas del centro urbano: \n\n\n\n📍 Calle Antonio Hernández📍 Plaza del Pradillo📍 Plaza de la Cultura📍 Calle Agustina de Aragón \n\n\n\nInformación para participar\n\n\n\n\nOrganiza: Rivendel Mercados Temáticos\n\n\n\n📧 Email: mercados@rivendelmercados.com📞 Teléfono / WhatsApp: 613 324 481 🕐 Horario de atención: Lunes a viernes de 10:00 a 13:00\n\n\n\n\n\n\n\n\n\n🎭 Móstoles revive el espíritu goyesco entre historia\, artesanía y tradición.\n\n\n\n\n\n\n\n\nCartel y Programación de actividades\n\n\n\nCartel oficial \n\n\n\n\n\n\n\n \n\n\n\nProgramación Mercado Goyesco de Móstoles \n\n\n\n\n\n\n\n \n\n\n\n\n\n\n\n \n\n\n\n\n\n\n\n \n\n\n\n\n\n\n\n \n\n\n\n\n\n\n\n \n\n\n\nAcerca de Móstoles\n\n\n\nMóstoles es una de las ciudades más importantes de la Comunidad de Madrid\, situada a unos 20 km al suroeste de la capital. Destaca por su gran población\, su dinamismo comercial y su relevancia histórica\, especialmente por el levantamiento del 2 de mayo de 1808 contra las tropas napoleónicas. Hoy combina tradición\, servicios modernos y una activa vida cultural. \n\n\n\n \n\n\n\nCómo llegar al Mercado Goyesco de Móstoles\n\n\n\nEl mercado se celebra en el centro de Móstoles\, con fácil acceso desde Madrid. \n\n\n\n🚗 En coche: acceso desde la A-5 y M-50.🚆 En tren: línea C-5 de Cercanías hasta estación Móstoles Central.🚇 Metro: línea 12 (MetroSur) parada Pradillo.🚌 Autobuses interurbanos conectan Móstoles con Madrid y municipios cercanos. \n\n\n\n\n\n\n\n\n\nMercado Goyesco de Móstoles\n\n\n\n \n\n\n\n. \n\n\n\n🗓 Eventos más próximos \n\n\n\nAdemás de este evento\, la provincia acoge otras ferias de artesanía y mercados temáticos. A continuación\, destacamos tres opciones adicionales donde también puedes solicitar tu participación: \n\n\n\nMercado Renacentista de San Sebastián de los Reyes (Madrid)- Evento en Madrid 202624 abril - 26 abrilMercado Goyesco de Torrejón de Ardoz (Madrid) 24 (tarde) al 26 de Abril del 202624 abril - 26 abrilMercado Medieval de El Escorial – Madrid 202624 abril - 26 abril \n\n\n\n \n\n\n\n\n\n\n\n \n\n\n\nMercados Medievales 2026: Fechas y Localidades Confirmadas\n\n\n\n\n\n\n\nEspaña cuenta con una de las agendas de ferias temáticas más ricas del mundo\, combinando gastronomía tradicional\, artesanía de autor y espectáculos en vivo. Si buscas un plan diferente para el fin de semana o quieres conocer el patrimonio de una forma única\, esta es tu guía definitiva. Leer más \n\n\n\nPara más información puedes consultar :\n\n\n\n\nPuedes Consultar en esté enlace las  Ferias y Mercados en España\n\n\n\nHaz clic en ESTE enlace :  Conoce los Organizadores de Mercados y Ferias\n\n\n\n\n¿Te apuntas a nuestras redes? \n\n\n\n\nTelegram\n\n\n\nNewsletter\n\n\n\nWhatsApp\n\n\n\nInstagram\n\n\n\nPor supuesto en Facebook\n\n\n\n\nEvento : Mercado Goyesco de Móstoles
URL:https://demercadosmedievales.info/mercadomedieval/mercado-goyesco-de-mostoles/
LOCATION:Móstoles (Madrid) (***)\, en el centro\, Mostoles\, Comunidad de Madrid\, 28931\, España
CATEGORIES:Cartel,Comunidad de Madrid,Comunidades y Ciudades Autónomas,eventos 2026,Mercado Goyesco,Mercado Medieval,Mercados tematicos,Programación
ATTACH;FMTTYPE=image/jpeg:https://demercadosmedievales.info/wp-content/uploads/2026/04/goyesco-mostoles-2026-1200.jpg
ORGANIZER;CN="Rivendel mercados tem%C3%A1ticos":MAILTO:mercados@rivendelmercados.com
GEO:40.3248633;-3.8642577
X-APPLE-STRUCTURED-LOCATION;VALUE=URI;X-ADDRESS=Móstoles (Madrid) (***) en el centro Mostoles Comunidad de Madrid 28931 España;X-APPLE-RADIUS=500;X-TITLE=en el centro:geo:-3.8642577,40.3248633
END:VEVENT
END:VCALENDAR