BEGIN:VCALENDAR
VERSION:2.0
PRODID:-//Mercados Medievales - ECPv6.15.20//NONSGML v1.0//EN
CALSCALE:GREGORIAN
METHOD:PUBLISH
X-WR-CALNAME:Mercados Medievales
X-ORIGINAL-URL:https://demercadosmedievales.info
X-WR-CALDESC:Eventos para Mercados Medievales
REFRESH-INTERVAL;VALUE=DURATION:PT1H
X-Robots-Tag:noindex
X-PUBLISHED-TTL:PT1H
BEGIN:VTIMEZONE
TZID:Europe/Madrid
BEGIN:DAYLIGHT
TZOFFSETFROM:+0100
TZOFFSETTO:+0200
TZNAME:CEST
DTSTART:20250330T010000
END:DAYLIGHT
BEGIN:STANDARD
TZOFFSETFROM:+0200
TZOFFSETTO:+0100
TZNAME:CET
DTSTART:20251026T010000
END:STANDARD
BEGIN:DAYLIGHT
TZOFFSETFROM:+0100
TZOFFSETTO:+0200
TZNAME:CEST
DTSTART:20260329T010000
END:DAYLIGHT
BEGIN:STANDARD
TZOFFSETFROM:+0200
TZOFFSETTO:+0100
TZNAME:CET
DTSTART:20261025T010000
END:STANDARD
BEGIN:DAYLIGHT
TZOFFSETFROM:+0100
TZOFFSETTO:+0200
TZNAME:CEST
DTSTART:20270328T010000
END:DAYLIGHT
BEGIN:STANDARD
TZOFFSETFROM:+0200
TZOFFSETTO:+0100
TZNAME:CET
DTSTART:20271031T010000
END:STANDARD
END:VTIMEZONE
BEGIN:VEVENT
DTSTART;TZID=Europe/Madrid:20260213T000000
DTEND;TZID=Europe/Madrid:20260215T235959
DTSTAMP:20260420T182604
CREATED:20260128T133621Z
LAST-MODIFIED:20260212T170610Z
UID:10003171-1770940800-1771199999@demercadosmedievales.info
SUMMARY:Feria de Carnaval del Amor – Moncada 2026 Valencia
DESCRIPTION:🚫🌧️ SUSPENDIDO la Feria de Carnaval del Amor 🌧️🚫 \n\n\n\nLamentamos comunicar que la Feria de Carnaval del Amor\, previsto para los días 13\, 14 y 15 de febrero de 2026\, queda suspendido por cuestiones climáticas. La decisión se ha tomado priorizando la seguridad de expositores\, artistas y visitantes\, ante las previsiones meteorológicas adversas. Nueva fecha : 20 al 22 de Febrero. \n\n\n\n\n\n\n\n \n\n\n\nÍndice Donde el Carnaval se vive con amor\, artesanía y alegríaCartel de la Feria de Carnaval del Amor – MoncadaProgramación del Feria de Carnaval del AmorInformación de la Feria de Carnaval del AmorMoncada\, cultura\, fiesta y tradición compartidaMercados Medievales 2026: Fechas y Localidades ConfirmadasPara más información puedes consultar :¿Te apuntas? Síguenos y no te pierdas de nada.En Resumen….\n\n\n\nDonde el Carnaval se vive con amor\, artesanía y alegría\n\n\n\nLos días 13\, 14 y 15 de febrero de 2026\, Moncada (Valencia) se llena de color y creatividad con la Feria de Carnaval del Amor\, un evento que\, además\, une artesanía\, ocio y espíritu carnavalero para toda la familia. \n\n\n\nLa Feria de Carnaval del Amor – Moncada 2026 nace como un espacio vivo\, creativo y lleno de buen ambiente. Durante tres días\, la Avenida Mediterránea se convierte en un punto de encuentro donde artesanas y artesanos comparten protagonismo con la música\, los talleres y la participación del público. \n\n\n\nEl evento está pensado para disfrutar en familia\, con una programación continua que incluye discoteca infantil\, bailes TikTok\, talleres creativos\, pintacaras\, photocall\, tatuajes efímeros y karaoke\, entre muchas otras sorpresas. Todo ello acompañado de puestos de artesanía\, gastronomía y tabernas\, creando un entorno perfecto para pasear\, comprar y divertirse. \n\n\n\nCartel de la Feria de Carnaval del Amor – Moncada\n\n\n\nFeria de Carnaval del Amor – Moncada\n\n\n\n \n\n\n\nProgramación del Feria de Carnaval del Amor \n\n\n\n\n\n\n\n \n\n\n\nInformación de la Feria de Carnaval del Amor\n\n\n\n\nEvento: Feria de Carnaval del Amor\n\n\n\nFechas: 13\, 14 y 15 de febrero de 2026\n\n\n\nHorario: \n\nViernes: de 17:00 a 21:00 h\, \n\n\n\nSábado y domingo: de 11:00 a 21:00 h\n\n\n\n\n\nUbicación: Avenida Mediterránea\n\n\n\nLocalidad: Moncada (Valencia)\n\n\n\nPeriodicidad: Anual\n\n\n\nProductos permitidos: Artesanía\, alimentación y tabernas\n\n\n\nMontaje: 13 de febrero\n\n\n\nDesmontaje: 15 de febrero\n\n\n\nInauguración: Viernes 13 a las 17:00 h\n\n\n\nServicios incluidos:\n\nAnimación\, karaoke\, talleres infantiles\, disfraces\, seguridad\, photocall y sonido\n\n\n\n\n\nOrganiza: Art Woman\n\nInscripciones: Preferiblemente por WhatsApp\, enviando foto de la parada y del producto📞 WhatsApp y contacto: 680 587 206📧 Email: artwoman2023@gmail.com\n\n\n\n\n\nRequisitos: Consultar con la organización\n\n\n\nPrecio: Consultar con la organización\n\n\n\n\n \n\n\n\nMoncada\, cultura\, fiesta y tradición compartida\n\n\n\nMoncada es una localidad valenciana dinámica y cercana\, muy vinculada a la vida cultural y festiva\, con espacios urbanos amplios ideales para eventos familiares y ferias al aire libre. Moncada cuenta con buenas comunicaciones por carretera y transporte público desde Valencia y municipios cercanos. \n\n\n\n\n\n \n\n\n\n \n\n\n\nMercados Medievales 2026: Fechas y Localidades Confirmadas\n\n\n\n\n\n\n\nEspaña cuenta con una de las agendas de ferias temáticas más ricas del mundo\, combinando gastronomía tradicional\, artesanía de autor y espectáculos en vivo. Si buscas un plan diferente para el fin de semana o quieres conocer el patrimonio de una forma única\, esta es tu guía definitiva. Leer más \n\n\n\nPara más información puedes consultar :\n\n\n\n\nPuedes Consultar en esté enlace las  Ferias y Mercados en España\n\n\n\nHaz clic en ESTE enlace :  Conoce los Organizadores de Mercados y Ferias\n\n\n\n\n¿Te apuntas? Síguenos y no te pierdas de nada.\n\n\n\n\nTelegram\n\n\n\nNewsletter\n\n\n\nWhatsApp\n\n\n\nInstagram\n\n\n\nPor supuesto en Facebook\n\n\n\n\nEn Resumen….\n\n\n\n🎭💜 Feria de Carnaval del Amor – Moncada 2026 💜🎭 \n\n\n\nLos días 13\, 14 y 15 de febrero\, Moncada se llena de color\, alegría y creatividad 🎉 \n\n\n\nUna feria pensada para disfrutar en familia\, pasear\, comprar artesanía y vivir el Carnaval como nunca. \n\n\n\n✨ Artesanía y productos únicos \n\n\n\n🍴 Gastronomía y tabernas \n\n\n\n🎶 Música y ambiente festivo \n\n\n\n👧 Actividades infantiles durante todo el día \n\n\n\n📍 Avda. Mediterránea – Moncada \n\n\n\n📅 13 al 15 de febrero \n\n\n\n¡Ve a celebrar el Carnaval con amor! 💜 \n\n\n\n🔗 https://demercadosmedievales.info/mercadomedieval/feria-de-carnaval-del-amor-moncada-2026-valencia/ \n\n\n\n#CarnavalDelAmor #Moncada #Carnaval2026 #FeriasValencia #Artesanía #PlanesEnFamilia
URL:https://demercadosmedievales.info/mercadomedieval/feria-de-carnaval-del-amor-moncada-2026-valencia/
LOCATION:Moncada (Valencia) (***)\, Moncada\, Valencia\, 46113\, España
CATEGORIES:Cartel,Comunidad valenciana,Mercado de Carnavales,Multisectorial,Programación,Suspendido / Cancelado,Valencia
ATTACH;FMTTYPE=image/jpeg:https://demercadosmedievales.info/wp-content/uploads/2026/01/carnaval_moncada_suspendido_fb.jpg
ORGANIZER;CN="Art Woman":MAILTO:📧 Email: artwoman2023@gmail.com (Mejor por WhatsApp)
GEO:39.5452518;-0.3960275
END:VEVENT
BEGIN:VEVENT
DTSTART;TZID=Europe/Madrid:20260220T000000
DTEND;TZID=Europe/Madrid:20260222T235959
DTSTAMP:20260420T182604
CREATED:20260215T190531Z
LAST-MODIFIED:20260215T190532Z
UID:10003221-1771545600-1771804799@demercadosmedievales.info
SUMMARY:Feria de Carnaval del Amor – Moncada 2026 Valencia
DESCRIPTION:Los días 20\, 21 y 22 de febrero de 2026\, Moncada (Valencia) se llena de color y creatividad con la Feria de Carnaval del Amor\, un evento que\, además\, une artesanía\, ocio y espíritu carnavalero para toda la familia. \n\n\n\n\n\n\n\n \n\n\n\nÍndice Donde el Carnaval se vive con amor\, artesanía y alegríaInformación de la Feria de Carnaval del AmorCartel del Feria de Carnaval del AmorMoncada\, cultura\, fiesta y tradición compartidaMercados Medievales 2026: Fechas y Localidades ConfirmadasPara más información puedes consultar :¿Te apuntas? Síguenos y no te pierdas de nada.En Resumen….\n\n\n\n \n\n\n\nDonde el Carnaval se vive con amor\, artesanía y alegría\n\n\n\nLa Feria de Carnaval del Amor – Moncada 2026 nace como un espacio vivo\, creativo y lleno de buen ambiente. Durante tres días\, la Avenida Mediterránea se convierte en un punto de encuentro donde artesanas y artesanos comparten protagonismo con la música\, los talleres y la participación del público. \n\n\n\nEl evento está pensado para disfrutar en familia\, con una programación continua que incluye discoteca infantil\, bailes TikTok\, talleres creativos\, pintacaras\, photocall\, tatuajes efímeros y karaoke\, entre muchas otras sorpresas. Todo ello acompañado de puestos de artesanía\, gastronomía y tabernas\, creando un entorno perfecto para pasear\, comprar y divertirse. \n\n\n\n \n\n\n\nInformación de la Feria de Carnaval del Amor\n\n\n\n\nEvento: Feria de Carnaval del Amor\n\n\n\nFechas: 20\, 21 y 22 de febrero de 2026\n\n\n\nHorario: \n\nViernes: de 17:00 a 21:00 h\, \n\n\n\nSábado y domingo: de 11:00 a 22:00 h\n\n\n\n\n\nUbicación: Avenida Mediterránea\n\n\n\nLocalidad: Moncada (Valencia)\n\n\n\nPeriodicidad: Anual\n\n\n\nProductos permitidos: Artesanía\, alimentación y tabernas\n\n\n\nMontaje: 20 de febrero\n\n\n\nDesmontaje: 22 de febrero\n\n\n\nInauguración: Viernes 20 a las 17:00 h\n\n\n\nServicios incluidos:\n\nAnimación\, karaoke\, talleres infantiles\, disfraces\, seguridad\, photocall y sonido\n\n\n\n\n\nOrganiza: Art Woman\n\nInscripciones: Preferiblemente por WhatsApp\, enviando foto de la parada y del producto📞 WhatsApp y contacto: 680 587 206📧 Email: artwoman2023@gmail.com\n\n\n\n\n\nRequisitos: Consultar con la organización\n\n\n\nPrecio: Consultar con la organización\n\n\n\n\n \n\n\n\nCartel del Feria de Carnaval del Amor \n\n\n\nFeria de Carnaval del Amor – Moncada 2026 Valencia\n\n\n\n \n\n\n\nMoncada\, cultura\, fiesta y tradición compartida\n\n\n\nMoncada es una localidad valenciana dinámica y cercana\, muy vinculada a la vida cultural y festiva\, con espacios urbanos amplios ideales para eventos familiares y ferias al aire libre.  \n\n\n\n\n\n \n\n\n\n \n\n\n\nMercados Medievales 2026: Fechas y Localidades Confirmadas\n\n\n\n\n\n\n\nEspaña cuenta con una de las agendas de ferias temáticas más ricas del mundo\, combinando gastronomía tradicional\, artesanía de autor y espectáculos en vivo. Si buscas un plan diferente para el fin de semana o quieres conocer el patrimonio de una forma única\, esta es tu guía definitiva. Leer más \n\n\n\nPara más información puedes consultar :\n\n\n\n\nPuedes Consultar en esté enlace las  Ferias y Mercados en España\n\n\n\nHaz clic en ESTE enlace :  Conoce los Organizadores de Mercados y Ferias\n\n\n\n\n¿Te apuntas? Síguenos y no te pierdas de nada.\n\n\n\n\nTelegram\n\n\n\nNewsletter\n\n\n\nWhatsApp\n\n\n\nInstagram\n\n\n\nPor supuesto en Facebook\n\n\n\n\nEn Resumen….\n\n\n\n🎭💜 Feria de Carnaval del Amor – Moncada 2026 💜🎭 \n\n\n\nLos días 20 al 22 de febrero\, Moncada se llena de color\, alegría y creatividad 🎉 \n\n\n\nUna feria pensada para disfrutar en familia\, pasear\, comprar artesanía y vivir el Carnaval como nunca. \n\n\n\n\n✨ Artesanía y productos únicos\n\n\n\n🍴 Gastronomía y tabernas\n\n\n\n🎶 Música y ambiente festivo\n\n\n\n👧 Actividades infantiles durante todo el día\n\n\n\n📍 Avda. Mediterránea – Moncada\n\n\n\n\n¡Ve a celebrar el Carnaval con amor! 💜 \n\n\n\n#CarnavalDelAmor #Moncada #Carnaval2026 #FeriasValencia #Artesanía #PlanesEnFamilia
URL:https://demercadosmedievales.info/mercadomedieval/feria-de-carnaval-del-amor-moncada-2026-valencia-2/
LOCATION:Moncada (Valencia) (***)\, Moncada\, Valencia\, 46113\, España
CATEGORIES:Cartel,Mercado de Carnavales,Multisectorial
ATTACH;FMTTYPE=image/jpeg:https://demercadosmedievales.info/wp-content/uploads/2026/02/carnaval_moncada_fb.jpg
ORGANIZER;CN="Art Woman":MAILTO:📧 Email: artwoman2023@gmail.com (Mejor por WhatsApp)
GEO:39.5452518;-0.3960275
END:VEVENT
BEGIN:VEVENT
DTSTART;TZID=Europe/Madrid:20260227T000000
DTEND;TZID=Europe/Madrid:20260301T235959
DTSTAMP:20260420T182604
CREATED:20260116T182107Z
LAST-MODIFIED:20260226T083322Z
UID:10003137-1772150400-1772409599@demercadosmedievales.info
SUMMARY:Mercado Circense Carnavalesco de Barbate 2026 (Cádiz)
DESCRIPTION:Del 27 de febrero al 1 de marzo\, Barbate se llena de color y fantasía con el Mercado Circense Carnavalesco\, un evento que combina el espíritu del Carnaval con un mercado original y diferente. Además\, la Plaza de la Inmaculada se transforma en un escenario lleno de vida\, ideal para disfrutar en familia. \n\n\n\n\n\n\n\n \n\n\n\nÍndice “Donde el Carnaval se convierte en espectáculo”Cartel oficial Mercado Circense Carnavalesco de BarbateProgramación del Mercado Circense Carnavalesco de BarbateActuaciones permanentes en el Programación del Mercado Circense Carnavalesco de BarbateInformación para artesanos y mercaderesTemática y vestuario del Mercado Circense CarnavalescoBarbate\, sabor a mar y alegría todo el añoMercados Medievales 2026: Fechas y Localidades ConfirmadasPara más información puedes consultar :¿Te apuntas? Síguenos y no te pierdas de nada.En Resumen…\n\n\n\n \n\n\n\n“Donde el Carnaval se convierte en espectáculo”\n\n\n\nEl Mercado Circense Carnavalesco de Barbate se celebrará los días 27\, 28 de febrero y 1 de marzo en la Plaza Inmaculada\, coincidiendo con la Semana Mayor del Carnaval. El evento contará con un escenario central para espectáculos y un recorrido de puestos que llenará el corazón del pueblo de color\, música y fantasía. \n\n\n\nSe enmarca en el relato oficial del Carnaval de Barbate\, formando parte activa de su programación popular. Se prevé una alta afluencia de público\, tanto local como visitante\, dada la importancia de estas fechas.La ambientación será de estilo circense y festivo\, con guiños visuales y teatrales a la tradición gaditana. \n\n\n\n \n\n\n\nCartel oficial Mercado Circense Carnavalesco de Barbate\n\n\n\nCartel oficial Mercado Circense Carnavalesco de Barbate\n\n\n\n \n\n\n\nProgramación del Mercado Circense Carnavalesco de Barbate\n\n\n\n\n\n\n\n \n\n\n\n\n\n\n\n \n\n\n\n\n\n\n\n \n\n\n\nActuaciones permanentes en el Programación del Mercado Circense Carnavalesco de Barbate\n\n\n\n\n\n\n\n \n\n\n\n\n\n\n\nInformación para artesanos y mercaderes\n\n\n\n\nEvento: Mercado Circense Carnavalesco\n\n\n\nFechas: 27 de febrero al 1 de marzo del 2026\n\n\n\nUbicación: Plaza de la Inmaculada\, Barbate ( CADIZ )\n\n\n\nMontaje : \n\nJueves 26 de febrero noche\n\n\n\nViernes 27 de febrero durante la mañana. Los horarios son repartidos con exactitud la semanadel evento.\n\n\n\nSe respetará el horario de montaje\n\n\n\nExistirán dos turnos de montaje que especificara días previosal evento\n\n\n\nEl lugar de recepción del mercader no ha de ser cerca del mercado en cuestión se especificará llegado el momento si se es aceptado\n\n\n\n\n\nHorario del mercado 11:00-14:00 / 17:00-22:00 (Existe la posibilidad de cambio de horario\, se establecerá el horario especifico duranta la misma semana)\n\n\n\nHorario de desmontaje : Domingo 1 de marzo tras acabar la programación y la organización lo indique.\n\nEl participante esperará al último espectáculo de la programación para empezar a desmontar.\n\n\n\nEl horario de cierre y desmontaje se pactará el primer día del evento\n\n\n\n\n\nInauguración : Viernes por la tarde\n\n\n\nOrganizador el Mercado Circense Carnavalesco  : Malik Culture Eventos\n\n\n\nInformación e inscripciones: 📞 657 665 994 y 676 928 928 (también disponibles para WhatsApp).\n\n\n\nPeriodicidad: Anual\n\n\n\n\n \n\n\n\nTemática y vestuario del Mercado Circense Carnavalesco\n\n\n\nTemática y vestuario del Mercado Circense Carnavalesco\n\n\n\n \n\n\n\nBarbate\, sabor a mar y alegría todo el año\n\n\n\nBarbate\, situado en la costa de Cádiz\, es un municipio marinero conocido por su tradición pesquera\, su gastronomía y su cercanía al Parque Natural de la Breña. Durante el Carnaval\, su ambiente se vuelve aún más animado y acogedor. \n\n\n\nBarbate se encuentra bien comunicado por carretera desde Cádiz y la Janda. Se accede fácilmente por la A-2233 y la N-340\, con conexiones desde Vejer y localidades cercanas. \n\n\n\n\n\n \n\n\n\n \n\n\n\nMercados Medievales 2026: Fechas y Localidades Confirmadas\n\n\n\n\n\n\n\nEspaña cuenta con una de las agendas de ferias temáticas más ricas del mundo\, combinando gastronomía tradicional\, artesanía de autor y espectáculos en vivo. Si buscas un plan diferente para el fin de semana o quieres conocer el patrimonio de una forma única\, esta es tu guía definitiva. Leer más \n\n\n\nPara más información puedes consultar :\n\n\n\n\nPuedes Consultar en esté enlace las  Ferias y Mercados en España\n\n\n\nHaz clic en ESTE enlace :  Conoce los Organizadores de Mercados y Ferias\n\n\n\n\n¿Te apuntas? Síguenos y no te pierdas de nada.\n\n\n\n\nTelegram\n\n\n\nNewsletter\n\n\n\nWhatsApp\n\n\n\nInstagram\n\n\n\nPor supuesto en Facebook\n\n\n\n\nEn Resumen…
URL:https://demercadosmedievales.info/mercadomedieval/mercado-circense-carnavalesco-de-barbate-2026-cadiz/
LOCATION:Barbate (Cádiz) (***)\, Barbate\, Cádiz\, España
CATEGORIES:Andalucia,Cadiz,Cartel,Mercado Circense,Mercado de Carnavales,Programación
ATTACH;FMTTYPE=image/jpeg:https://demercadosmedievales.info/wp-content/uploads/2026/01/circense_carnavalesco_2026_fb.jpg
ORGANIZER;CN="Malik Culture Eventos":MAILTO:asociacionmalim@hotmail.com
GEO:36.1927259;-5.9190184
END:VEVENT
END:VCALENDAR