BEGIN:VCALENDAR
VERSION:2.0
PRODID:-//Mercados Medievales - ECPv6.15.20//NONSGML v1.0//EN
CALSCALE:GREGORIAN
METHOD:PUBLISH
X-ORIGINAL-URL:https://demercadosmedievales.info
X-WR-CALDESC:Eventos para Mercados Medievales
REFRESH-INTERVAL;VALUE=DURATION:PT1H
X-Robots-Tag:noindex
X-PUBLISHED-TTL:PT1H
BEGIN:VTIMEZONE
TZID:Europe/Madrid
BEGIN:DAYLIGHT
TZOFFSETFROM:+0100
TZOFFSETTO:+0200
TZNAME:CEST
DTSTART:20250330T010000
END:DAYLIGHT
BEGIN:STANDARD
TZOFFSETFROM:+0200
TZOFFSETTO:+0100
TZNAME:CET
DTSTART:20251026T010000
END:STANDARD
BEGIN:DAYLIGHT
TZOFFSETFROM:+0100
TZOFFSETTO:+0200
TZNAME:CEST
DTSTART:20260329T010000
END:DAYLIGHT
BEGIN:STANDARD
TZOFFSETFROM:+0200
TZOFFSETTO:+0100
TZNAME:CET
DTSTART:20261025T010000
END:STANDARD
BEGIN:DAYLIGHT
TZOFFSETFROM:+0100
TZOFFSETTO:+0200
TZNAME:CEST
DTSTART:20270328T010000
END:DAYLIGHT
BEGIN:STANDARD
TZOFFSETFROM:+0200
TZOFFSETTO:+0100
TZNAME:CET
DTSTART:20271031T010000
END:STANDARD
END:VTIMEZONE
BEGIN:VEVENT
DTSTART;TZID=Europe/Madrid:20260703T000000
DTEND;TZID=Europe/Madrid:20260705T235959
DTSTAMP:20260420T122501
CREATED:20260217T202157Z
LAST-MODIFIED:20260220T095028Z
UID:10003238-1783036800-1783295999@demercadosmedievales.info
SUMMARY:Feira Productoras Cambados 2026 (Pontevedra)
DESCRIPTION:Descubre el talento y la creatividad de mujeres artesanas y productoras de alimentación en un evento único\, Feira Productoras Cambados. Es una feria anual que celebra el emprendimiento femenino en el Paseo de la Calzada\, Cambados\, con una selección exclusiva de productos artesanales y gastronómicos. \n\n\n\n\n\n\n\n \n\n\n\nÍndice Feira Productoras CambadosInformación para expositores – Feira Productoras CambadosEn Femenino\, Produccions SCCambados\, Pontevedra. Como llegar.Mercados Medievales 2026: Fechas y Localidades ConfirmadasPara más información puedes consultar :¿Te apuntas? Síguenos y no te pierdas de nada.En Resumen…\n\n\n\n \n\n\n\nFeira Productoras Cambados\n\n\n\nLa villa de Cambados acogerá una nueva edición de la Feira Productoras Cambados\, un mercado que apuesta por el emprendimiento femenino gallego y el producto de proximidad. \n\n\n\n \n\n\n\nInformación para expositores – Feira Productoras Cambados\n\n\n\nNombre del evento: Feira Productoras 2026Fechas: 3\, 4 y 5 de julio de 2026Horario: 11:00 – 22:00Ubicación: Paseo de la CalzadaMunicipio: CambadosProvincia: PONTEVEDRAPeriodicidad: Anual \n\n\n\nOrganiza: En Femenino\, Produccions SC \n\n\n\nMontaje: 2 de julioDesmontaje: 5 de julio \n\n\n\nServicios incluidos: Carpa\, stand con luz\, seguridad y moqueta \n\n\n\nRequisitos: Ser mujer y residir en Galicia \n\n\n\nPrecios: \n\n\n\n\n65 € artesanía\n\n\n\n100 € alimentación\n\n\n\n\nInscripciones y contacto:📲 WhatsApp: 637323904 Teléfono de contacto: 698176474📧 xestionproductoras@gmail.com \n\n\n\n \n\n\n\nEn Femenino\, Produccions SC\n\n\n\nEn Femenino\, Produccions SC (a veces estilizado como En Femenino Produccións\, S.C.) es una sociedad civil gallega dedicada a la organización de eventos\, actividades y servicios auxiliares para empresas e instituciones\, con especial presencia en iniciativas vinculadas a la igualdad y la visibilización de las mujeres en el espacio público en Galicia. Su actividad se desarrolla principalmente en la provincia de Pontevedra. \n\n\n\n \n\n\n\nCambados\, Pontevedra. Como llegar.\n\n\n\nCambados\, situada en la provincia de Pontevedra\, es conocida como la capital del Albariño y uno de los destinos más emblemáticos de las Rías Baixas. Su encanto marinero y su dinamismo cultural la convierten en el escenario ideal para una feria de verano. \n\n\n\nCambados está bien comunicado por la VG-4.3 y la PO-550\, con conexión directa desde Vilagarcía de Arousa y Pontevedra. \n\n\n\n\n\n \n\n\n\n \n\n\n\nMercados Medievales 2026: Fechas y Localidades Confirmadas\n\n\n\n\n\n\n\nEspaña cuenta con una de las agendas de ferias temáticas más ricas del mundo\, combinando gastronomía tradicional\, artesanía de autor y espectáculos en vivo. Si buscas un plan diferente para el fin de semana o quieres conocer el patrimonio de una forma única\, esta es tu guía definitiva. Leer más \n\n\n\nPara más información puedes consultar :\n\n\n\n\nPuedes Consultar en esté enlace las  Ferias y Mercados en España\n\n\n\nHaz clic en ESTE enlace :  Conoce los Organizadores de Mercados y Ferias\n\n\n\n\n¿Te apuntas? Síguenos y no te pierdas de nada.\n\n\n\n\nTelegram\n\n\n\nNewsletter\n\n\n\nWhatsApp\n\n\n\nInstagram\n\n\n\nPor supuesto en Facebook\n\n\n\n\nEn Resumen…
URL:https://demercadosmedievales.info/mercadomedieval/feira-productoras-cambados-2026-pontevedra/
LOCATION:Cambados (Pontevedra) (***)\, Cambados\, Pontevedra\, 36630\, España
CATEGORIES:Galicia,Mercado de artesanía y alimentación,Pontevedra
ATTACH;FMTTYPE=image/jpeg:https://demercadosmedievales.info/wp-content/uploads/2026/02/FERIA_PRODUCTORAS_CAMBADOS.jpg
ORGANIZER;CN="En Femenino Produccions":MAILTO:xestionproductoras@gmail.com
GEO:42.5125969;-8.8114707
END:VEVENT
END:VCALENDAR