BEGIN:VCALENDAR
VERSION:2.0
PRODID:-//Mercados Medievales - ECPv6.15.20//NONSGML v1.0//EN
CALSCALE:GREGORIAN
METHOD:PUBLISH
X-ORIGINAL-URL:https://demercadosmedievales.info
X-WR-CALDESC:Eventos para Mercados Medievales
REFRESH-INTERVAL;VALUE=DURATION:PT1H
X-Robots-Tag:noindex
X-PUBLISHED-TTL:PT1H
BEGIN:VTIMEZONE
TZID:Europe/Madrid
BEGIN:DAYLIGHT
TZOFFSETFROM:+0100
TZOFFSETTO:+0200
TZNAME:CEST
DTSTART:20250330T010000
END:DAYLIGHT
BEGIN:STANDARD
TZOFFSETFROM:+0200
TZOFFSETTO:+0100
TZNAME:CET
DTSTART:20251026T010000
END:STANDARD
BEGIN:DAYLIGHT
TZOFFSETFROM:+0100
TZOFFSETTO:+0200
TZNAME:CEST
DTSTART:20260329T010000
END:DAYLIGHT
BEGIN:STANDARD
TZOFFSETFROM:+0200
TZOFFSETTO:+0100
TZNAME:CET
DTSTART:20261025T010000
END:STANDARD
BEGIN:DAYLIGHT
TZOFFSETFROM:+0100
TZOFFSETTO:+0200
TZNAME:CEST
DTSTART:20270328T010000
END:DAYLIGHT
BEGIN:STANDARD
TZOFFSETFROM:+0200
TZOFFSETTO:+0100
TZNAME:CET
DTSTART:20271031T010000
END:STANDARD
END:VTIMEZONE
BEGIN:VEVENT
DTSTART;TZID=Europe/Madrid:20260424T000000
DTEND;TZID=Europe/Madrid:20260426T235959
DTSTAMP:20260420T070047
CREATED:20260327T131411Z
LAST-MODIFIED:20260327T205323Z
UID:10003367-1776988800-1777247999@demercadosmedievales.info
SUMMARY:Mercado de artesanía y gastronomía gallega de Ponferrada
DESCRIPTION:El Mercado de artesanía y gastronomía gallega de Ponferrada se celebrará durante tres días\, ofreciendo una experiencia única centrada en la tradición y los sabores de Galicia. \n\n\n\n\n\n\n\n \n\n\n\nContenido Mercado de artesanía y gastronomía gallega de PonferradaInformación para expositores Cartel del Mercado de artesanía y gastronomía gallega de PonferradaDescripción de la localidad y cómo llegar🚗 Cómo llegarMercados Medievales 2026: Fechas y Localidades ConfirmadasPara más información puedes consultar :¿Te apuntas? Síguenos y no te pierdas de nada.En Resumen\n\n\n\n \n\n\n\nMercado de artesanía y gastronomía gallega de Ponferrada\n\n\n\n \n\n\n\nInformación para expositores \n\n\n\n\n📍 Ubicación: Paseo de la Herrería – Ponferrada ( LEON )\n\n\n\n📅 Fechas: 24\, 25 y 26 de abril de 2026 \n\n\n\n🎪 Duración: 3 días\n\n\n\n🧵 Productos: Artesanía y gastronomía gallega \n\n\n\n👥 Organiza: GALAICO EDICIONS\n\n👤 Contacto: Trini \n\n\n\n📞 Teléfono: 661 572 101 \n\n\n\n📧 Email: galaikocat@gmail.com\n\n\n\n\n\n\n \n\n\n\nCartel del Mercado de artesanía y gastronomía gallega de Ponferrada\n\n\n\n\n\n\n\n \n\n\n\nDescripción de la localidad y cómo llegar\n\n\n\nPonferrada\, situada en la provincia de León\, es una ciudad con gran tradición histórica y punto clave del Camino de Santiago. Además\, cuenta con una importante afluencia turística\, lo que la convierte en un lugar ideal para eventos de este tipo. \n\n\n\n🚗 Cómo llegar\n\n\n\n\nDesde León: aproximadamente 1h 30 min por la A-6\n\n\n\nDesde Galicia: acceso directo por la A-6\n\n\n\n\n\n\n \n\n\n\nMercados Medievales 2026: Fechas y Localidades Confirmadas\n\n\n\n\n\n\n\nEspaña cuenta con una de las agendas de ferias temáticas más ricas del mundo\, combinando gastronomía tradicional\, artesanía de autor y espectáculos en vivo. Si buscas un plan diferente para el fin de semana o quieres conocer el patrimonio de una forma única\, esta es tu guía definitiva. Leer más \n\n\n\n \n\n\n\nPara más información puedes consultar :\n\n\n\n\nPuedes Consultar en esté enlace las  Ferias y Mercados en España\n\n\n\nHaz clic en ESTE enlace :  Conoce los Organizadores de Mercados y Ferias\n\n\n\n\n \n\n\n\n¿Te apuntas? Síguenos y no te pierdas de nada.\n\n\n\n\nTelegram\n\n\n\nNewsletter\n\n\n\nWhatsApp\n\n\n\nInstagram\n\n\n\nPor supuesto en Facebook\n\n\n\n\n \n\n\n\nEn Resumen
URL:https://demercadosmedievales.info/mercadomedieval/mercado-de-artesania-y-gastronomia-gallega-de-ponferrada/
LOCATION:Ponferrada (León) (***)\, Ponferrada\, León\, España
CATEGORIES:Castilla y Leon,León,Mercado de artesanía y alimentación
ATTACH;FMTTYPE=image/jpeg:https://demercadosmedievales.info/wp-content/uploads/2026/03/mercado_ponferrada_1200.jpg
ORGANIZER;CN="Galaico edicions":MAILTO:galaikocat@gmail.com
GEO:42.5499958;-6.598259
END:VEVENT
BEGIN:VEVENT
DTSTART;TZID=Europe/Madrid:20260424T000000
DTEND;TZID=Europe/Madrid:20260426T235959
DTSTAMP:20260420T070047
CREATED:20260331T090356Z
LAST-MODIFIED:20260331T122744Z
UID:10003384-1776988800-1777247999@demercadosmedievales.info
SUMMARY:Naturfest Godella 2026 (Valencia) – Feria de Artesanía y Talleres
DESCRIPTION:Naturfest Godella es una feria de artesanía y creatividad que apuesta por la estética\, el diseño y el ambiente cuidado. \n\n\n\n\n\n\n\n \n\n\n\nContenidosNaturfest Godella 2026ℹ Información para expositoresCartel de Naturfest Godella 2026ℹ Información para el público visitante📅 Fechas de celebración🔥 Qué encontrará el público🎪 Actividades previstas📍 Descripción de la localidad y cómo llegar🚗 Cómo llegar al Naturfest Godella 2026🔗 Otros eventosMercados Medievales 2026: Fechas y Localidades ConfirmadasPara más información puedes consultar :¿Te apuntas? Síguenos y no te pierdas de nada.En Resumen\n\n\n\n \n\n\n\nNaturfest Godella 2026\n\n\n\nℹ Información para expositores\n\n\n\nEvento : Naturfest Godella 2026 3ra edición La fecha de celebración será DEL 24 AL 26 DE MAYO del 2026 Horario de apertura y cierre al publico 11 de la mañana a 11 de la noche Plazo de Inscripción HASTA EL 20 DE ABRIL Ubicación dentro del municipio:  PLAZA DE LA ERMITA Población (Municipio y Provincia) :  GODELLA\,  VALENCIA Periodicidad: ANUAL Tipo de productos a exponer y vender: ARTESANIA\, TALLERES Fecha de Montaje DIA 24 de Mayo Fecha de Desmontaje DIA 26 de Mayo Fecha y hora de inauguración 24 ABRIL a las  17H Servicios que proporcionara el organizador LUZ\, AGUA\, VIGILANCIA\, BUENA ORGANIZACION Y MUY BUEN AMBIENTE Organiza LA MAREA ARTS Información e Inscripciones  673849653 SARA WhatsApp  y Teléfono : 667058594 LARA Email de contacto :  HYBRIDARTS.EVENTS@GMAIL.COM IG : @LAMAREAARTS Requisitos de participación COLORES CREMA O BLANCOS\, BUENA ESTETICA Precio del metro lineal 50€ / METRO LINEAL \n\n\n\n \n\n\n\nCartel de Naturfest Godella 2026\n\n\n\n\n\n\n\n \n\n\n\nℹ Información para el público visitante\n\n\n\n📅 Fechas de celebración\n\n\n\n\n📆 Fechas: del 24 al 26 de mayo de 2026\n\n\n\n🕘 Horario: de 11:00 a 23:00\n\n\n\n🎉 Inauguración: 24 de mayo a las 17:00 h\n\n\n\n\n \n\n\n\n🔥 Qué encontrará el público\n\n\n\nNaturfest Godella 2026 es una feria de artesanía y creatividad que apuesta por la estética\, el diseño y el ambiente cuidado. \n\n\n\nAquí encontrarán : \n\n\n\n\n🧵 Artesanía seleccionada\n\n\n\n🎨 Talleres creativos\n\n\n\n🌿 Espacios con estética natural y armoniosa\n\n\n\n🛍️ Productos únicos y hechos a mano\n\n\n\n\n👉 Un evento pensado para atraer a un público que valora lo artesanal y la calidad. \n\n\n\n\n\n\n\n🎪 Actividades previstas\n\n\n\nEl evento contará con una programación dinámica que favorecerá la afluencia de público: \n\n\n\n\n🎨 Talleres participativos\n\n\n\n🎶 Ambiente animado durante todo el día\n\n\n\n🌿 Espacios temáticos cuidados\n\n\n\n👨‍👩‍👧 Actividades para todos los públicos\n\n\n\n\n\n\n\n\n📍 Descripción de la localidad y cómo llegar\n\n\n\nGodella\, en la provincia de Valencia\, es una localidad con gran encanto y cercanía a la capital\, lo que garantiza una excelente afluencia de visitantes. \n\n\n\nEs un municipio y localidad española de la provincia de Valencia\, en la Comunidad Valenciana. Se encuentra situado en la comarca de la Huerta Norte y tiene una población de 13 533 habitantes. \n\n\n\n📍 Ubicación del evento: Plaza de la Ermita \n\n\n\nSe trata de un espacio céntrico y agradable\, ideal para este tipo de ferias. \n\n\n\n\n\n\n\n🚗 Cómo llegar al Naturfest Godella 2026\n\n\n\n\nDesde Valencia: a unos 15 minutos\n\n\n\nAcceso por CV-35\n\n\n\nBuenas conexiones y cercanía a zonas urbanas\n\n\n\nFácil acceso para montaje y descarga\n\n\n\n\n👉 Su proximidad a Valencia capital asegura un flujo constante de público durante todo el evento. \n\n\n\n \n\n\n\n🔗 Otros eventos\n\n\n\n👉 Consulta más mercados en Valencia👉 Descubre ferias en Abril 2026👉 Encuentra eventos para artesanos en España \n\n\n\n \n\n\n\n\n\n \n\n\n\n \n\n\n\nMercados Medievales 2026: Fechas y Localidades Confirmadas\n\n\n\n\n\n\n\nEspaña cuenta con una de las agendas de ferias temáticas más ricas del mundo\, combinando gastronomía tradicional\, artesanía de autor y espectáculos en vivo. Si buscas un plan diferente para el fin de semana o quieres conocer el patrimonio de una forma única\, esta es tu guía definitiva. Leer más \n\n\n\n \n\n\n\n \n\n\n\nPara más información puedes consultar :\n\n\n\n\nPuedes Consultar en esté enlace las  Ferias y Mercados en España\n\n\n\nHaz clic en ESTE enlace :  Conoce los Organizadores de Mercados y Ferias\n\n\n\n\n \n\n\n\n¿Te apuntas? Síguenos y no te pierdas de nada.\n\n\n\n\nTelegram\n\n\n\nNewsletter\n\n\n\nWhatsApp\n\n\n\nInstagram\n\n\n\nPor supuesto en Facebook\n\n\n\n\nEn Resumen
URL:https://demercadosmedievales.info/mercadomedieval/naturfest-godella-2026/
LOCATION:Godella (Valencia) (***)\, Godella\, Valencia\, Spain
CATEGORIES:Comunidad valenciana,eventos 2026,Mercado de artesanía y alimentación,Valencia
ATTACH;FMTTYPE=image/jpeg:https://demercadosmedievales.info/wp-content/uploads/2026/03/naturfest_godella_2026_fb.jpg
ORGANIZER;CN="La Marea ARts":MAILTO:HYBRIDARTS.EVENTS@GMAIL.COM
GEO:39.5232062;-0.4160527
END:VEVENT
END:VCALENDAR