BEGIN:VCALENDAR
VERSION:2.0
PRODID:-//Mercados Medievales - ECPv6.15.20//NONSGML v1.0//EN
CALSCALE:GREGORIAN
METHOD:PUBLISH
X-WR-CALNAME:Mercados Medievales
X-ORIGINAL-URL:https://demercadosmedievales.info
X-WR-CALDESC:Eventos para Mercados Medievales
REFRESH-INTERVAL;VALUE=DURATION:PT1H
X-Robots-Tag:noindex
X-PUBLISHED-TTL:PT1H
BEGIN:VTIMEZONE
TZID:Europe/Madrid
BEGIN:DAYLIGHT
TZOFFSETFROM:+0100
TZOFFSETTO:+0200
TZNAME:CEST
DTSTART:20250330T010000
END:DAYLIGHT
BEGIN:STANDARD
TZOFFSETFROM:+0200
TZOFFSETTO:+0100
TZNAME:CET
DTSTART:20251026T010000
END:STANDARD
BEGIN:DAYLIGHT
TZOFFSETFROM:+0100
TZOFFSETTO:+0200
TZNAME:CEST
DTSTART:20260329T010000
END:DAYLIGHT
BEGIN:STANDARD
TZOFFSETFROM:+0200
TZOFFSETTO:+0100
TZNAME:CET
DTSTART:20261025T010000
END:STANDARD
BEGIN:DAYLIGHT
TZOFFSETFROM:+0100
TZOFFSETTO:+0200
TZNAME:CEST
DTSTART:20270328T010000
END:DAYLIGHT
BEGIN:STANDARD
TZOFFSETFROM:+0200
TZOFFSETTO:+0100
TZNAME:CET
DTSTART:20271031T010000
END:STANDARD
END:VTIMEZONE
BEGIN:VEVENT
DTSTART;TZID=Europe/Madrid:20260318T000000
DTEND;TZID=Europe/Madrid:20260412T235959
DTSTAMP:20260420T070049
CREATED:20260301T094503Z
LAST-MODIFIED:20260404T174851Z
UID:10003273-1773792000-1776038399@demercadosmedievales.info
SUMMARY:Feria de Artesanía y Alimentación de A Coruña Porto Fest 2026
DESCRIPTION:La Feria de Artesanía y Alimentación de A Coruña Porto Fest 2026 regresa en primavera con stands de artesanía\, gastronomía y atracciones. \n\n\n\n\n\n\n\n \n\n\n\nÍndice Feria de Artesanía y Alimentación de A Coruña 2026📌 Información prácticaCartel Feria de Artesanía y Alimentación de A Coruña Porto Fest 2026Muelle de Batería en A CoruñaMercados Medievales 2026: Fechas y Localidades ConfirmadasPara más información puedes consultar :¿Te apuntas? Síguenos y no te pierdas de nada.En Resumen…\n\n\n\n \n\n\n\n \n\n\n\nFeria de Artesanía y Alimentación de A Coruña 2026\n\n\n\nA Coruña se prepara para disfrutar de casi un mes de feria junto al mar. Desde el 18 de marzo hasta el 12 de abril\, el Muelle de Batería se convertirá en un punto de encuentro diario donde artesanía\, alimentación y ocio se dan la mano. \n\n\n\nEl recinto contará con stands de 3×2 metros en esquina\, ofreciendo una imagen cuidada y funcional para los expositores. El público podrá recorrer puestos de artesanía\, disfrutar de propuestas gastronómicas y encontrar atracciones pensadas para todos los públicos. \n\n\n\nLa feria abrirá todos los días de 11:00 a 22:00 horas\, con un ambiente constante tanto para pasear como para consumir. Los expositores contarán con luz\, agua y vigilancia\, garantizando comodidad y seguridad durante toda la celebración. \n\n\n\nEl montaje de los stands se realizará el 17 de marzo\, mientras que la inauguración oficial tendrá lugar el 18 de marzo a las 11:00 de la mañana. El desmontaje se llevará a cabo el 12 de abril a partir de las 20:00 horas. \n\n\n\nLa organización corre a cargo de Noemí\, apostando por un formato estable\, visible y atractivo en uno de los espacios más emblemáticos de la ciudad. \n\n\n\n📞 Información e inscripciones:Teléfono / WhatsApp: 670 82 10 71📧 noruvi8@hotmail.es \n\n\n\n\n\n\n\n📌 Información práctica\n\n\n\n📅 Fechas: del 18 de marzo al 12 de abril de 2026🕛 Horario: 11:00 h a 22:00 h📍 Ubicación: Muelle de Batería – LA CORUÑA \n\n\n\n🛠 Montaje: 17 de marzo de 2026📦 Desmontaje: 12 de abril desde las 20:00 h \n\n\n\n📝 Inscripción: hasta completar aforo💡 Servicios: luz\, agua y vigilancia📋 Requisitos: estar al día de las obligaciones fiscales \n\n\n\n📞 Información e inscripciones:Teléfono / WhatsApp: 670 82 10 71📧 noruvi8@hotmail.es \n\n\n\nPrecio : \n\n\n\n\n\nCartel Feria de Artesanía y Alimentación de A Coruña Porto Fest 2026\n\n\n\nFeria de Artesanía y Alimentación de A Coruña\n\n\n\n \n\n\n\nMuelle de Batería en A Coruña\n\n\n\nEl Muelle de Batería en A Coruña es un espacio portuario abierto al público y remodelado para el disfrute ciudadano\, situado junto a la zona de trasatlánticos. Funciona como un emblemático recinto al aire libre para eventos masivos y conciertos. Alberga actividades culturales como el Recorda Fest 2026 y cuenta con amplia superficie junto al mar. \n\n\n\n Situado en la zona portuaria central de A Coruña\, ofreciendo vistas al mar y ambiente urbano.  \n\n\n\n\n\n \n\n\n\n \n\n\n\nMercados Medievales 2026: Fechas y Localidades Confirmadas\n\n\n\n\n\n\n\nEspaña cuenta con una de las agendas de ferias temáticas más ricas del mundo\, combinando gastronomía tradicional\, artesanía de autor y espectáculos en vivo. Si buscas un plan diferente para el fin de semana o quieres conocer el patrimonio de una forma única\, esta es tu guía definitiva. Leer más \n\n\n\nPara más información puedes consultar :\n\n\n\n\nPuedes Consultar en esté enlace las  Ferias y Mercados en España\n\n\n\nHaz clic en ESTE enlace :  Conoce los Organizadores de Mercados y Ferias\n\n\n\n\n¿Te apuntas? Síguenos y no te pierdas de nada.\n\n\n\n\nTelegram\n\n\n\nNewsletter\n\n\n\nWhatsApp\n\n\n\nInstagram\n\n\n\nPor supuesto en Facebook\n\n\n\n\nEn Resumen…
URL:https://demercadosmedievales.info/mercadomedieval/feria-de-artesania-y-alimentacion-de-a-coruna/
LOCATION:A Coruña (***)\, A Coruña\, A Coruña\, Spain
CATEGORIES:Galicia,La Coruña,Mercado de artesanía y alimentación
ATTACH;FMTTYPE=image/jpeg:https://demercadosmedievales.info/wp-content/uploads/2026/03/porto_feria_1200.jpg
GEO:43.3623436;-8.4115401
END:VEVENT
BEGIN:VEVENT
DTSTART;TZID=Europe/Madrid:20260410T000000
DTEND;TZID=Europe/Madrid:20260412T235959
DTSTAMP:20260420T070049
CREATED:20260208T191318Z
LAST-MODIFIED:20260208T191320Z
UID:10003207-1775779200-1776038399@demercadosmedievales.info
SUMMARY:I Feria de Artesanía y Alimentación en Sabadell - Plaça Benjamin Garcia 2026 (Barcelona)
DESCRIPTION:Feria de Artesanía y Alimentación en Sabadell del 10 al 12 de abril con productos artesanos y servicios incluidos. \n\n\n\n\n\n\n\n \n\n\n\n \n\n\n\nÍndice I Feria de Artesanía y Alimentación de SabadellArtesanos y Mercaderes\, Información para participarSabadell en el corazón del VallésMercados Medievales 2026: Fechas y Localidades ConfirmadasPara más información puedes consultar :¿Te apuntas? Síguenos y no te pierdas de nada.En Resumen…\n\n\n\nI Feria de Artesanía y Alimentación de Sabadell\n\n\n\nLa I Feria de Artesanía y Alimentación de Sabadell\, organizada por Eventos SJ del Vallès\, se celebrará en la Plaça Benjamin Garcia\, un espacio ideal para el encuentro entre artesanos\, productores y público. \n\n\n\nDurante tres días\, la feria reunirá a profesionales de la artesanía y la alimentación\, ofreciendo productos elaborados con mimo y pensados para todos los gustos. El evento está diseñado como una cita familiar y accesible\, donde pasear\, descubrir y disfrutar del comercio de proximidad. \n\n\n\nLa organización facilitará suministro eléctrico y vigilancia nocturna\, garantizando así el correcto desarrollo del evento. Para participar\, los expositores deberán disponer de carpa o parada de madera o hierro\, además de contar con la documentación en regla. \n\n\n\nEl plazo de inscripción estará abierto hasta agotar los espacios disponibles\, por lo que se recomienda contactar con la organización a la mayor brevedad. \n\n\n\n \n\n\n\nArtesanos y Mercaderes\, Información para participar\n\n\n\n\nEVENTO: I FERIA ARTESANÍA Y ALIMENTACIÓN\n\n\n\nFECHA: DEL 10 AL 12 DE ABRIL 2026\n\n\n\nUBICACIÓN: PÇA. BENJAMIN GARCIA\n\n\n\nPROVINCIA: SABADELL (BARCELONA)\n\n\n\nPLAZO INSCRIPCIÓN: HASTA AGOTAR ESPACIOS\n\n\n\nREQUISITOS: CARPA\,PARADA MADERA O DE HIERRO\n\nDOCUMENTACIÓN EN REGLA\n\n\n\n\n\nSERVICIOS: LUZ\, Y VIGILANCIA NOCTURNA\n\n\n\nORGANIZADOR: EVENTOS SJ DEL VALLES\n\nINFORMACIÓN: 639351258\, eventos.sja1@gmail.com\, \n\neventos.sja2@gmail.com\, eventos\,sja3@gmail.com\n\n\n\n\n\n\n\n\n \n\n\n\nSabadell en el corazón del Vallés\n\n\n\nSabadell (Barcelona) es una de las ciudades más importantes del Vallès Occidental\, con excelentes conexiones por carretera y transporte público. Se accede fácilmente por la C-58\, además de contar con estaciones de Renfe y FGC\, lo que facilita la llegada de visitantes durante la feria. \n\n\n\n\n\n\n\n\n\n \n\n\n\nMercados Medievales 2026: Fechas y Localidades Confirmadas\n\n\n\n\n\n\n\nEspaña cuenta con una de las agendas de ferias temáticas más ricas del mundo\, combinando gastronomía tradicional\, artesanía de autor y espectáculos en vivo. Si buscas un plan diferente para el fin de semana o quieres conocer el patrimonio de una forma única\, esta es tu guía definitiva. Leer más \n\n\n\nPara más información puedes consultar :\n\n\n\n\nPuedes Consultar en esté enlace las  Ferias y Mercados en España\n\n\n\nHaz clic en ESTE enlace :  Conoce los Organizadores de Mercados y Ferias\n\n\n\n\n¿Te apuntas? Síguenos y no te pierdas de nada.\n\n\n\n\nTelegram\n\n\n\nNewsletter\n\n\n\nWhatsApp\n\n\n\nInstagram\n\n\n\nPor supuesto en Facebook\n\n\n\n\nEn Resumen…
URL:https://demercadosmedievales.info/mercadomedieval/i-feria-de-artesania-y-alimentacion-en-sabadell-placa-benjamin-garcia-2026-barcelona/
LOCATION:Sabadell (Barcelona) (***)\, Sabadell\, Barcelona\, España
CATEGORIES:Barcelona,Cataluña,Mercado de artesanía y alimentación
ATTACH;FMTTYPE=image/jpeg:https://demercadosmedievales.info/wp-content/uploads/2026/02/feria_artesania_alimentacion_sabadell_fb.jpg
ORGANIZER;CN="Eventos SJ del Valles":MAILTO:eventos.sja1@gmail.com
GEO:41.5462745;2.1086131
END:VEVENT
END:VCALENDAR