BEGIN:VCALENDAR
VERSION:2.0
PRODID:-//Mercados Medievales - ECPv6.15.20//NONSGML v1.0//EN
CALSCALE:GREGORIAN
METHOD:PUBLISH
X-ORIGINAL-URL:https://demercadosmedievales.info
X-WR-CALDESC:Eventos para Mercados Medievales
REFRESH-INTERVAL;VALUE=DURATION:PT1H
X-Robots-Tag:noindex
X-PUBLISHED-TTL:PT1H
BEGIN:VTIMEZONE
TZID:Europe/Madrid
BEGIN:DAYLIGHT
TZOFFSETFROM:+0100
TZOFFSETTO:+0200
TZNAME:CEST
DTSTART:20250330T010000
END:DAYLIGHT
BEGIN:STANDARD
TZOFFSETFROM:+0200
TZOFFSETTO:+0100
TZNAME:CET
DTSTART:20251026T010000
END:STANDARD
BEGIN:DAYLIGHT
TZOFFSETFROM:+0100
TZOFFSETTO:+0200
TZNAME:CEST
DTSTART:20260329T010000
END:DAYLIGHT
BEGIN:STANDARD
TZOFFSETFROM:+0200
TZOFFSETTO:+0100
TZNAME:CET
DTSTART:20261025T010000
END:STANDARD
BEGIN:DAYLIGHT
TZOFFSETFROM:+0100
TZOFFSETTO:+0200
TZNAME:CEST
DTSTART:20270328T010000
END:DAYLIGHT
BEGIN:STANDARD
TZOFFSETFROM:+0200
TZOFFSETTO:+0100
TZNAME:CET
DTSTART:20271031T010000
END:STANDARD
END:VTIMEZONE
BEGIN:VEVENT
DTSTART;TZID=Europe/Madrid:20260430T000000
DTEND;TZID=Europe/Madrid:20260503T235959
DTSTAMP:20260421T193823
CREATED:20260319T121628Z
LAST-MODIFIED:20260319T201852Z
UID:10003330-1777507200-1777852799@demercadosmedievales.info
SUMMARY:Mercado Cervantino en El Toboso 2026 (Toledo)
DESCRIPTION:El Mercado Cervantino en El Toboso se celebrará del 30 de abril al 3 de mayo de 2026\, y además lo hará en un enclave único vinculado a la obra de Cervantes. Durante varios días\, la Plaza de la Iglesia se llenará de artesanía\, animación y ambiente de época. \n\n\n\n\n\n\n\n \n\n\n\nÍndice Mercado Cervantino en El TobosoInformación para artesanosEl Toboso\, tierra de tradición cervantinaCómo llegar al Mercado Cervantino en El TobosoMercados Medievales 2026: Fechas y Localidades ConfirmadasPara más información puedes consultar :¿Te apuntas? Síguenos y no te pierdas de nada.En Resumen..\n\n\n\n \n\n\n\nMercado Cervantino en El Toboso\n\n\n\nDel 30 de abril al 3 de mayo\, El Toboso acogerá una nueva edición de su esperado Mercado Cervantino\, un evento que transformará la localidad en un auténtico escenario del Siglo de Oro. \n\n\n\nDurante estos días\, la Plaza de la Iglesia será el epicentro del mercado\, donde artesanos y mercaderes instalarán sus puestos ofreciendo productos únicos en un ambiente inspirado en la obra de Miguel de Cervantes. \n\n\n\n \n\n\n\nInformación para artesanos\n\n\n\n\nFecha de inicio:  30 de abril del 2026\n\n\n\nFecha de fin:  03 de mayo del 2026\n\n\n\nUbicación: Plaza de la Iglesia – El Toboso\, TOLEDO\n\n\n\nHorario: De 11:00 a 23:00 h (por confirmar)\n\n\n\nInauguración: 30 de Abril por la tarde (por confirmar)\n\n\n\nInscripciones: Están abiertas hasta agotar plazas\n\n\n\nServicios para participantes: Animación\, luz\, Vigilancia disuasoria\n\n\n\nOrganiza : Malik Culture Eventos Contacto / WhatsApp: 657 665 994 – 676 928 928\n\n\n\n\n \n\n\n\nEl Toboso\, tierra de tradición cervantina\n\n\n\nEl Toboso\, en la provincia de Toledo\, es conocido por su estrecha relación con la obra de Don Quijote de la Mancha\, siendo el lugar de origen de Dulcinea. Su encanto manchego y su historia literaria lo convierten en el escenario perfecto para un mercado cervantino. \n\n\n\nCómo llegar al Mercado Cervantino en El Toboso\n\n\n\nLlegar a El Toboso es sencillo desde diferentes puntos de Castilla-La Mancha y Madrid. \n\n\n\nEn cocheSe puede acceder desde Madrid por la A-4 y la CM-42\, enlazando con carreteras locales hasta El Toboso. \n\n\n\nDesde Toledo y alrededoresConexión por carreteras autonómicas bien señalizadas que conducen directamente al municipio. \n\n\n\nUbicación del eventoPlaza de la Iglesia\, en el centro histórico de El Toboso. \n\n\n\n\n\n \n\n\n\n\n\n\n\n \n\n\n\nMercados Medievales 2026: Fechas y Localidades Confirmadas\n\n\n\n\n\n\n\nEspaña cuenta con una de las agendas de ferias temáticas más ricas del mundo\, combinando gastronomía tradicional\, artesanía de autor y espectáculos en vivo. Si buscas un plan diferente para el fin de semana o quieres conocer el patrimonio de una forma única\, esta es tu guía definitiva. Leer más \n\n\n\nPara más información puedes consultar :\n\n\n\n\nPuedes Consultar en esté enlace las  Ferias y Mercados en España\n\n\n\nHaz clic en ESTE enlace :  Conoce los Organizadores de Mercados y Ferias\n\n\n\n\n¿Te apuntas? Síguenos y no te pierdas de nada.\n\n\n\n\nTelegram\n\n\n\nNewsletter\n\n\n\nWhatsApp\n\n\n\nInstagram\n\n\n\nPor supuesto en Facebook\n\n\n\n\nEn Resumen..
URL:https://demercadosmedievales.info/mercadomedieval/mercado-cervantino-en-el-toboso-2026-toledo/
LOCATION:El Toboso (Toledo)\, El Toboso\, Toledo\, España
CATEGORIES:Mercado cervantino,Toledo
ATTACH;FMTTYPE=image/jpeg:https://demercadosmedievales.info/wp-content/uploads/2026/03/cervantino_el_toboso_fb.jpg
ORGANIZER;CN="Malik Culture Eventos":MAILTO:asociacionmalim@hotmail.com
END:VEVENT
END:VCALENDAR