BEGIN:VCALENDAR
VERSION:2.0
PRODID:-//Mercados Medievales - ECPv6.15.20//NONSGML v1.0//EN
CALSCALE:GREGORIAN
METHOD:PUBLISH
X-ORIGINAL-URL:https://demercadosmedievales.info
X-WR-CALDESC:Eventos para Mercados Medievales
REFRESH-INTERVAL;VALUE=DURATION:PT1H
X-Robots-Tag:noindex
X-PUBLISHED-TTL:PT1H
BEGIN:VTIMEZONE
TZID:Europe/Madrid
BEGIN:DAYLIGHT
TZOFFSETFROM:+0100
TZOFFSETTO:+0200
TZNAME:CEST
DTSTART:20250330T010000
END:DAYLIGHT
BEGIN:STANDARD
TZOFFSETFROM:+0200
TZOFFSETTO:+0100
TZNAME:CET
DTSTART:20251026T010000
END:STANDARD
BEGIN:DAYLIGHT
TZOFFSETFROM:+0100
TZOFFSETTO:+0200
TZNAME:CEST
DTSTART:20260329T010000
END:DAYLIGHT
BEGIN:STANDARD
TZOFFSETFROM:+0200
TZOFFSETTO:+0100
TZNAME:CET
DTSTART:20261025T010000
END:STANDARD
BEGIN:DAYLIGHT
TZOFFSETFROM:+0100
TZOFFSETTO:+0200
TZNAME:CEST
DTSTART:20270328T010000
END:DAYLIGHT
BEGIN:STANDARD
TZOFFSETFROM:+0200
TZOFFSETTO:+0100
TZNAME:CET
DTSTART:20271031T010000
END:STANDARD
END:VTIMEZONE
BEGIN:VEVENT
DTSTART;TZID=Europe/Madrid:20260410T000000
DTEND;TZID=Europe/Madrid:20260412T235959
DTSTAMP:20260420T091618
CREATED:20260317T133537Z
LAST-MODIFIED:20260318T061714Z
UID:10003318-1775779200-1776038399@demercadosmedievales.info
SUMMARY:Feria Gastroarte de Tudela 2026 (Navarra)
DESCRIPTION:Feria Gastroarte de Tudela del 10 al 12 de abril de 2026 con gastronomía\, artesanía y productos gourmet en Navarra. \n\n\n\n\n\n\n\n \n\n\n\nÍndice Feria GastroarteInformación del eventoCartelCómo llegar a TudelaMercados Medievales 2026: Fechas y Localidades ConfirmadasPara más información puedes consultar :¿Te apuntas? Síguenos y no te pierdas de nada.En Resumen\n\n\n\n \n\n\n\nFeria Gastroarte\n\n\n\nLa Feria Gastroarte de Tudela se celebrará del 10 al 12 de abril de 2026 en la ciudad de Tudela. Este evento reúne gastronomía\, artesanía y productos gourmet\, convirtiéndose en un punto de encuentro para amantes del buen comer\, creadores artesanos y visitantes que buscan experiencias culturales y gastronómicas. \n\n\n\nDurante tres días\, el público podrá descubrir productos artesanales\, degustaciones gastronómicas y propuestas creativas\, en un ambiente festivo que combina tradición\, sabor y cultura. \n\n\n\n \n\n\n\nInformación del evento\n\n\n\n\nEvento: Feria Gastroarte de TudelaFechas: 10\, 11 y 12 de abril de 2026Lugar: Paseo del Queiles\, Tudela\, NAVARRATipo de productos: Gastronomía\, artesanía y productos gourmet\n\n\n\nOrganiza:  Javier Fereiro\n\n\n\n📞 Teléfono / WhatsApp: 633 77 61 10\n\n\n\n\n \n\n\n\nCartel\n\n\n\nFeria Gastroarte de Tudela 2026\n\n\n\n \n\n\n\nCómo llegar a Tudela\n\n\n\nLa ciudad de Tudela se encuentra al sur de Navarra\, en el valle del río Ebro\, y está bien conectada con varias ciudades del norte y del valle del Ebro. \n\n\n\n🚗 En coche:Se puede llegar fácilmente por la AP-68 (Bilbao–Zaragoza) y la N-121-C\, que conectan Tudela con ciudades como Pamplona\, Zaragoza y Logroño. \n\n\n\n🚆 En tren:La Estación de Tudela de Navarra ofrece conexiones con trenes de media y larga distancia\, incluyendo rutas hacia Pamplona\, Zaragoza y Madrid. \n\n\n\n🚌 En autobús:Varias líneas interurbanas conectan Tudela con ciudades cercanas y capitales de provincia\, facilitando el acceso al centro urbano donde se celebran ferias y eventos. \n\n\n\n\n\n \n\n\n\n \n\n\n\nMercados Medievales 2026: Fechas y Localidades Confirmadas\n\n\n\n\n\n\n\nEspaña cuenta con una de las agendas de ferias temáticas más ricas del mundo\, combinando gastronomía tradicional\, artesanía de autor y espectáculos en vivo. Si buscas un plan diferente para el fin de semana o quieres conocer el patrimonio de una forma única\, esta es tu guía definitiva. Leer más \n\n\n\nPara más información puedes consultar :\n\n\n\n\nPuedes Consultar en esté enlace las  Ferias y Mercados en España\n\n\n\nHaz clic en ESTE enlace :  Conoce los Organizadores de Mercados y Ferias\n\n\n\n\n¿Te apuntas? Síguenos y no te pierdas de nada.\n\n\n\n\nTelegram\n\n\n\nNewsletter\n\n\n\nWhatsApp\n\n\n\nInstagram\n\n\n\nPor supuesto en Facebook\n\n\n\n\nEn Resumen
URL:https://demercadosmedievales.info/mercadomedieval/feria-gastroarte-de-tudela-2026-navarra/
LOCATION:Tudela (Navarra) (***)\, Tudela\, Navarre\, 31500
CATEGORIES:Comunidad Foral de Navarra,Feria de artesanía,Feria gastronomica
ATTACH;FMTTYPE=image/jpeg:https://demercadosmedievales.info/wp-content/uploads/2026/03/gstroarte_tudela_fb.jpg
GEO:42.0613816;-1.6063169
END:VEVENT
END:VCALENDAR