BEGIN:VCALENDAR
VERSION:2.0
PRODID:-//Mercados Medievales - ECPv6.15.20//NONSGML v1.0//EN
CALSCALE:GREGORIAN
METHOD:PUBLISH
X-WR-CALNAME:Mercados Medievales
X-ORIGINAL-URL:https://demercadosmedievales.info
X-WR-CALDESC:Eventos para Mercados Medievales
REFRESH-INTERVAL;VALUE=DURATION:PT1H
X-Robots-Tag:noindex
X-PUBLISHED-TTL:PT1H
BEGIN:VTIMEZONE
TZID:Europe/Madrid
BEGIN:DAYLIGHT
TZOFFSETFROM:+0100
TZOFFSETTO:+0200
TZNAME:CEST
DTSTART:20250330T010000
END:DAYLIGHT
BEGIN:STANDARD
TZOFFSETFROM:+0200
TZOFFSETTO:+0100
TZNAME:CET
DTSTART:20251026T010000
END:STANDARD
BEGIN:DAYLIGHT
TZOFFSETFROM:+0100
TZOFFSETTO:+0200
TZNAME:CEST
DTSTART:20260329T010000
END:DAYLIGHT
BEGIN:STANDARD
TZOFFSETFROM:+0200
TZOFFSETTO:+0100
TZNAME:CET
DTSTART:20261025T010000
END:STANDARD
BEGIN:DAYLIGHT
TZOFFSETFROM:+0100
TZOFFSETTO:+0200
TZNAME:CEST
DTSTART:20270328T010000
END:DAYLIGHT
BEGIN:STANDARD
TZOFFSETFROM:+0200
TZOFFSETTO:+0100
TZNAME:CET
DTSTART:20271031T010000
END:STANDARD
END:VTIMEZONE
BEGIN:VEVENT
DTSTART;TZID=Europe/Madrid:20260430T000000
DTEND;TZID=Europe/Madrid:20260503T235959
DTSTAMP:20260426T010921
CREATED:20260322T122942Z
LAST-MODIFIED:20260322T184547Z
UID:10003345-1777507200-1777852799@demercadosmedievales.info
SUMMARY:Mercado Alfonsí de Alcaraz 2026 (Albacete)
DESCRIPTION:Bases de participación en el Mercado Alfonsí de Alcaraz 2026\, que regresa para transportar a visitantes y comerciantes a una época medieval llena de historia y tradición. . \n\n\n\n\n\n\n\n \n\n\n\nÍndice Mercado Alfonsí de AlcarazInformación del eventoBases de participaciónCartel Mercado Alfonsí de AlcarazAlcaraz\, historia y belleza en cada rincón.Mercados Medievales 2026: Fechas y Localidades ConfirmadasPara más información puedes consultar :¿Te apuntas? Síguenos y no te pierdas de nada.En Resumen\n\n\n\n \n\n\n\nMercado Alfonsí de Alcaraz\n\n\n\nDel 30 de abril al 3 de mayo de 2026\, la localidad de Alcaraz (Albacete) acogerá una nueva edición del tradicional Mercado Alfonsí\, un evento que transformará su casco histórico en un auténtico escenario medieval. \n\n\n\nDurante estos días\, la Plaza Mayor y la Calle Mayor se llenarán de puestos artesanales\, productos tradicionales y animación temática que hará disfrutar a vecinos y visitantes. \n\n\n\nEl mercado recrea la época alfonsí\, ofreciendo una experiencia cultural en un entorno incomparable\, rodeado de arquitectura histórica y calles con gran encanto. \n\n\n\n \n\n\n\nInformación del evento\n\n\n\nEvento: Mercado Alfonsí 2026📅 Fechas: 30 de abril al  3  de mayo de 2026📍 Ubicación: Plaza Mayor y Calle Mayor\, Alcaraz (ALBACETE)🏛 Organiza: Excmo. Ayuntamiento de Alcaraz \n\n\n\n \n\n\n\nBases de participación \n\n\n\n\n\n\n\n\n\n\n\n\n\n\n\n \n\n\n\n \n\n\n\nCartel Mercado Alfonsí de Alcaraz\n\n\n\n\n\n\n\n \n\n\n\nAlcaraz\, historia y belleza en cada rincón.\n\n\n\nAlcaraz\, en la provincia de Albacete\, es una localidad con un impresionante conjunto histórico-artístico. Además\, su Plaza Mayor es considerada una de las más bellas de España\, lo que la convierte en un escenario perfecto para mercados medievales y eventos culturales. \n\n\n\nEn cocheSe puede acceder fácilmente por la N-322\, que conecta Alcaraz con Albacete\, Úbeda y otras localidades. \n\n\n\nUbicación del eventoEl mercado se celebrará en la Plaza Mayor y la Calle Mayor\, en pleno centro histórico. \n\n\n\n\n\n \n\n\n\n \n\n\n\nMercados Medievales 2026: Fechas y Localidades Confirmadas\n\n\n\n\n\n\n\nEspaña cuenta con una de las agendas de ferias temáticas más ricas del mundo\, combinando gastronomía tradicional\, artesanía de autor y espectáculos en vivo. Si buscas un plan diferente para el fin de semana o quieres conocer el patrimonio de una forma única\, esta es tu guía definitiva. Leer más \n\n\n\nPara más información puedes consultar :\n\n\n\n\nPuedes Consultar en esté enlace las  Ferias y Mercados en España\n\n\n\nHaz clic en ESTE enlace :  Conoce los Organizadores de Mercados y Ferias\n\n\n\n\n¿Te apuntas? Síguenos y no te pierdas de nada.\n\n\n\n\nTelegram\n\n\n\nNewsletter\n\n\n\nWhatsApp\n\n\n\nInstagram\n\n\n\nPor supuesto en Facebook\n\n\n\n\nEn Resumen
URL:https://demercadosmedievales.info/mercadomedieval/mercado-alfonsi-de-alcaraz/
LOCATION:Alcaraz (Albacete) (***)\, Alcaraz\, Albacete\, España
CATEGORIES:Albacete,Castilla La Mancha,Mercado Alfonsi
ATTACH;FMTTYPE=image/jpeg:https://demercadosmedievales.info/wp-content/uploads/2026/03/alfonsi_alcaraz_2026_fb.jpg
GEO:38.6665292;-2.4907128
END:VEVENT
END:VCALENDAR