BEGIN:VCALENDAR
VERSION:2.0
PRODID:-//Mercados Medievales - ECPv6.15.20//NONSGML v1.0//EN
CALSCALE:GREGORIAN
METHOD:PUBLISH
X-WR-CALNAME:Mercados Medievales
X-ORIGINAL-URL:https://demercadosmedievales.info
X-WR-CALDESC:Eventos para Mercados Medievales
REFRESH-INTERVAL;VALUE=DURATION:PT1H
X-Robots-Tag:noindex
X-PUBLISHED-TTL:PT1H
BEGIN:VTIMEZONE
TZID:Europe/Madrid
BEGIN:DAYLIGHT
TZOFFSETFROM:+0100
TZOFFSETTO:+0200
TZNAME:CEST
DTSTART:20230326T010000
END:DAYLIGHT
BEGIN:STANDARD
TZOFFSETFROM:+0200
TZOFFSETTO:+0100
TZNAME:CET
DTSTART:20231029T010000
END:STANDARD
BEGIN:DAYLIGHT
TZOFFSETFROM:+0100
TZOFFSETTO:+0200
TZNAME:CEST
DTSTART:20240331T010000
END:DAYLIGHT
BEGIN:STANDARD
TZOFFSETFROM:+0200
TZOFFSETTO:+0100
TZNAME:CET
DTSTART:20241027T010000
END:STANDARD
BEGIN:DAYLIGHT
TZOFFSETFROM:+0100
TZOFFSETTO:+0200
TZNAME:CEST
DTSTART:20250330T010000
END:DAYLIGHT
BEGIN:STANDARD
TZOFFSETFROM:+0200
TZOFFSETTO:+0100
TZNAME:CET
DTSTART:20251026T010000
END:STANDARD
BEGIN:DAYLIGHT
TZOFFSETFROM:+0100
TZOFFSETTO:+0200
TZNAME:CEST
DTSTART:20260329T010000
END:DAYLIGHT
BEGIN:STANDARD
TZOFFSETFROM:+0200
TZOFFSETTO:+0100
TZNAME:CET
DTSTART:20261025T010000
END:STANDARD
END:VTIMEZONE
BEGIN:VEVENT
DTSTART;TZID=Europe/Madrid:20240829T000000
DTEND;TZID=Europe/Madrid:20240901T235959
DTSTAMP:20260420T093508
CREATED:20240330T121517Z
LAST-MODIFIED:20240830T054811Z
UID:10001105-1724889600-1725235199@demercadosmedievales.info
SUMMARY:XII Festa Normanda de Foz\, Lugo 2024 - Programación
DESCRIPTION:Del 29 de agosto al 1 de septiembre\, Foz celebra su XII Festa Normanda. Una cita que rememora la fallida incursión vikinga en la localidad y que cuenta con un completo programa de actividades \n \nNombre del Evento : XII Festa Normanda\n \n \n \nDetalles del Mercado o FeriaCual es la fecha de celebración ?29-30-31 de agosto  y 1 de septiembre 2024Hasta que fecha se pueden inscribir los artesanos y mercaderes ?12 de agosto 2024Donde se va a celebrar ? Localidad y provinciaFoz (Lugo)Cual será la ubicación dentro de la localidad (calle\, Plaza\, vía\, etc.)Plaza conde de FontaoDescripción del Evento : (Indica la temática\, características\, etc.)Tematica normandaDia y hora de Montaje :29 agosto a partir de 10hFecha y hora de Inauguración29 de agosto 18hServicios que proporcionara el organizador a los artesanos y mercaderes participantes  \n\nSeguridad\nAgua\nElectricidad\n\nInformación sobre el organizador :Quien organiza la Feria y/o Mercado ?Asociación desembarco normandoTeléfono de contacto : \nEmail de contacto : Mercadonormando@hotmail.comQue otro medio de contacto  proporciona el organizador ? \nCuales son los Requisitos de participación ?Cumplir los requisitos expuestos en las bases🏷Precio del metro lineal\, parada de madera\, carpa ? \n\nATRACCIONES a consultar precio.\nAgroalimentaria 350€ por 3m liniales+100€ metro a mayores.\nArtesanía 170€ por 3m liniales+50€ metro a mayores.\n\n \n  \n  \nSobre Foz\nFoz es un municipio español perteneciente a la provincia de Lugo y la comarca de La Mariña Central\, en la comunidad autónoma de Galicia. Foz es un municipio costero\, a orillas del mar Cantábrico\, en la desembocadura del río Masma\, ​ donde se forma la ría de Foz\, ​ con una extensión de 100\,29 km² y 10 016 habitantes. \n\n\nCalendario de Mercados Medievales y Ferias temáticas 2024 :\n\n\nEnero\nFebrero\nMarzo\nAbril\nMayo\nJunio\nJulio\nAgosto\nSeptiembre\nOctubre\nNoviembre\nDiciembre\n\n Las Ferias y mercados medievales\nLas ferias medievales son eventos que recrean la atmósfera de la Edad Media. Por lo general\, se llevan a cabo en pueblos o ciudades\, y presentan puestos de vendedores que venden artesanías\, alimentos y bebidas. También puede haber entretenimiento\, como justas\, música y baile. .
URL:https://demercadosmedievales.info/mercadomedieval/xii-festa-normanda-de-foz-lugo-2024-convocatoria/
LOCATION:Foz (Lugo) (***)\, Foz\, Lugo\, España
CATEGORIES:Cartel,Festa Normanda,Lugo,Programación
ATTACH;FMTTYPE=image/jpeg:https://demercadosmedievales.info/wp-content/uploads/2024/08/Copia-de-festa-normanda-foz_f.jpg
ORGANIZER;CN="Asociaci%C3%B3n desembarco normando":MAILTO:Mercadonormando@hotmail.com
GEO:43.5694522;-7.2580418
END:VEVENT
BEGIN:VEVENT
DTSTART;TZID=Europe/Madrid:20250828T000000
DTEND;TZID=Europe/Madrid:20250831T235959
DTSTAMP:20260420T093508
CREATED:20250822T122113Z
LAST-MODIFIED:20250822T155624Z
UID:10002599-1756339200-1756684799@demercadosmedievales.info
SUMMARY:FESTA NORMANDA DE FOZ – MERCADO DE ARTESANÍA Y GASTRONOMÍA 2025
DESCRIPTION:Del 28 al 31 de agosto\, el puerto de Foz acoge la Festa Normanda con mercado de artesanía\, gastronomía y ambiente histórico único. \n\n\n\n\n\n\n\n \n\n\n\n \n\n\n\n🛡️ FESTA NORMANDA DE FOZ – MERCADO DE ARTESANÍA Y GASTRONOMÍA\n\n\n\nCARTEL OFICIAL\n\n\n\n\n\n\n\n \n\n\n\nPROGRAMACIÓN : \n\n\n\n\n\n\n\n \n\n\n\n\n\n\n\n \n\n\n\nInformación de la Festa Normanda de Foz :\n\n\n\n\n📅 Fecha de celebración:Del 28 al 31 de agosto de 2025 \n\n\n\n🕛 Horario de apertura al público:De 12:00 h a 00:00 h \n\n\n\n📍 Ubicación:Puerto de Foz\, Foz (Lugo) \n\n\n\n📆 Plazo de inscripción:Hasta el 12 de agosto \n\n\n\n🔁 Periodicidad:Anual \n\n\n\n🛍️ Tipo de productos:Artesanía\, alimentación\, gastronomía \n\n\n\n🔧 Fecha de montaje:28 de agosto de 2025 \n\n\n\n🧹 Fecha de desmontaje:31 de agosto de 2025 \n\n\n\n🎉 Fecha y hora de inauguración:28 de agosto a las 18:00 h \n\n\n\n🛠️ Servicios para artesanos/mercaderes:Conexión eléctrica\, atención de urgencias médicas\, urinarios \n\n\n\n🏰 Organiza:Asociación Desembarco Normando \n\n\n\n📬 Información e inscripciones:Email: mercadonormando@hotmail.com \n\n\n\n📱 WhatsApp / Teléfono de contacto:No facilitado \n\n\n\n🌐 Otros medios de contacto:No facilitado \n\n\n\n📄 Requisitos de participación:Artesanía y alimentación \n\n\n\nBases de participación en la FESTA NORMANDA DE FOZ: \n\n\n\nBases Mercado 2025 – FESTA NORMANDA DE FOZ-Descarga\n\n\n\n\n \n\n\n\nDescripción de la localidad : \n\n\n\nFoz es un municipio español perteneciente a la provincia de Lugo y la comarca de La Mariña Central\, en la comunidad autónoma de Galicia. Foz es un municipio costero\, a orillas del mar Cantábrico\, en la desembocadura del río Masma\, ​ donde se forma la ría de Foz\, ​ con una extensión de 100\,29 km² y 10 016 habitantes. \n\n\n\n\n\n \n\n\n\nPara más información puedes consultar :\n\n\n\n\nPuedes Consultar en esté enlace las Ferias y Mercados en España\n\n\n\nHaz clic en ESTE enlace :  Conoce los Organizadores de Mercados y Ferias\n\n\n\n\n¿Te apuntas? Dale follow y no te lo pierdas.\n\n\n\n\nTelegram: Recibe nuestras noticias y contenido exclusivo (clic aquí).\n\n\n\nNewsletter: Recibe un correos con nuestras últimas noticias (clic aquí).\n\n\n\nWhatsApp: Suscríbete para seguirnos en nuestro canal (clic aquí).\n\n\n\nInstagram: Síguenos en Instagram ( clic aquí )\n\n\n\n\nEn Resumen…
URL:https://demercadosmedievales.info/mercadomedieval/festa-normanda-foz-2025/
LOCATION:Foz (Lugo) (***)\, Foz\, Lugo\, España
CATEGORIES:Cartel,Festa Normanda,Programación
ATTACH;FMTTYPE=image/jpeg:https://demercadosmedievales.info/wp-content/uploads/2025/06/1200-festa_normanda.jpg
ORGANIZER;CN="Asociaci%C3%B3n desembarco normando":MAILTO:Mercadonormando@hotmail.com
GEO:43.5694522;-7.2580418
END:VEVENT
END:VCALENDAR