BEGIN:VCALENDAR
VERSION:2.0
PRODID:-//Mercados Medievales - ECPv6.15.20//NONSGML v1.0//EN
CALSCALE:GREGORIAN
METHOD:PUBLISH
X-ORIGINAL-URL:https://demercadosmedievales.info
X-WR-CALDESC:Eventos para Mercados Medievales
REFRESH-INTERVAL;VALUE=DURATION:PT1H
X-Robots-Tag:noindex
X-PUBLISHED-TTL:PT1H
BEGIN:VTIMEZONE
TZID:Europe/Madrid
BEGIN:DAYLIGHT
TZOFFSETFROM:+0100
TZOFFSETTO:+0200
TZNAME:CEST
DTSTART:20250330T010000
END:DAYLIGHT
BEGIN:STANDARD
TZOFFSETFROM:+0200
TZOFFSETTO:+0100
TZNAME:CET
DTSTART:20251026T010000
END:STANDARD
BEGIN:DAYLIGHT
TZOFFSETFROM:+0100
TZOFFSETTO:+0200
TZNAME:CEST
DTSTART:20260329T010000
END:DAYLIGHT
BEGIN:STANDARD
TZOFFSETFROM:+0200
TZOFFSETTO:+0100
TZNAME:CET
DTSTART:20261025T010000
END:STANDARD
BEGIN:DAYLIGHT
TZOFFSETFROM:+0100
TZOFFSETTO:+0200
TZNAME:CEST
DTSTART:20270328T010000
END:DAYLIGHT
BEGIN:STANDARD
TZOFFSETFROM:+0200
TZOFFSETTO:+0100
TZNAME:CET
DTSTART:20271031T010000
END:STANDARD
END:VTIMEZONE
BEGIN:VEVENT
DTSTART;TZID=Europe/Madrid:20260402T000000
DTEND;TZID=Europe/Madrid:20260407T235959
DTSTAMP:20260420T151755
CREATED:20260315T205628Z
LAST-MODIFIED:20260315T211846Z
UID:10003313-1775088000-1775606399@demercadosmedievales.info
SUMMARY:XII Mercáu Polesu – Mercáu Tradicional Asturiano de Güevos Pintos 2026 de Pola de Siero
DESCRIPTION:El XII Mercáu Polesu se celebra del 2 al 7 de abril de 2026 en La Pola Siero (Asturias) con artesanía\, gastronomía y tradición dentro de la fiesta de los Güevos Pintos. \n\n\n\n\n\n\n\n \n\n\n\nÍndice XII Mercáu Polesu – Mercáu Tradicional Asturiano de Güevos Pintos 2026 de Pola de SieroInformación del eventoQué encontrarás en el Mercáu PolesuCartelComo llegar al Mercáu La Pola Siero se encuentra a unos 15 km de Oviedo y 20 km de Gijón.Mercados Medievales 2026: Fechas y Localidades ConfirmadasPara más información puedes consultar :¿Te apuntas? Síguenos y no te pierdas de nada.En Resumen..\n\n\n\n \n\n\n\nXII Mercáu Polesu – Mercáu Tradicional Asturiano de Güevos Pintos 2026 de Pola de Siero\n\n\n\nInformación del evento\n\n\n\n\nEvento: Mercáu Polesu\n\n\n\nEdición: XII\n\n\n\nFechas: 2 al 7 de abril de 2026\n\n\n\nUbicación: Parque Alfonso X El Sabio\n\n\n\nLocalidad: La Pola Siero\, ASTURIAS\n\n\n\nOrganiza :GALAICO EDICIONS\n\nTrini: 661 572 101 EMAIL: galaikocat@gmail.com\n\n\n\n\n\n\n \n\n\n\nMercáu Polesu celebra su XII edición del 2 al 7 de abril de 2026 en el Parque Alfonso X El Sabio de La Pola Siero\, coincidiendo con la popular fiesta de los Güevos Pintos\, una de las tradiciones más queridas de Asturias. 🥚🎨 \n\n\n\nEste mercado tradicional asturiano reúne artesanía\, gastronomía y cultura popular en un ambiente festivo que cada año atrae a miles de visitantes. \n\n\n\n \n\n\n\nQué encontrarás en el Mercáu Polesu\n\n\n\n\n🛍️ Artesanía tradicional\n\n\n\n🍲 Gastronomía asturiana\n\n\n\n🎶 Música y ambiente tradicional\n\n\n\n🎨 Exposición y decoración de güevos pintos\n\n\n\n👨‍👩‍👧 Actividades familiares\n\n\n\n\n \n\n\n\nCartel\n\n\n\n\n\n\n\n \n\n\n\nComo llegar al Mercáu \n\n\n\nLa Pola Siero es la capital del concejo de Siero\, situada en el centro de Asturias. Es una localidad muy conocida por sus fiestas tradicionales\, especialmente la celebración de los Güevos Pintos\, donde se combinan artesanía\, gastronomía y cultura popular asturiana en un ambiente festivo que atrae cada año a miles de visitantes. \n\n\n\nLa Pola Siero se encuentra a unos 15 km de Oviedo y 20 km de Gijón.\n\n\n\n🚗 En coche: acceso rápido por la A-64 y la AS-17.🚆 En tren: línea de cercanías que conecta con Oviedo y Gijón.🚌 En autobús: varias líneas regionales comunican la localidad con las principales ciudades de Asturias. \n\n\n\n\n\n \n\n\n\n \n\n\n\nMercados Medievales 2026: Fechas y Localidades Confirmadas\n\n\n\n\n\n\n\nEspaña cuenta con una de las agendas de ferias temáticas más ricas del mundo\, combinando gastronomía tradicional\, artesanía de autor y espectáculos en vivo. Si buscas un plan diferente para el fin de semana o quieres conocer el patrimonio de una forma única\, esta es tu guía definitiva. Leer más \n\n\n\nPara más información puedes consultar :\n\n\n\n\nPuedes Consultar en esté enlace las  Ferias y Mercados en España\n\n\n\nHaz clic en ESTE enlace :  Conoce los Organizadores de Mercados y Ferias\n\n\n\n\n¿Te apuntas? Síguenos y no te pierdas de nada.\n\n\n\n\nTelegram\n\n\n\nNewsletter\n\n\n\nWhatsApp\n\n\n\nInstagram\n\n\n\nPor supuesto en Facebook\n\n\n\n\nEn Resumen..
URL:https://demercadosmedievales.info/mercadomedieval/xii-mercau-polesu/
LOCATION:La Pola de Siero (Asturias) (***)\, Pola de Siero\, Asturias\, Spain
CATEGORIES:Feria tradicional,Mercado tradicional,Principado de Asturias
ATTACH;FMTTYPE=image/jpeg:https://demercadosmedievales.info/wp-content/uploads/2026/03/polesu_pola_siero_fb.jpg
ORGANIZER;CN="Galaico edicions":MAILTO:galaikocat@gmail.com
GEO:43.3915224;-5.660825
END:VEVENT
BEGIN:VEVENT
DTSTART;TZID=Europe/Madrid:20260411T000000
DTEND;TZID=Europe/Madrid:20260412T235959
DTSTAMP:20260420T151755
CREATED:20260328T132055Z
LAST-MODIFIED:20260328T132056Z
UID:10003203-1775865600-1776038399@demercadosmedievales.info
SUMMARY:Mercado Tradicional de Finestrat 2026 (Alicante)
DESCRIPTION:Mercado Tradicional de Finestrat los días 11 y 12 de abril con artesanía\, ambiente familiar y actividades en el centro histórico. \n\n\n\n \n\n\n\n\n\n\n\n \n\n\n\n \n\n\n\nÍndice Mercado Tradicional de FinestratArtesanos y Mercaderes\, Información básicaCartel Como llegar a Finestrat\, AlicanteMercados Medievales 2026: Fechas y Localidades ConfirmadasPara más información puedes consultar :¿Te apuntas? Síguenos y no te pierdas de nada.En Resumen…\n\n\n\nMercado Tradicional de Finestrat \n\n\n\nLa Fragua de Vulcano organiza por primera vez el Mercado Tradicional de Finestrat (Alicante) municipio de más de 8.000 habitantes \, situado a escasos kilómetros de Benidorm. \n\n\n\nEste Mercado Tradicional aspira a convertirse en un punto de encuentro para vecinos y visitantes\, atrayendo a un numeroso público\, como suele ocurrir en este tipo de eventos de carácter cultural y familiar. \n\n\n\nEl mercado contará con ambientación\, decoración tradicional y  diversas actividades pensadas para todos los públicos\, prestando especial atención al público familiar ya los más pequeños. \n\n\n\nCada artesano participante deberá aportar su propia parada \, cuidando la estética y decoración acorde a la temática tradicional del mercado\, con el fin de crear un conjunto armonioso y atractivo. \n\n\n\nSi es de su interés participar\, solicita información y reserva de plaza a la mayor brevedad posible. \n\n\n\n \n\n\n\nArtesanos y Mercaderes\,  Información básica\n\n\n\n \n\n\n\n\nEvento:  Mercado Tradicional\n\n\n\nFechas:  11 y 12 de Abril 2026\n\n\n\nHorario: \n\n\n\nUbicación:  Centro histórico\n\n\n\nInauguración:  El día 11 de Abril\n\n\n\nProductos permitidos:  Alimentación\, Gastronomía\, Artesanía y complementos.\n\n\n\nServicios incluidos:  Agua\, Luz y Vigilancia Nocturna\n\n\n\nOrganiza :  La Fragua de Vulcano\n\n\n\n📧 lafragua @espectaculosamb.com\n\n\n\n\n \n\n\n\nCartel \n\n\n\n\n\n\n\n \n\n\n\nComo llegar a Finestrat\, Alicante\n\n\n\nFinestrat (Alicante) es un pintoresco municipio de la Marina Baixa\, conocido por su casco antiguo\, sus calles empedradas y sus vistas al Mediterráneo. Se encuentra a pocos minutos de Benidorm\, con fácil acceso por la AP-7 y la N-332\, además de buenas conexiones por carretera desde Alicante y Valencia. \n\n\n\n\n\n \n\n\n\n \n\n\n\nMercados Medievales 2026: Fechas y Localidades Confirmadas\n\n\n\n\n\n\n\nEspaña cuenta con una de las agendas de ferias temáticas más ricas del mundo\, combinando gastronomía tradicional\, artesanía de autor y espectáculos en vivo. Si buscas un plan diferente para el fin de semana o quieres conocer el patrimonio de una forma única\, esta es tu guía definitiva. Leer más \n\n\n\nPara más información puedes consultar :\n\n\n\n\nPuedes Consultar en esté enlace las  Ferias y Mercados en España\n\n\n\nHaz clic en ESTE enlace :  Conoce los Organizadores de Mercados y Ferias\n\n\n\n\n¿Te apuntas? Síguenos y no te pierdas de nada.\n\n\n\n\nTelegram\n\n\n\nNewsletter\n\n\n\nWhatsApp\n\n\n\nInstagram\n\n\n\nPor supuesto en Facebook\n\n\n\n\nEn Resumen…
URL:https://demercadosmedievales.info/mercadomedieval/mercado-tradicional-de-finestrat-2026-alicante/
LOCATION:Finestrat (Alicante) (***)\, en el centro historico\, Finestrat\, Alicante\, España
CATEGORIES:Alicante,Comunidad valenciana,Feria tradicional,Mercado tradicional
ATTACH;FMTTYPE=image/jpeg:https://demercadosmedievales.info/wp-content/uploads/2026/02/tradicional_finestrat_fb-1.jpg
ORGANIZER;CN="La Fragua de Vulcano":MAILTO:lafragua@espectaculosamb.com
GEO:38.3452046;-0.486221
X-APPLE-STRUCTURED-LOCATION;VALUE=URI;X-ADDRESS=Finestrat (Alicante) (***) en el centro historico Finestrat Alicante España;X-APPLE-RADIUS=500;X-TITLE=en el centro historico:geo:-0.486221,38.3452046
END:VEVENT
END:VCALENDAR