BEGIN:VCALENDAR
VERSION:2.0
PRODID:-//Mercados Medievales - ECPv6.15.20//NONSGML v1.0//EN
CALSCALE:GREGORIAN
METHOD:PUBLISH
X-ORIGINAL-URL:https://demercadosmedievales.info
X-WR-CALDESC:Eventos para Mercados Medievales
REFRESH-INTERVAL;VALUE=DURATION:PT1H
X-Robots-Tag:noindex
X-PUBLISHED-TTL:PT1H
BEGIN:VTIMEZONE
TZID:Europe/Madrid
BEGIN:DAYLIGHT
TZOFFSETFROM:+0100
TZOFFSETTO:+0200
TZNAME:CEST
DTSTART:20250330T010000
END:DAYLIGHT
BEGIN:STANDARD
TZOFFSETFROM:+0200
TZOFFSETTO:+0100
TZNAME:CET
DTSTART:20251026T010000
END:STANDARD
BEGIN:DAYLIGHT
TZOFFSETFROM:+0100
TZOFFSETTO:+0200
TZNAME:CEST
DTSTART:20260329T010000
END:DAYLIGHT
BEGIN:STANDARD
TZOFFSETFROM:+0200
TZOFFSETTO:+0100
TZNAME:CET
DTSTART:20261025T010000
END:STANDARD
BEGIN:DAYLIGHT
TZOFFSETFROM:+0100
TZOFFSETTO:+0200
TZNAME:CEST
DTSTART:20270328T010000
END:DAYLIGHT
BEGIN:STANDARD
TZOFFSETFROM:+0200
TZOFFSETTO:+0100
TZNAME:CET
DTSTART:20271031T010000
END:STANDARD
END:VTIMEZONE
BEGIN:VEVENT
DTSTART;TZID=Europe/Madrid:20260313T000000
DTEND;TZID=Europe/Madrid:20260315T235959
DTSTAMP:20260420T111725
CREATED:20260205T104739Z
LAST-MODIFIED:20260205T180455Z
UID:10003197-1773360000-1773619199@demercadosmedievales.info
SUMMARY:Mercado de Durango 2026 ( VIZCAYA )
DESCRIPTION:Del 13 al 15 de marzo\, Durango vuelve a llenarse de vida con una nueva edición del Mercado  de Durango\, un evento ya consolidado que\, año tras año\, reúne artesanía\, gastronomía y comercio en pleno corazón del municipio \n\n\n\n\n\n\n\n \n\n\n\nÍndice Introducción Mercado de Durango 2026Artesanos y Mercaderes\, Información del Mercado de DurangoCartel del Mercado de DurangoSobre la localidad de Durango \, en el el corazón de BizkaiaMercados Medievales 2026: Fechas y Localidades ConfirmadasPara más información puedes consultar :¿Te apuntas? Síguenos y no te pierdas de nada.\n\n\n\nIntroducción Mercado de Durango 2026\n\n\n\nEl Merkado de Durango celebra su 20º aniversario convirtiendo\, una vez más\, el centro de la localidad en un gran punto de encuentro comercial y social. Durante tres días\, vecinos y visitantes podrán disfrutar de un mercado abierto\, variado y pensado para todos los públicos. \n\n\n\nEl evento contará con una amplia oferta de artesanía\, alimentación\, gastronomía y productos variados\, creando un ambiente dinámico y cercano\, ideal tanto para pasear como para descubrir nuevos sabores y creaciones. \n\n\n\n📅 Fechas: del 13 al 15 de marzo🕚 Horario: de 11:00 a 23:00 h📍 Ubicación: Centro de Durango (Bizkaia) \n\n\n\nEl montaje se realizará el día 12 de marzo de 10:00 a 21:00 h y el 13 de marzo de 9:00 a 10:30 h\, mientras que el desmontaje tendrá lugar los días 15 y 16 de marzo. La inauguración oficial será el viernes 13 a las 11:00 h. \n\n\n\nLa organización\, a cargo de E.M.F. Grop\, proporcionará a los participantes seguridad\, publicidad\, aseos\, Cruz Roja\, energía eléctrica y servicios generales\, garantizando así un entorno cómodo y seguro tanto para expositores como para el público. \n\n\n\nLas inscripciones permanecen abiertas hasta el 11 de marzo\, siempre que haya disponibilidad de espacio. \n\n\n\n \n\n\n\nArtesanos y Mercaderes\, Información del Mercado de Durango\n\n\n\n\nEvento:  Mercado de Durango\n\n\n\nFechas:  13 al 15 de Marzo del 2026\n\n\n\nHorario: 11 a 21h\n\n\n\nUbicación:  Centro de Durango ( VIZCAYA )\n\n\n\nMontaje:  12 de marzo de 10:00 a 21:00 h y el 13 de marzo de 9:00 a 10:30 h\n\n\n\nDesmontaje:  el desmontaje tendrá lugar los días 15 y 16 de marzo\n\n\n\nInauguración: viernes 13 a las 11:00 h\n\n\n\nPeriodicidad: Anual\n\n\n\nProductos permitidos: \n\n\n\nServicios incluidos: seguridad\, publicidad\, aseos\, Cruz Roja\, energía eléctrica y servicios generales\n\n\n\nPrecio : \n\n\n\nOrganiza : E.M.F. (Eventos Merkados y Ferias) Información e inscripciones: comercialferias@gmail.com Teléfono / WhatsApp: +34 639 324 293\n\n\n\n\n \n\n\n\nCartel del Mercado de Durango\n\n\n\n\n\n\n\n \n\n\n\nSobre la localidad de Durango \, en el el corazón de Bizkaia\n\n\n\nDurango\, situada en el corazón de Bizkaia\, es una localidad con gran tradición comercial y cultural. Se puede llegar fácilmente en coche por la AP-8\, en tren mediante Euskotren o en autobús desde Bilbao y otras localidades cercanas. El mercado se ubica en pleno centro\, accesible a pie y bien comunicado. \n\n\n\n\n\n \n\n\n\nMercados Medievales 2026: Fechas y Localidades Confirmadas\n\n\n\n\n\n\n\nEspaña cuenta con una de las agendas de ferias temáticas más ricas del mundo\, combinando gastronomía tradicional\, artesanía de autor y espectáculos en vivo. Si buscas un plan diferente para el fin de semana o quieres conocer el patrimonio de una forma única\, esta es tu guía definitiva. Leer más \n\n\n\nPara más información puedes consultar :\n\n\n\n\nPuedes Consultar en esté enlace las  Ferias y Mercados en España\n\n\n\nHaz clic en ESTE enlace :  Conoce los Organizadores de Mercados y Ferias\n\n\n\n\n¿Te apuntas? Síguenos y no te pierdas de nada.\n\n\n\n\nTelegram\n\n\n\nNewsletter\n\n\n\nWhatsApp\n\n\n\nInstagram\n\n\n\nPor supuesto en Facebook
URL:https://demercadosmedievales.info/mercadomedieval/mercado-de-durango-2026-alava/
LOCATION:Durango ( Vizcaya ) (***)\, Durango\, Biscay
CATEGORIES:Euskadi / Pais Vasco,Multisectorial,Vizcaya
ATTACH;FMTTYPE=image/jpeg:https://demercadosmedievales.info/wp-content/uploads/2026/02/mercado_durango_2026_fb.jpg
GEO:43.1581081;-2.6735412
END:VEVENT
BEGIN:VEVENT
DTSTART;TZID=Europe/Madrid:20260313T000000
DTEND;TZID=Europe/Madrid:20260315T235959
DTSTAMP:20260420T111725
CREATED:20260301T103945Z
LAST-MODIFIED:20260302T102752Z
UID:10003274-1773360000-1773619199@demercadosmedievales.info
SUMMARY:Feria Multisectorial Cultural Feria del Toro de Coria 2026 (Cáceres)
DESCRIPTION:La Multisectorial Cultural Feria del Toro de Coria 2026 se celebrará del 13 al 15 de marzo en el Recinto Ferial y\, además\, reunirá durante tres días artesanía\, alimentación\, caza\, pesca y restauración \n\n\n\n\n\n\n\n \n\n\n\nÍndice Feria Multisectorial Cultural Feria del Toro de Coria📌 Información práctica sobre Feria Multisectorial Cultural Feria del ToroCartel Feria Multisectorial Cultural Feria del ToroComo llegar a la Feria Multisectorial Cultural Feria del ToroMercados Medievales 2026: Fechas y Localidades ConfirmadasPara más información puedes consultar :¿Te apuntas? Síguenos y no te pierdas de nada.En Resumen…\n\n\n\n \n\n\n\nFeria Multisectorial Cultural Feria del Toro de Coria\n\n\n\nCoria se prepara para vivir un fin de semana cargado de tradición y actividad comercial con la celebración de la Multisectorial Cultural Feria del Toro. Durante tres días\, el Recinto Ferial se llenará de puestos\, visitantes y un ambiente constante desde la mañana hasta la tarde. \n\n\n\nEl evento contará con una amplia variedad de sectores: alimentación\, artesanía\, ropa de caza\, pesca\, restauración y otros productos vinculados al mundo rural y cultural. Todo ello acompañado de animación y actividades que dinamizan el recinto durante toda la jornada. \n\n\n\nLos expositores dispondrán de stands cubiertos\, carpas\, suministro de agua y luz\, así como seguridad durante el desarrollo de la feria. El montaje se realizará el 12 de marzo por la mañana\, y la inauguración oficial tendrá lugar el 13 de marzo a las 12:00 horas. \n\n\n\nLa organización corre a cargo del Grupo Ceber Tauro\, garantizando una feria estructurada\, con criterios de calidad y equilibrio entre los puestos participantes. \n\n\n\n📞 Información e inscripciones:Teléfonos / WhatsApp: 606 78 27 84 · 680 10 63 30 · 606 10 54 49📧 feriadeltorocoria@gmail.com \n\n\n\n\n\n\n\n📌 Información práctica sobre Feria Multisectorial Cultural Feria del Toro\n\n\n\n📅 Fechas: 13\, 14 y 15 de marzo de 2026🕚 Horario: de 11:00 a 21:00 h📍 Ubicación: Recinto Ferial – Coria (Cáceres) \n\n\n\n🛠 Montaje: 12 de marzo por la mañana📦 Desmontaje: 15 de marzo \n\n\n\n📝 Inscripción: hasta agotar plazas📋 Requisitos: estar al corriente de pago y no repetir tipología de puesto💰 Precio: según bases de participación  \n\n\n\n \n\n\n\nCartel Feria Multisectorial Cultural Feria del Toro\n\n\n\n\n\n\n\n \n\n\n\n \n\n\n\nComo llegar a la Feria Multisectorial Cultural Feria del Toro\n\n\n\nCoria es una de las localidades con mayor peso histórico de Extremadura\, conocida por su muralla romana\, su tradición taurina y su intensa vida cultural. Su recinto ferial acoge cada año eventos que atraen a público de toda la comarca. \n\n\n\nCómo llegar:Coria se encuentra bien comunicada por la EX-108 y la EX-A1\, con acceso desde Plasencia y otras localidades de la provincia. El Recinto Ferial está señalizado y es fácilmente accesible en vehículo. \n\n\n\n\n\n \n\n\n\n \n\n\n\nMercados Medievales 2026: Fechas y Localidades Confirmadas\n\n\n\n\n\n\n\nEspaña cuenta con una de las agendas de ferias temáticas más ricas del mundo\, combinando gastronomía tradicional\, artesanía de autor y espectáculos en vivo. Si buscas un plan diferente para el fin de semana o quieres conocer el patrimonio de una forma única\, esta es tu guía definitiva. Leer más \n\n\n\nPara más información puedes consultar :\n\n\n\n\nPuedes Consultar en esté enlace las  Ferias y Mercados en España\n\n\n\nHaz clic en ESTE enlace :  Conoce los Organizadores de Mercados y Ferias\n\n\n\n\n¿Te apuntas? Síguenos y no te pierdas de nada.\n\n\n\n\nTelegram\n\n\n\nNewsletter\n\n\n\nWhatsApp\n\n\n\nInstagram\n\n\n\nPor supuesto en Facebook\n\n\n\n\nEn Resumen…
URL:https://demercadosmedievales.info/mercadomedieval/feria-multisectorial-cultural-feria-del-toro-de-coria-2026-caceres/
LOCATION:Coria (Cáceres) (***)\, Coria\, Cáceres\, 10800\, Spain
CATEGORIES:Caceres,Extremadura,Multisectorial
ATTACH;FMTTYPE=image/jpeg:https://demercadosmedievales.info/wp-content/uploads/2026/03/feria_coria_fb.jpg
GEO:39.9880324;-6.5369786
END:VEVENT
END:VCALENDAR