BEGIN:VCALENDAR
VERSION:2.0
PRODID:-//Mercados Medievales - ECPv6.15.20//NONSGML v1.0//EN
CALSCALE:GREGORIAN
METHOD:PUBLISH
X-WR-CALNAME:Mercados Medievales
X-ORIGINAL-URL:https://demercadosmedievales.info
X-WR-CALDESC:Eventos para Mercados Medievales
REFRESH-INTERVAL;VALUE=DURATION:PT1H
X-Robots-Tag:noindex
X-PUBLISHED-TTL:PT1H
BEGIN:VTIMEZONE
TZID:Europe/Madrid
BEGIN:DAYLIGHT
TZOFFSETFROM:+0100
TZOFFSETTO:+0200
TZNAME:CEST
DTSTART:20250330T010000
END:DAYLIGHT
BEGIN:STANDARD
TZOFFSETFROM:+0200
TZOFFSETTO:+0100
TZNAME:CET
DTSTART:20251026T010000
END:STANDARD
BEGIN:DAYLIGHT
TZOFFSETFROM:+0100
TZOFFSETTO:+0200
TZNAME:CEST
DTSTART:20260329T010000
END:DAYLIGHT
BEGIN:STANDARD
TZOFFSETFROM:+0200
TZOFFSETTO:+0100
TZNAME:CET
DTSTART:20261025T010000
END:STANDARD
BEGIN:DAYLIGHT
TZOFFSETFROM:+0100
TZOFFSETTO:+0200
TZNAME:CEST
DTSTART:20270328T010000
END:DAYLIGHT
BEGIN:STANDARD
TZOFFSETFROM:+0200
TZOFFSETTO:+0100
TZNAME:CET
DTSTART:20271031T010000
END:STANDARD
END:VTIMEZONE
BEGIN:VEVENT
DTSTART;TZID=Europe/Madrid:20260305T000000
DTEND;TZID=Europe/Madrid:20260308T235959
DTSTAMP:20260420T094310
CREATED:20260306T202032Z
LAST-MODIFIED:20260306T202034Z
UID:10003187-1772668800-1773014399@demercadosmedievales.info
SUMMARY:XXIV Feria Astur-Galaica en Mieres 2026 /Asturias
DESCRIPTION:XXIV  edición de la Feria Astur-Galaica en Mieres del Camino del 5 al 8 de marzo de 2026 con tradición\, puestos y ambiente cultural en Asturias. \n\n\n\n\n\n\n\n \n\n\n\n \n\n\n\nXXIV Feria Astur-Galaica en Mieres del Camino\n\n\n\nDel 5 al 8 de marzo de 2026\, Mieres del Camino (Asturias) acoge una nueva edición de la Feria Astur-Galaica\, una cita ya consolidada que combina tradición\, ambiente celta y encuentro cultural en pleno corazón de la villa. \n\n\n\n \n\n\n\nÍndiceXXIV Feria Astur-Galaica en Mieres del CaminoFeria Astur-Galaica en Mieres: donde la tradición cobra vidaArtesanos y Mercaderes \, Información básicaCartel Feria Astur-Galaica en MieresSobre Mieres del Camino\, punto de encuentro y tradiciónMercados Medievales 2026: Fechas y Localidades ConfirmadasPara más información puedes consultar :¿Te apuntas? Síguenos y no te pierdas de nada.En Resumen…\n\n\n\n \n\n\n\nFeria Astur-Galaica en Mieres: donde la tradición cobra vida\n\n\n\nLa XXIV Feria Asturgalaica regresa a Mieres del Camino para llenar el Parque Jovellanos de historia\, cultura y ambiente festivo durante cuatro intensos días. Este evento\, ya todo un referente en Asturias\, reúne a artesanos\, mercaderes y público en un espacio abierto y muy accesible. \n\n\n\nEl mercado contará con punto de luz para los puestos y servicio de seguridad\, garantizando así comodidad y tranquilidad tanto para participantes como para visitantes. Asturgalaica es una feria pensada para disfrutar con calma\, pasear\, descubrir productos únicos y dejarse llevar por una atmósfera cargada de tradición. \n\n\n\nLa organización invita a artesanos y participantes interesados a ponerse en contacto directamente para ampliar información y resolver cualquier duda sobre la feria. \n\n\n\n \n\n\n\nArtesanos y Mercaderes \, Información básica\n\n\n\n\nEvento : Feria Astur-Galaica\n\n\n\nEdición : XXIV \n\n\n\nLocalidad y Provincia : Mieres del camino\,  ASTURIAS \n\n\n\nUbicación : Parque Jovellanos \n\n\n\nFechas : 5\,6\,7\,8 de marzo 2026\n\n\n\nContara con : Punto de luz y seguridad \n\n\n\nOrganiza : Belen Fernandez Novo\n\nContacto:  675630797 / 629422982 Archy\n\n\n\n\n\n\n \n\n\n\nCartel Feria Astur-Galaica en Mieres\n\n\n\n\n\n\n\n \n\n\n\nSobre Mieres del Camino\, punto de encuentro y tradición\n\n\n\nMieres del Camino\, en el centro de Asturias\, es una localidad con gran tradición cultural y excelente comunicación. Se puede llegar fácilmente por carretera desde Oviedo y Gijón a través de la A-66\, así como en tren gracias a sus buenas conexiones ferroviarias. \n\n\n\n\n\nFeria Astur-Galaica en Mieres\n\n\n\n \n\n\n\nMercados Medievales 2026: Fechas y Localidades Confirmadas\n\n\n\n\n\n\n\nEspaña cuenta con una de las agendas de ferias temáticas más ricas del mundo\, combinando gastronomía tradicional\, artesanía de autor y espectáculos en vivo. Si buscas un plan diferente para el fin de semana o quieres conocer el patrimonio de una forma única\, esta es tu guía definitiva. Leer más \n\n\n\nPara más información puedes consultar :\n\n\n\n\nPuedes Consultar en esté enlace las  Ferias y Mercados en España\n\n\n\nHaz clic en ESTE enlace :  Conoce los Organizadores de Mercados y Ferias\n\n\n\n\n¿Te apuntas? Síguenos y no te pierdas de nada.\n\n\n\n\nTelegram\n\n\n\nNewsletter\n\n\n\nWhatsApp\n\n\n\nInstagram\n\n\n\nPor supuesto en Facebook\n\n\n\n\nEn Resumen…\n\n\n\n🌿🔥 XXIV Feria Astur-Galaica – Mieres 2026 🔥🌿 \n\n\n\n📅 5\, 6\, 7 y 8 de marzo📍 Parque Jovellanos – Mieres del Camino (Asturias) \n\n\n\nTradición\, cultura y ambiente único en una feria ya imprescindible.🔌 Punto de luz | 🛡️ Seguridad
URL:https://demercadosmedievales.info/mercadomedieval/xxiv-feria-astur-galaica-en-mieres-2026-asturias/
LOCATION:Mieres del Camino (Asturias) *\, Mieres\, Asturias\, España
CATEGORIES:Multisectorial,Principado de Asturias
ATTACH;FMTTYPE=image/jpeg:https://demercadosmedievales.info/wp-content/uploads/2026/01/feria_atsur_galaica_fb.jpg
ORGANIZER;CN="Belen Fernandez Novo":MAILTO:danafn@hotmail.es
END:VEVENT
BEGIN:VEVENT
DTSTART;TZID=Europe/Madrid:20260306T000000
DTEND;TZID=Europe/Madrid:20260308T235959
DTSTAMP:20260420T094310
CREATED:20260109T115935Z
LAST-MODIFIED:20260109T120536Z
UID:10003111-1772755200-1773014399@demercadosmedievales.info
SUMMARY:Nuevo: 41ª Feria de El Ángel en Fuentepelayo | Segovia 2026
DESCRIPTION:Un año más\, queda abierto el plazo de inscripción para la 41ª edición de la Feria de El Ángel de Fuentepelayo desde el 1 de enero y hasta el 31 de enero de 2026. \n\n\n\n\n\n\n\n \n\n\n\nFeria de El Ángel\n\n\n\nInformación básica : \n\n\n\nEvento: Feria de El Ángel – 41ª ediciónFechas: 06 al 08 de marzo del 2026 (inscripciones del 1 al 31 de enero de 2026)Horario: Según programación oficialUbicación: Pabellones feriales de Fuentepelayo (SEGOVIA)Montaje: Según indicaciones de la organizaciónDesmontaje: Según indicaciones de la organizaciónInauguración: Por confirmarPeriodicidad: AnualProductos permitidos: Maquinaria agrícola y ganadera\, artesanía\, alimentación y otros sectoresServicios incluidos: Pabellones acondicionados\, organización\, promoción del eventoOrganiza: Ayuntamiento de Fuentepelayo \n\n\n\nEl Ayuntamiento de Fuentepelayo\, está organizando la Feria de El Ángel \, que se celebrará los días 6\,7 y 8 de marzo de 2026 \, en su 41ª Edición \n\n\n\nAl igual que en años anteriores habrá exposición de MAQUINARIA AGRÍCOLA\, EQUIPAMIENTOS GANADEROS Y VEHÍCULOS A MOTOR\, así como cuantos productos de tipo INDUSTRIAL Y COMERCIAL se puedan ofrecer al mercado\, sin olvidar los de carácter ARTESANAL Y ALIMENTICIO\, en cuyo caso es necesario estar en posesión de todos los permisos sanitarios reglamentarios. \n\n\n\nDeben remitir antes del día 31 de enero: \n\n\n\n\nLa solicitud de inscripción adjunta para participar en el certamen junto con el justificante de pago\, ambos documentos deben ir al mismo nombre.\n\n\n\nTengan en cuenta que a los precios de la tabla hay que añadir el 10 % de IVA.\n\n\n\nEl logotipo de la empresa para incluirlo en el catálogo de la Feria y en la megafonía.\n\n\n\nAdemás\, nos pueden mandar las sugerencias que crean oportunas para ayudarnos a mejorar en lo posible la organización.\n\n\n\n\nSe ruega respeten el plazo expresado\, ya que no será posible aceptar ninguna inscripción y logotipo recibidos después de la fecha indicada\, a efectos de agilizar las gestiones oportunas para ofrecerles el mejor servicio. \n\n\n\n📝 Novedad en el proceso de inscripción 2026\n\n\n\nComo principal novedad\, en esta edición la inscripción deberá realizarse preferentemente por vía telemática\, a través de la sede electrónica del Ayuntamiento de Fuentepelayo\, accediendo con certificado digital al siguiente enlace oficial: \n\n\n\n👉 https://fuentepelayo.sedelectronica.es/catalog/tw/ebfa98d2-ae5f-4c8f-a500-b14d87451d86 \n\n\n\nNo obstante\, las solicitudes también podrán presentarse de forma presencial en las oficinas del Ayuntamiento\, en horario de 9:00 a 14:00 h\, siempre dentro del plazo establecido.⚠️ No se admitirán solicitudes enviadas por correo electrónico. \n\n\n\nEl Ayuntamiento se reserva el derecho de admisión y antes del 25 de febrero notificará a todos los expositores las solicitudes de inscripciones que han sido admitidas y la ubicación correspondiente en el Recinto Ferial. \n\n\n\n \n\n\n\nBASES DE PARTICIPACIÓN en la Feria de El Ángel\n\n\n\nFECHAS Y HORARIOS1.Feria de El Ángel se celebrará en el recinto ferial habilitado al efecto en Fuentepelayo\, durante los días 6\,7 Y 8 de marzo de 2026.**La inauguración y los horarios se les comunicarán junto con la carta de admisión ** \n\n\n\nINSCRIPCIÓN en la Feria de El Ángel2.Quienes deseen concurrir como expositores\, lo solicitarán mediante la solicitud de Licencia de Ocupación a través de la sede electrónica y adjuntar el justificante de pago. \n\n\n\n3.Las solicitudes deberán presentarse en las Oficinas Municipales del Ayuntamiento de Fuentepelayo\, Plaza Mayor 1\, 40260 Fuentepelayo (Segovia)\, teléfono 921.57.40.00\, o a través de la sede electrónica https://fuentepelayo.sedelectronica.es/info.0. \n\n\n\n4.Plazo de presentación: hasta las 14:00 horas del día 31 de enero de 2026. \n\n\n\n5.El abono de la tarifa de inscripción se realizará con anterioridad a la presentación de la solicitud de participación. El justificante de pago de la tarifa debe adjuntarse a la solicitud de inscripción\, especificando en el concepto de pago el mismo nombre que aparece en la solicitud de inscripción.La inscripción no será efectiva hasta que se acredite el abono de la tarifa correspondiente. \n\n\n\n6.En todo caso\, el abono de la tarifa de inscripción no supone reserva de stand\, teniendo un carácter condicional a la existencia de espacios disponibles. \n\n\n\n7.En el caso de que no se admitiera la solicitud por cuestión de espacio disponible\, el solicitante quedará en reserva hasta el momento de celebración de la feria. Si\, finalmente\, no pudiera participar en la Feria\, tendrá derecho al retorno de la cantidad satisfecha. \n\n\n\n8.Los participantes admitidos\, no tendrán derecho al retorno de la cantidad satisfecha si\, reservada su plaza\, deciden no concurrir a la Feria. \n\n\n\n9.Las solicitudes de participación que correspondan a expositores que hayan concurrido a la Feria en otras ediciones\, tendrán derecho a la reserva de espacio y preferencia para la ampliación o cambio de lugar\, con arreglo a las disponibilidades vacantes que se hubieren producido\, y siempre que esto sea posible. \n\n\n\n10.La Organización resolverá inapelablemente sobre las solicitudes de espacio y ubicación\, sin exponer las razones de su acuerdo. \n\n\n\n11.Las anulaciones o renuncias a participar deberán comunicarse al Ayuntamiento de Fuentepelayo con anterioridad al 10 de febrero de 2026. En caso contrario se perderá el derecho a devolución de los pagos efectuados. \n\n\n\n12.Ninguna instalación podrá ser cedida por los expositores a un usuario distinto del que hubiese realizado la inscripción. \n\n\n\n13.Los expositores especificarán los productos a exponer\, tipo de maquinaria\, mercancías\, servicios\, etc… e indicarán las medidas aproximadas de los elementos con el fin de dotar de los espacios más idóneos\, en la medida de lo posible (siempre teniendo en cuenta el punto 6º y 7º de las presentes bases). \n\n\n\n14.No se permitirá la instalación de ningún tipo de producto\, tanto en el Recinto Ferial como las áreas destinadas al mercadillo\, sin el cumplimiento de los requisitos aquí expresados. \n\n\n\n15.La Organización atenderá y resolverá las incidencias no previstas en las presentes bases. \n\n\n\n16.El Comité Organizador podrá rescindir la inscripción por alguna de las siguientes causas: \n\n\n\n\nFalta de abono en la cuota establecida.\n\n\n\nExposición de producto diferente al referido en la solicitud.\n\n\n\nFalta de ocupación del stand según lo señalado.\n\n\n\nIncumplimiento de lo establecido por la Organización.\n\n\n\n\n17.Los expositores deberán hacerse cargo\, previa formulación de la solicitud pertinente\, de las licencias\, impuestos\, guías\, tasas\, que les fueren perceptivos para la intervención en la Feria. \n\n\n\n \n\n\n\nFECHAS Y HORARIOS DE MONTAJE Y DESMONTAJESe comunicarán más adelante. \n\n\n\nESTRUCTURA DE LOS PABELLONESEstá prohibido pintar\, perforar\, pegar con cintas adhesivas fuertes o clavar en la estructura de los pabellones\, así como en los paneles de los stands\, siendo la empresa expositora responsable de los daños ocasionados como consecuencia de los desperfectos que\, por estas acciones\, se pudieran ocasionar a los distintos elementos. \n\n\n\nCATÁLOGOTodas las empresas expositoras\, que hayan sido admitidas\, si cumplimentan la solicitud de inscripción y presentan su logo en las fechas previstas\, figurarán en el catálogo del certamen sin coste alguno. Cada expositor tiene derecho a un ejemplar gratuito de dicho catálogo. \n\n\n\nMás información : \n\n\n\nPl.Mayor 1 40260 Fuentepelayo (Segovia)Tel.921574000  CIF.P4010000JWeb:www.fuentepelayo.es  e:mail: feriadelangel@fuentepelayo.es \n\n\n\n \n\n\n\n\nDocumentos adjuntos que te puedes descargar :\n\nCARTA EXPOSITORES 2026 (PDF\, 222 KB)\n\n\n\nBASES EXPOSITORES FERIA 2026 (PDF\, 229 KB)\n\n\n\nANEXO I LISTADO DE PRECIOS (PDF\, 290 KB)\n\n\n\n\n\n\n\n\n\n\n \n\n\n\nFuentepelayo\, tradición ferial y corazón agrícola de Segovia\n\n\n\nRecinto Ferial de Fuentepelayo ‘La Panera’\n\n\n\nUbicado en la C. Ferial de Fuentepelayo. La Muestra se reparte por más de 12.000 m² de espacio exterior\, 3.000 m² de recintos cubiertos\, y 5.000 m² de mercadillo. \n\n\n\nEn total\, unos 20.000 m² de exposición en la que los sectores fundamentales\, agricultura y ganadería\, muestran las últimas innovaciones en maquinaria de toda índole y en servicios para el desarrollo de estos campos. Pero también para actividades comerciales de diversa índole\, ya que en las últimas ediciones se ha acentuado el carácter multisectorial de la muestra. \n\n\n\nFuentepelayo es un municipio de la provincia de Segovia\, estrechamente vinculado al sector agrícola y ganadero\, y con una sólida tradición ferial. La Feria de El Ángel es uno de los principales motores económicos y sociales de la localidad\, atrayendo cada año a expositores y visitantes de toda la región y reforzando su papel como punto de encuentro del mundo rural. \n\n\n\n\n\n \n\n\n\nMercados Medievales 2026: Fechas y Localidades Confirmadas\n\n\n\n\n\n\n\nEspaña cuenta con una de las agendas de ferias temáticas más ricas del mundo\, combinando gastronomía tradicional\, artesanía de autor y espectáculos en vivo. Si buscas un plan diferente para el fin de semana o quieres conocer el patrimonio de una forma única\, esta es tu guía definitiva. Leer más \n\n\n\nPara más información puedes consultar :\n\n\n\n\nPuedes Consultar en esté enlace las  Ferias y Mercados en España\n\n\n\nHaz clic en ESTE enlace :  Conoce los Organizadores de Mercados y Ferias\n\n\n\n\n¿Te apuntas? Síguenos y no te pierdas de nada.\n\n\n\n\nTelegram\n\n\n\nNewsletter\n\n\n\nWhatsApp\n\n\n\nInstagram\n\n\n\nPor supuesto en Facebook\n\n\n\n\nEn Resumen…
URL:https://demercadosmedievales.info/mercadomedieval/41a-feria-de-el-angel-en-fuentepelayo-segovia-2026/
LOCATION:Fuentepelayo (Segovia)\, Fuentepelayo\, Segovia\, España
CATEGORIES:Castilla y Leon,Feria comercial,Multisectorial,Segovia
ATTACH;FMTTYPE=image/jpeg:https://demercadosmedievales.info/wp-content/uploads/2026/01/feria_fuentepelayo_fb.jpg
END:VEVENT
BEGIN:VEVENT
DTSTART;TZID=Europe/Madrid:20260308T000000
DTEND;TZID=Europe/Madrid:20260308T235959
DTSTAMP:20260420T094310
CREATED:20260304T183445Z
LAST-MODIFIED:20260305T194914Z
UID:10003281-1772928000-1773014399@demercadosmedievales.info
SUMMARY:Mercado La Muestra El Cañaveral - Vilcalvaro\, Madrid - 08 de Marzo 2026
DESCRIPTION:El Mercado La Muestra El Cañaveral se celebrará el 8 de marzo de 2026 y\, además\, llenará la Avenida Gran Vía Provisional de Vicálvaro de gastronomía\, artesanía\, música y ambiente familiar \n\n\n\n\n\n\n\n \n\n\n\nÍndice Mercado La Muestra El Cañaveral📌 Información prácticaCartel del Mercado La Muestra El Cañaveral Donde se ubicará y como llegar al Mercado La Muestra El CañaveralMercados Medievales 2026: Fechas y Localidades ConfirmadasPara más información puedes consultar :¿Te apuntas? Síguenos y no te pierdas de nada.En Resumen…\n\n\n\n \n\n\n\nMercado La Muestra El Cañaveral\n\n\n\nEl próximo 8 de marzo de 2026\, El Cañaveral volverá a convertirse en punto de encuentro para vecinos y visitantes con una nueva edición del Mercado La Muestra. \n\n\n\nDurante la jornada\, de 10:00 a 16:00 horas\, el público podrá disfrutar de puestos de gastronomía\, alimentación\, artesanía\, moda y música en directo\, creando un ambiente cercano y animado al aire libre. \n\n\n\nEste mercado\, que se celebra el segundo domingo de cada mes\, se consolida como una cita estable para emprendedores y marcas locales que buscan visibilidad en un barrio en plena expansión. \n\n\n\nLos expositores dispondrán de espacio habilitado\, aseos\, música ambiente y difusión publicitaria para reforzar su presencia durante el evento. \n\n\n\nLa organización corre a cargo de Gescomer\, especializada en mercados urbanos periódicos en la Comunidad de Madrid. \n\n\n\n\n\n\n\n📌 Información práctica\n\n\n\n📅 Fecha: 8 de marzo de 2026🕙 Horario: 10:00 a 16:00📍 Ubicación: Avenida Gran Vía Provisional – Vicálvaro (MADRID) \n\n\n\n🛠 Montaje y desmontaje: 8 de marzo📝 Plazo de inscripción: hasta el 4 de marzo📋 Requisito: estar dado de alta como autónomo💰 Precio: 65 € espacio 3×3 \n\n\n\n📞 Información e inscripciones: GESCOMER📱 WhatsApp: 604 97 97 79📧 mercadoslamuestra@gmail.com \n\n\n\nCartel del Mercado La Muestra El Cañaveral \n\n\n\n\n\n\n\n \n\n\n\nDonde se ubicará y como llegar al Mercado La Muestra El Cañaveral\n\n\n\nEl barrio de El Cañaveral\, en Vicálvaro\, es una de las zonas residenciales de mayor crecimiento en Madrid. Su carácter moderno y familiar lo convierte en el entorno ideal para un mercado urbano dinámico. \n\n\n\n📍 Ubicación: Avenida Gran Vía Provisional de Vicálvaro \n\n\n\n🛍️ El Cañaveral vive el comercio en la calle. \n\n\n\nCómo llegar:Acceso por la M-45 y A-3\, con conexión en autobús urbano desde el centro de Madrid y barrios cercanos. \n\n\n\n\n\n \n\n\n\n \n\n\n\n \n\n\n\nMercados Medievales 2026: Fechas y Localidades Confirmadas\n\n\n\n\n\n\n\nEspaña cuenta con una de las agendas de ferias temáticas más ricas del mundo\, combinando gastronomía tradicional\, artesanía de autor y espectáculos en vivo. Si buscas un plan diferente para el fin de semana o quieres conocer el patrimonio de una forma única\, esta es tu guía definitiva. Leer más \n\n\n\nPara más información puedes consultar :\n\n\n\n\nPuedes Consultar en esté enlace las  Ferias y Mercados en España\n\n\n\nHaz clic en ESTE enlace :  Conoce los Organizadores de Mercados y Ferias\n\n\n\n\n¿Te apuntas? Síguenos y no te pierdas de nada.\n\n\n\n\nTelegram\n\n\n\nNewsletter\n\n\n\nWhatsApp\n\n\n\nInstagram\n\n\n\nPor supuesto en Facebook\n\n\n\n\nEn Resumen…
URL:https://demercadosmedievales.info/mercadomedieval/mercado-la-muestra-el-canaveral-vilcalvaro-madrid-08-de-marzo-2026/
LOCATION:Vicálvaro (Madrid capital) (***)\, Distrito de Vicálvaro\, Madrid\, 28032
CATEGORIES:Comunidad de Madrid,Madrid Capital,Multisectorial
ATTACH;FMTTYPE=image/jpeg:https://demercadosmedievales.info/wp-content/uploads/2026/03/la_muestra_canaveral_fb.jpg
ORGANIZER;CN="Gescomer":MAILTO:mercadoslamuestra@gmail.com
END:VEVENT
END:VCALENDAR