BEGIN:VCALENDAR
VERSION:2.0
PRODID:-//Mercados Medievales - ECPv6.15.20//NONSGML v1.0//EN
CALSCALE:GREGORIAN
METHOD:PUBLISH
X-WR-CALNAME:Mercados Medievales
X-ORIGINAL-URL:https://demercadosmedievales.info
X-WR-CALDESC:Eventos para Mercados Medievales
REFRESH-INTERVAL;VALUE=DURATION:PT1H
X-Robots-Tag:noindex
X-PUBLISHED-TTL:PT1H
BEGIN:VTIMEZONE
TZID:Europe/Madrid
BEGIN:DAYLIGHT
TZOFFSETFROM:+0100
TZOFFSETTO:+0200
TZNAME:CEST
DTSTART:20220327T010000
END:DAYLIGHT
BEGIN:STANDARD
TZOFFSETFROM:+0200
TZOFFSETTO:+0100
TZNAME:CET
DTSTART:20221030T010000
END:STANDARD
BEGIN:DAYLIGHT
TZOFFSETFROM:+0100
TZOFFSETTO:+0200
TZNAME:CEST
DTSTART:20230326T010000
END:DAYLIGHT
BEGIN:STANDARD
TZOFFSETFROM:+0200
TZOFFSETTO:+0100
TZNAME:CET
DTSTART:20231029T010000
END:STANDARD
BEGIN:DAYLIGHT
TZOFFSETFROM:+0100
TZOFFSETTO:+0200
TZNAME:CEST
DTSTART:20240331T010000
END:DAYLIGHT
BEGIN:STANDARD
TZOFFSETFROM:+0200
TZOFFSETTO:+0100
TZNAME:CET
DTSTART:20241027T010000
END:STANDARD
BEGIN:DAYLIGHT
TZOFFSETFROM:+0100
TZOFFSETTO:+0200
TZNAME:CEST
DTSTART:20250330T010000
END:DAYLIGHT
BEGIN:STANDARD
TZOFFSETFROM:+0200
TZOFFSETTO:+0100
TZNAME:CET
DTSTART:20251026T010000
END:STANDARD
BEGIN:DAYLIGHT
TZOFFSETFROM:+0100
TZOFFSETTO:+0200
TZNAME:CEST
DTSTART:20260329T010000
END:DAYLIGHT
BEGIN:STANDARD
TZOFFSETFROM:+0200
TZOFFSETTO:+0100
TZNAME:CET
DTSTART:20261025T010000
END:STANDARD
BEGIN:DAYLIGHT
TZOFFSETFROM:+0100
TZOFFSETTO:+0200
TZNAME:CEST
DTSTART:20270328T010000
END:DAYLIGHT
BEGIN:STANDARD
TZOFFSETFROM:+0200
TZOFFSETTO:+0100
TZNAME:CET
DTSTART:20271031T010000
END:STANDARD
END:VTIMEZONE
BEGIN:VEVENT
DTSTART;TZID=Europe/Madrid:20260220T000000
DTEND;TZID=Europe/Madrid:20260222T235959
DTSTAMP:20260420T034622
CREATED:20260117T104105Z
LAST-MODIFIED:20260117T111625Z
UID:10003140-1771545600-1771804799@demercadosmedievales.info
SUMMARY:Feria de Esoterismo y Brujería de Vegadeo 2026 (Asturias)
DESCRIPTION:Del 20 al 22 de febrero de 2026\, Vegadeo acoge la Feria de Esoterismo y Brujería\, un evento que\, además\, convertirá el Parque Ferial en un punto de encuentro para quienes sienten curiosidad por el mundo espiritual\, lo alternativo y lo misterioso. \n\n\n\n\n\n\n\n \n\n\n\n \n\n\n\nUn encuentro donde lo místico cobra vida\n\n\n\nLa Feria de Esoterismo y Brujería de Vegadeo se consolida como una cita singular dentro del calendario ferial asturiano. A lo largo del evento\, el Parque Ferial de Vegadeo reunirá a profesionales y expositores especializados en esoterismo\, espiritualidad\, minerales\, rituales y productos alternativos\, creando un entorno lleno de simbolismo y misterio. \n\n\n\n\nEvento: Feria de Esoterismo y Brujería\n\n\n\nFechas: 20\, 21 y 22 de febrero de 2026\n\n\n\nHorario: de 10:30 a 21:00 h\n\n\n\nUbicación: Parque Ferial de Vegadeo (ASTURIAS)\n\n\n\nInscripciones: por correo electrónico hasta completar plazas\n\n\n\nOrganizador de la Feria de Esoterismo y Brujería: ARIANRHOD EVENTOS\n\n\n\nEmail: comercialeventostematicos@gmail.com\n\n\n\nMás información: arianrhodartesania.com/nuestros-eventos\n\n\n\n\n \n\n\n\nFeria de Esoterismo y Brujería\n\n\n\n \n\n\n\nVegadeo\, tradición ferial a orillas del Eo\n\n\n\nVegadeo es una localidad del occidente asturiano situada junto a la ría del Eo\, conocida por su tradición ferial y su papel como punto de encuentro comercial y cultural en la comarca. Cuenta con buenos accesos por carretera desde Galicia y Asturias\, especialmente a través de la N-640 y la A-8\, que facilitan la llegada al municipio. \n\n\n\n\n\n \n\n\n\n \n\n\n\nMercados Medievales 2026: Fechas y Localidades Confirmadas\n\n\n\n\n\n\n\nEspaña cuenta con una de las agendas de ferias temáticas más ricas del mundo\, combinando gastronomía tradicional\, artesanía de autor y espectáculos en vivo. Si buscas un plan diferente para el fin de semana o quieres conocer el patrimonio de una forma única\, esta es tu guía definitiva. Leer más \n\n\n\nPara más información puedes consultar :\n\n\n\n\nPuedes Consultar en esté enlace las  Ferias y Mercados en España\n\n\n\nHaz clic en ESTE enlace :  Conoce los Organizadores de Mercados y Ferias\n\n\n\n\n¿Te apuntas? Síguenos y no te pierdas de nada.\n\n\n\n\nTelegram\n\n\n\nNewsletter\n\n\n\nWhatsApp\n\n\n\nInstagram\n\n\n\nPor supuesto en Facebook\n\n\n\n\nEn Resumen…
URL:https://demercadosmedievales.info/mercadomedieval/feria-de-esoterismo-y-brujeria-de-vegadeo-2026-asturias/
LOCATION:Vegadeo (Asturias)\, Vegadeo\, Asturias\, España
CATEGORIES:Feria esotérica,Principado de Asturias
ATTACH;FMTTYPE=image/jpeg:https://demercadosmedievales.info/wp-content/uploads/2026/01/brujeria_vegadeo_2026_fb.jpg
ORGANIZER;CN="Arianrhod Eventos":MAILTO:comercialeventostematicos@gmail.com
END:VEVENT
BEGIN:VEVENT
DTSTART;TZID=Europe/Madrid:20250718T000000
DTEND;TZID=Europe/Madrid:20250720T235959
DTSTAMP:20260420T034622
CREATED:20250502T181906Z
LAST-MODIFIED:20250502T182359Z
UID:10002470-1752796800-1753055999@demercadosmedievales.info
SUMMARY:La Feria Esotérica con Mercado llega a Los Narejos este julio 2025
DESCRIPTION:La Feria Esotérica con Mercado se celebrará los días 18\, 19 y 20 de julio de 2025 en el Centro Cultural Las Claras\, en Los Narejos (Los Alcázares\, Murcia). \n\n\n\n\n\n\n\n¡Inscripciones abiertas para artesanos y mercaderes!\n\n\n\nHaz clic en este enlace : Mercados medievales en LA REGIÓN DE MURCIA\n\n\n\nConsulta el calendario completo del mes de JULIO\n\n\n\n \n\n\n\nFeria Esotérica con Mercado en Los Narejos 2025\n\n\n\n \n\n\n\n\n\n\n\n \n\n\n\n \n\n\n\nEvento \n\n\n\nTítulo: Feria Esotérica con Mercado en Los Narejos 2025Fecha: 18\, 19 y 20 de julio de 2025Horario: 11:00 a 14:30 y de 17:00 a 00:00Ubicación: Centro Cultural Las Claras\, Los Narejos (Los Alcázares\, Murcia)Descripción: Descubre el mundo del crecimiento personal en la Feria Esotérica 2025. Durante tres días\, disfruta de productos esotéricos\, alimentación consciente\, artesanía\, talleres\, charlas y masterclass en un entorno mágico.  \n\n\n\nOrganiza:  \n\n\n\n\n\nLocalización :\n\n\n\nCentro Cultural Las Claras\, Los Narejos (Los Alcázares\, Murcia) \n\n\n\n\n\n \n\n\n\nPara más información puedes consultar : \n\n\n\n\nPuedes Consultar en esté enlace las Ferias y Mercados en España\n\n\n\nHaz clic en ESTE enlace :  Conoce los Organizadores de Mercados y Ferias\n\n\n\n\n¿Te apuntas? Dale follow y no te lo pierdas.\n\n\n\n\nTelegram: Recibe nuestras noticias y contenido exclusivo (clic aquí).\n\n\n\nNewsletter: Recibe un correos con nuestras últimas noticias (clic aquí).\n\n\n\nWhatsApp: Suscríbete para seguirnos en nuestro canal (clic aquí).\n\n\n\nInstagram: Síguenos en Instagram ( clic aquí )\n\n\n\n\nEn Resumen\n\n\n\nFeria esotérica y mercado alternativo en Los Narejos (Murcia)\, del 18 al 20 de julio. Artesanía\, talleres\, charlas\, alimentación y más.
URL:https://demercadosmedievales.info/mercadomedieval/la-feria-esoterica-con-mercado-llega-a-los-narejos-este-julio-2025/
LOCATION:Los Alcázares (Murcia) (***)\, Los Alcázares\, Murcia
CATEGORIES:Feria esotérica,Mercado Artesanal,Region de Murcia
ATTACH;FMTTYPE=image/jpeg:https://demercadosmedievales.info/wp-content/uploads/2025/05/1200-feria-vilaminas.jpg
ORGANIZER;CN="Vil%C3%A1nimas":MAILTO:infovilanimas@gmail.com
GEO:37.7505094;-0.8476651
END:VEVENT
BEGIN:VEVENT
DTSTART;TZID=Europe/Madrid:20241129T000000
DTEND;TZID=Europe/Madrid:20241201T235959
DTSTAMP:20260420T034622
CREATED:20241026T085042Z
LAST-MODIFIED:20241026T113353Z
UID:10001869-1732838400-1733097599@demercadosmedievales.info
SUMMARY:II Feria Esotérica de Puertollano 2024 (Ciudad Real)
DESCRIPTION:Feria de Esoterismo y Brujería en Vegadeo del 20 al 22 de febrero de 2026 en el Parque Ferial. Ambiente místico y alternativo.  \n\n\n \n\n\n\n\n\n\n\nFerias de NavidadLlegan las fechas de los mercados navideños\,  consulta el calendario de Ferias de navidad .\n  \nII Feria Esotérica de Puertollano\n \nInformación básica del Evento\nLa fecha de celebración será29\, 30 de Noviembre y 1 de Diciembre del  2024Hasta que fecha se pueden inscribir los artesanos y mercaderes ?3 de NoviembreEl lugar de celebración seráMuseo Cristina García Rodero Estará ubicado enPuertollano ( CIUDAD REAL ) Cuando será el MontajeViernes 29 de 8h a 14hSerá inaugurado el díaViernes 29 a las 17hServicios que proporcionara el organizador a los artesanos y mercaderes participantes SeguridadAguaElectricidad \nOrganizador\nAACC Luz del AlmaInformación e InscripcionesWhatsApp : 633 435 863 Email de contacto :  centroluzdelalma@outlook.es Requisitos de participación ?Stands con productos relacionados con esoterismo o artesanía.Precio del metro lineal\, caseta de madera\, o de la carpa ?2×2: 100€3×2: 150€4×2: 200€ \nPara más Información e Inscripciones: \nMás fechas  Puedes conocer mas ferias y mercados en está provincia\, consultando nuestra sección de Eventos en Ciudad Real \nOtros eventos del organizadorConsulta Aquí otras ferias y mercados que organizará la empresa AACC Luz del Alma \notros mercados temáticos y FeriasSi quieres conocer cuando se realizan más ferias y mercados\, puedes consultarlos visitando nuestro   Calendario de Eventos \nCalendario 2024\nCalendario 2025\nSobre los Mercados Medievales\nLas ferias medievales son eventos que recrean la atmósfera de la Edad Media. Por lo general\, se llevan a cabo en pueblos o ciudades\, y presentan puestos de vendedores que venden artesanías\, alimentos y bebidas. También puede haber entretenimiento\, como justas\, música y baile. \nTags:  Feria esoterica\,Puertollano\,Castilla La Mancha\,Feria Medieval\,Convocatoria\,\,2024\,España  \n\n\n\n\n\n\n\nOrganizador\n\n\n\n\n\nLocalización\n\n\n\nPuertollano es un municipio y localidad española de la provincia de Ciudad Real\, en la comunidad autónoma de Castilla-La Mancha. Con una población de 45 127 habitantes\, se trata del séptimo municipio más poblado de la región
URL:https://demercadosmedievales.info/mercadomedieval/ii-feria-esoterica-de-puertollano-2024-ciudad-real/
LOCATION:Puertollano (Ciudad Real) (***)\, Puertollano\, Ciudad Real\, 13500\, España
CATEGORIES:Ciudad Real,Feria esotérica
ATTACH;FMTTYPE=image/jpeg:https://demercadosmedievales.info/wp-content/uploads/2024/10/feria_esoterica_puertollano-2024-f.jpg
ORGANIZER;CN="AACC Luz del Alma":MAILTO:centroluzdelalma@outlook.es
GEO:38.6904787;-4.1080467
END:VEVENT
BEGIN:VEVENT
DTSTART;TZID=Europe/Madrid:20241115T000000
DTEND;TZID=Europe/Madrid:20241117T235959
DTSTAMP:20260420T034622
CREATED:20241019T093658Z
LAST-MODIFIED:20241019T093733Z
UID:10001841-1731628800-1731887999@demercadosmedievales.info
SUMMARY:VI Feria Medieval Esotérica de Badia del Valles (Barcelona)
DESCRIPTION:Feria de Esoterismo y Brujería en Vegadeo del 20 al 22 de febrero de 2026 en el Parque Ferial. Ambiente místico y alternativo.  \n\n\n\n\n\n\nMercado Medieval\n \nCartel – Próximamente\nProgramación – Próximamente\n** Próximamente dispondremos del cartel y del programa con las actividades previstas. \nInformación básica del Mercado\nFecha de celebración Los dias  15  Al 17 De Noviembre del  2024 \nDonde se realizaEn la localidad de Badia del Valles que pertenece a la provincia de BARCELONA   / Badía del Vallés​\, llamado anteriormente Ciudad Badía\, ​ es un municipio español de la provincia de Barcelona\, en la comunidad autónoma de Cataluña. Pertenece a la comarca del Vallés Occidental y cuenta con una población de 13 466 habitantes. \nUbicación del EventoEstará ubicado en la Pça. Ajuntament \nInformación del Organizador\nLa empresa organizadora es  EVENTOS SJ DEL VALLES \nComo participar\nPlazo Inscripción: Hasta Agotar SitiosRequisitos: Carpa\, Parada Madera O De HierroDocumentación En ReglaServicios: Luz\, Y Vigilancia Nocturna \nPara más Información e Inscripciones: 639351258\, Eventos.Sja1@Gmail.Com\,Eventos.Sja2@Gmail.Com\, Eventos.Sja3@Gmail.Com \nMás fechas  Puedes conocer mas ferias y mercados en está provincia\, consultando nuestra sección de Eventos en Barcelona \nOtros eventos del organizadorConsulta Aquí otras ferias y mercados que organizará la empresa Eventos SJ del Valles \notros mercados temáticos y FeriasSi quieres conocer cuando se realizan más ferias y mercados\, puedes consultarlos visitando nuestro   Calendario de Eventos \nCalendario 2024\nSobre los Mercados Medievales\nLas ferias medievales son eventos que recrean la atmósfera de la Edad Media. Por lo general\, se llevan a cabo en pueblos o ciudades\, y presentan puestos de vendedores que venden artesanías\, alimentos y bebidas. También puede haber entretenimiento\, como justas\, música y baile. \n\n\n\n\n\n\n\n\n\nDetalles del organizador\n\n\n\n\n\nLocalización\n\n\n\nBadía del Vallés​\, llamado anteriormente Ciudad Badía\, ​ es un municipio español de la provincia de Barcelona\, en la comunidad autónoma de Cataluña. Pertenece a la comarca del Vallés Occidental y cuenta con una población de 13 466 habitantes.
URL:https://demercadosmedievales.info/mercadomedieval/vi-feria-medieval-esoterica-de-badia-del-valles-barcelona/
LOCATION:Badia del Vallès (Barcelona) (***)\, Badia del Vallés\, Barcelona\, España
CATEGORIES:Barcelona,Feria esotérica,Mercado Medieval
ATTACH;FMTTYPE=image/jpeg:https://demercadosmedievales.info/wp-content/uploads/2024/10/fira-medieval-esoterica-1-2024-f.jpg
ORGANIZER;CN="Eventos SJ del Valles":MAILTO:eventos.sja1@gmail.com
GEO:41.508052;2.1152932
END:VEVENT
BEGIN:VEVENT
DTSTART;VALUE=DATE:20240426
DTEND;VALUE=DATE:20240506
DTSTAMP:20260420T034622
CREATED:20240330T125243Z
LAST-MODIFIED:20240330T125243Z
UID:10001106-1714089600-1714953599@demercadosmedievales.info
SUMMARY:FERIA RINCÓN DE LA BUENA VENTURA EN FERIA DE ABRIL DE BARCELONA 2024
DESCRIPTION:Un espacio para tarotistas\, lecturas de mano\, Runas y cualquier otra mancia (Arte adivinatoria.) esotérica\, en la FERIA de abril de Barcelona. \n\nDetalles del Mercado o Feria\n📅 Cual es la fecha de celebración ?\nDesde el 26 de Abril al 5 de Mayo del 2024 \n🗓 Hasta que fecha se pueden inscribir los artesanos y mercaderes ?\n15 de Abril \n🏡 Donde se va a celebrar ? Localidad y provincia\nBarcelona \n📍 Cual será la ubicación dentro de la localidad (calle\, Plaza\, vía\, etc.)\nForum de Barcelona \n💬 Descripción del Evento : (Indica la temática\, características\, etc.)\nUn espacio para tarotistas\, lecturas de mano\, Runas y cualquier otra mancia (Arte adivinatoria.) esotérica\, en el rincón de la buena ventura de la feria de Abril de Barcelona\, un espacio por donde pasaron 2800000 personas el año 2023 \n🗓 Dia y hora de Montaje :\nDía 26 a las 8\n⏰ Fecha y hora de Inauguración\nDía 26 a las 11 \n📋 Servicios que proporcionara el organizador a los artesanos y mercaderes participantes \n\n Seguridad\nAgua\nElectricidad\n\nInformación sobre el organizador :\n⚜ Quien organiza la Feria y/o Mercado ?\nDimensión Alternativa\n💌 Email de contacto : \ndimensionalternativatv@gmail.com\nCuales son los Requisitos de participación ?\nTener toda la documentación en regla\, disfraz esotérico y carpa decorada con temática esotérica\n🏷Precio del metro lineal\, parada de madera\, carpa ?\nPreguntar al organizador sobre el precio. \n \n\n\nCalendario de Mercados Medievales y Ferias temáticas 2024 :\n\n\nEnero\nFebrero\nMarzo\nAbril\nMayo\nJunio\nJulio\nAgosto\nSeptiembre\nOctubre\nNoviembre\nDiciembre\n\n Las Ferias y mercados medievales\nLas ferias medievales son eventos que recrean la atmósfera de la Edad Media. Por lo general\, se llevan a cabo en pueblos o ciudades\, y presentan puestos de vendedores que venden artesanías\, alimentos y bebidas. \nTambién puede haber entretenimiento\, como justas\, música y baile. .
URL:https://demercadosmedievales.info/mercadomedieval/feria-rincon-de-la-buena-ventura-en-feria-de-abril-de-barcelona-2024/
LOCATION:Barcelona (***)\, Barcelona\, Barcelona\, España
CATEGORIES:Barcelona,Feria esotérica
ATTACH;FMTTYPE=image/jpeg:https://demercadosmedievales.info/wp-content/uploads/2024/03/feria_esoterica_feria_de_abril_barcelona_552x276.jpg
ORGANIZER;CN="Dimensi%C3%B1on Alternativa":MAILTO:dimensionalternativatv@gmail.com
GEO:41.3873974;2.168568
END:VEVENT
BEGIN:VEVENT
DTSTART;VALUE=DATE:20231124
DTEND;VALUE=DATE:20231127
DTSTAMP:20260420T034622
CREATED:20231113T193959Z
LAST-MODIFIED:20231204T063512Z
UID:10000682-1700784000-1701043199@demercadosmedievales.info
SUMMARY:2ª FERIA ESOTÉRICA LAS AMÉRICAS en Torrent (Valencia) 2023
DESCRIPTION:El C. C. Las Américas de Torrent (Valencia) Celebra la segunda edición de su feria Esotérica\, ubicada dentro del centro (a cubierto) Participan comerciantes con productos exclusivamente relacionados con el sector. \n \n2ª FIRA ESOTÉRICA LAS AMÉRICAS\nFecha de inicio y finalización\n24 AL 26 DE NOVIEMBRE 2023 \nPlazo de Inscripción ( Hasta que día se pueden apuntar los artesanos y mercaderes)\n22 DE NOVIEMBRE \nLocalidad y Provincia\nTORRENT (VALENCIA) \nUbicación dentro de la localidad (calle\, Plaza\, vía\, etc.)\nAVENIDA DEL VEDAT 180 (CC LA AMÉRICAS) \nDescripción del Evento :\nEl C. C. Las Américas de Torrent (VALENCIA) Celebra la segunda edición de su feria Esotérica\, ubicada dentro del centro (a cubierto) Participan comerciantes con productos exclusivamente relacionados con el sector El evento contará con participación de conferencias\, charlas y otras actividades \n——- > La hoja de Inscripción : Reservas Fira Esotérica noviembre 23  \nDia y hora de Montaje :\n24/11 A partir de las 10:00 h \nFecha y hora de Inauguración\n24/11 A las 17:00 h \nEl organizador proveerá de : \nSeguridad \nElectricidad \nOtro:\nAseos\, Aparcamiento (Mesas y Sillas a quién lo necesite) restauración y supermercado en el mismo centro \nOrganizador :\nValentia Events\nTeléfono 608833055\nEmail   admin@valentiaevents.com\nOtro medio de contacto : WhatsApp 608833055 \nRequisitos de participación\nSolo productos relacionados con la temática ferial \nPrecio\n25€ metro lineal (mínimo 2 metros) \n  \n 
URL:https://demercadosmedievales.info/mercadomedieval/2a-feria-esoterica-las-americas-en-torrent-valencia-2023/
LOCATION:Torrent (C. C. Las Américas) (Valencia) *\, C. C. Las Américas de Torrent (Valencia)\, Torrent\, Valencia\, España
CATEGORIES:Comunidad valenciana,Feria esotérica
ATTACH;FMTTYPE=image/jpeg:https://demercadosmedievales.info/wp-content/uploads/2023/11/torrent-feria-esoterica-2023-cartel.jpg
ORGANIZER;CN="Valentia Events":MAILTO:admin@valentiaevents.com
GEO:39.4267108;-0.482107
X-APPLE-STRUCTURED-LOCATION;VALUE=URI;X-ADDRESS=Torrent (C. C. Las Américas) (Valencia) * C. C. Las Américas de Torrent (Valencia) Torrent Valencia España;X-APPLE-RADIUS=500;X-TITLE=C. C. Las Américas de Torrent (Valencia):geo:-0.482107,39.4267108
END:VEVENT
BEGIN:VEVENT
DTSTART;VALUE=DATE:20231110
DTEND;VALUE=DATE:20231113
DTSTAMP:20260420T034622
CREATED:20231027T065550Z
LAST-MODIFIED:20240505T072012Z
UID:10000616-1699574400-1699833599@demercadosmedievales.info
SUMMARY:FERIA ESOTÉRICA DE PUERTOLLANO (CIUDAD REAL) 2023
DESCRIPTION:La  I FERIA ESOTÉRICA DE PUERTOLLANO estará ubicada en la Plaza de la Constitución . Durante 3 días se encontrarán diversos stands que ofrecerán todo tipo de productos artesanos o relacionados con el mundo del esoterismo. \nLa Feria contará con talleres y conferencias gratuitas con grandes profesionales del bienestar\, para acercar a una mayor afluencia de público. Se realizará en el Museo Cristina García Rodero\, un espacio cerrado con videovigilancia. \n \n\n\n\nFERIA ESOTÉRICA DE PUERTOLLANO (CIUDAD REAL) 2023\n\n\n\n\n\n\n\n\n\nFecha de inicio y finalización\n\n\n\n\nDel 10 al 12 de Noviembre 2023\n\n\n\n\n\n\n\n\n\nPlazo de Inscripción ( Hasta que día se pueden apuntar los artesanos y mercaderes)\n\n\n\n\n3 de Octubre 2023\n\n\n\n\n\n\n\n\n\nLocalidad y Provincia\n\n\n\n\nPuertollano (CIUDAD REAL)\n\n\n\n\n\n\n\n\n\nUbicación dentro de la localidad (calle\, Plaza\, vía\, etc.)\n\n\n\n\nPlaza de la Constitución s/n\n\n\n\n\n\n\n\n\n\n\nDescripción del Evento :\n\n\n\n\nDurante 3 días se encontrarán diversos stands que ofrecerán todo tipo de productos artesanos o relacionados con el mundo del esoterismo. La Feria contará con talleres y conferencias gratuitas con grandes profesionales del bienestar\, para acercar a una mayor afluencia de público. Se realizará en el Museo Cristina García Rodero\, un espacio cerrado con videovigilancia.\n\n\n\n\n\n\n\n\n\nDia y hora de Montaje :\n\n\n\n\n10 de Noviembre de 8h a 14h\n\n\n\n\n\n\n\n\n\nFecha y hora de Inauguración\n\n\n\n\nViernes 10 de Noviembre a las 17h\n\n\n\n\n\n\n\n\n\nEl organizador proveerá de :*\n\n\n\n\n\n\n\n\n\n\n\n\nSeguridad\nAgua\nElectricidad\n\n\n\n\n\n\n\n\n\n\n\n\n\n\nOrganizador :\n\n\n\n\nGuillermo Raboso\n\n\n\n\n\n\n\n\nTeléfono\n\n\n\n\n633435863\n\n\n\n\n\n\n\n\nEmail\n\n\n\n\ncentroluzdelalma@outlook.es\n\n\n\n\n\n\n\n\n\n\n\n\n\n\n\n\n\n\n\nRequisitos de participación\n\n\n\n\nExpositores dedicados a la artesanía o con productos relacionados con el esoterismo.\n\n\n\n\n\n\n\n\n\nPrecio\n\n\n\n\n45€/m2\n\n\n\n\nCartel de la I FERIA ESOTÉRICA DE PUERTOLLANO (CIUDAD REAL) 2023 :\n\n\n\nPrograma :\n \nmercados medievales – I FERIA ESOTÉRICA DE PUERTOLLANO (CIUDAD REAL) 2023\nEspaña\,  Castilla La Mancha\, Ciudad Real\, Puertollano\, MERCADOS ESOTERICOS\, MERCADOS MEDIEVALES\, 2023\n 
URL:https://demercadosmedievales.info/mercadomedieval/feria-esoterica-de-puertollano-ciudad-real-2023/
LOCATION:Puertollano (Ciudad Real) ( Plaza de la Constitución ) (***)\, Plaza de la Constitución s/n\, Puertollano\, Ciudad Real\, España
CATEGORIES:Feria esotérica,Puertollano
ATTACH;FMTTYPE=image/jpeg:https://demercadosmedievales.info/wp-content/uploads/2023/10/puertollano_feria_esoterica_2023_web.jpg
ORGANIZER;CN="Guillermo Raboso":MAILTO:centroluzdelalma@outlook.es
GEO:38.9887258;-3.9282894
X-APPLE-STRUCTURED-LOCATION;VALUE=URI;X-ADDRESS=Puertollano (Ciudad Real) ( Plaza de la Constitución ) (***) Plaza de la Constitución s/n Puertollano Ciudad Real España;X-APPLE-RADIUS=500;X-TITLE=Plaza de la Constitución s/n:geo:-3.9282894,38.9887258
END:VEVENT
END:VCALENDAR