BEGIN:VCALENDAR
VERSION:2.0
PRODID:-//Mercados Medievales - ECPv6.15.20//NONSGML v1.0//EN
CALSCALE:GREGORIAN
METHOD:PUBLISH
X-ORIGINAL-URL:https://demercadosmedievales.info
X-WR-CALDESC:Eventos para Mercados Medievales
REFRESH-INTERVAL;VALUE=DURATION:PT1H
X-Robots-Tag:noindex
X-PUBLISHED-TTL:PT1H
BEGIN:VTIMEZONE
TZID:Europe/Madrid
BEGIN:DAYLIGHT
TZOFFSETFROM:+0100
TZOFFSETTO:+0200
TZNAME:CEST
DTSTART:20220327T010000
END:DAYLIGHT
BEGIN:STANDARD
TZOFFSETFROM:+0200
TZOFFSETTO:+0100
TZNAME:CET
DTSTART:20221030T010000
END:STANDARD
BEGIN:DAYLIGHT
TZOFFSETFROM:+0100
TZOFFSETTO:+0200
TZNAME:CEST
DTSTART:20230326T010000
END:DAYLIGHT
BEGIN:STANDARD
TZOFFSETFROM:+0200
TZOFFSETTO:+0100
TZNAME:CET
DTSTART:20231029T010000
END:STANDARD
BEGIN:DAYLIGHT
TZOFFSETFROM:+0100
TZOFFSETTO:+0200
TZNAME:CEST
DTSTART:20240331T010000
END:DAYLIGHT
BEGIN:STANDARD
TZOFFSETFROM:+0200
TZOFFSETTO:+0100
TZNAME:CET
DTSTART:20241027T010000
END:STANDARD
END:VTIMEZONE
BEGIN:VEVENT
DTSTART;VALUE=DATE:20231027
DTEND;VALUE=DATE:20231030
DTSTAMP:20260422T193719
CREATED:20230915T122605Z
LAST-MODIFIED:20230915T122605Z
UID:10000046-1698364800-1698623999@demercadosmedievales.info
SUMMARY:Feria de la cerveza artesana y artesanías medievales de Manzanares El Real  (Madrid) 2023
DESCRIPTION:Hasta el 20 de Octubre te puedes inscribir en la próxima Feria de la cerveza artesana y artesanías medievales\, que estará ubicada en la plaza del Ayuntamiento. \n \n\n\n\nFeria de la cerveza artesana y artesanías medievales\n\n\n\n\n\n\n\n\n\nFecha de inicio y finalización\n\n\n\n\n27 DE OCTUBRE HASTA 29 OCTUBRE DEL 2023\n\n\n\n\n\n\n\n\nPlazo de Inscripción ( Hasta que día se pueden apuntar los artesanos y mercaderes)*\n\n\n\n\nHASTA EL 20 DE OCTUBRE DEL 2023\n\n\n\n\n\n\n\n\nLocalidad y Provincia\n\n\n\n\nMANZANARES EL REAL\, MADRID\n\n\n\n\n\n\n\n\nUbicación dentro de la localidad (calle\, Plaza\, vía\, etc.)\n\n\n\n\nPLAZA DEL AYUNTAMIENTO\n\n\n\n\n\n\n\n\nDescripción del Evento :\n\n\n\n\nFERIA DE LA CERVEZA ARTESANA Y ARTESANIAS MEDIEVALES\n\n\n\n\n\n\n\n\nDia y hora de Montaje :\n\n\n\n\n27 DE OCTUBRE A PARTIR DE LAS 11:00 HS\n\n\n\n\n\n\n\n\nFecha y hora de Inauguración\n\n\n\n\n27 DE OCTUBRE A LAS 18:00 HS\n\n\n\n\n\n\n\n\nEl organizador proveerá de :\n\n\n\n\n\n\n\n\nSeguridad\n\n\n\n\n\n\n\n\nAgua\n\n\n\n\n\n\n\n\nElectricidad\n\n\n\n\n\n\n\n\n\n\n\n\n\nOrganizador :\n\n\n\n\nADICCAG\n\n\n\n\n\n\n\n\nTelefono  670351010\n\n\n\n\n\n\n\n\n\n\nEmail   ADICCAG@GMAIL.COM\n\n\n\n\n\n\n\n\n\n\n\n\n\n\n\n\n\n\n\n\n\nRequisitos de participación\n\n\n\n\nSER ARTESANO\n\n\n\n\n\n\n\n\nPrecio\n\n\n\n\n20€ EL METRO\, ALIMENTACION A CONSULTAR\n\n\n\n\n\nSobre Manzanares El Real…\n\nManzanares el Real es un municipio y localidad española de la Comunidad de Madrid\, con una población de 8840 habitantes. En el término municipal\, ubicado al pie de la sierra de Guadarrama\, se alza La Pedriza\, donde se practican escalada y senderismo. Entre su patrimonio figura el castillo de los Mendoza\, en buen estado de conservación. \nLocalidad situada en el Camino de Santiago de Madrid. \nSe trata del quinto municipio más extenso de la región madrileña\, con 128\,4 km²\, y uno de los que reúne un mayor interés ecológico. Del total de su superficie\, 6928 ha se encuentran integradas en el parque nacional de la Sierra de Guadarrama\, mientras que el resto pertenece al parque regional de la Cuenca Alta del Manzanares (territorio también ocupado en una pequeña parte por la zona periférica de protección del parque nacional nombrado). \nSe encuentra a una distancia de 46 km de Madrid y en su término se hallan espacios naturales tan significativos como La Pedriza y el embalse de Santillana\, además del Ventisquero de la Condesa\, donde nace el río Manzanares\, y de las Cabezas de Hierro\, compartidas con Rascafría\, la segunda montaña más alta de la sierra de Guadarrama\, con 2383 m sobre el nivel del mar. \n\n  \nmercadosmedievales.net – Feria de la cerveza artesana y artesanías medievales de Manzanares El Real (Madrid) 2023 \nManzanares El Real\, Madrid\, Comunidad de Madrid
URL:https://demercadosmedievales.info/mercadomedieval/feria-de-la-cerveza-artesana-y-artesanias-medievales-de-manzanares-el-real-madrid-2023/
LOCATION:Manzanares El Real  (Madrid) (***)\, en la Plaza del Ayuntamiento\, Manzanares El Real\, Madrid\, 28410\, España
CATEGORIES:Adiccag,Feria de la cerveza artesana,Manzanares El Real
ATTACH;FMTTYPE=image/jpeg:https://demercadosmedievales.info/wp-content/uploads/2023/09/manzanares_el_real_feria_cerveza_20023_cartel.jpg
ORGANIZER;CN="Adiccag":MAILTO:ADICCAG@GMAIL.COM
GEO:40.7262858;-3.8646893
X-APPLE-STRUCTURED-LOCATION;VALUE=URI;X-ADDRESS=Manzanares El Real  (Madrid) (***) en la Plaza del Ayuntamiento Manzanares El Real Madrid 28410 España;X-APPLE-RADIUS=500;X-TITLE=en la Plaza del Ayuntamiento:geo:-3.8646893,40.7262858
END:VEVENT
END:VCALENDAR