BEGIN:VCALENDAR
VERSION:2.0
PRODID:-//Mercados Medievales - ECPv6.15.20//NONSGML v1.0//EN
CALSCALE:GREGORIAN
METHOD:PUBLISH
X-WR-CALNAME:Mercados Medievales
X-ORIGINAL-URL:https://demercadosmedievales.info
X-WR-CALDESC:Eventos para Mercados Medievales
REFRESH-INTERVAL;VALUE=DURATION:PT1H
X-Robots-Tag:noindex
X-PUBLISHED-TTL:PT1H
BEGIN:VTIMEZONE
TZID:Europe/Madrid
BEGIN:DAYLIGHT
TZOFFSETFROM:+0100
TZOFFSETTO:+0200
TZNAME:CEST
DTSTART:20220327T010000
END:DAYLIGHT
BEGIN:STANDARD
TZOFFSETFROM:+0200
TZOFFSETTO:+0100
TZNAME:CET
DTSTART:20221030T010000
END:STANDARD
BEGIN:DAYLIGHT
TZOFFSETFROM:+0100
TZOFFSETTO:+0200
TZNAME:CEST
DTSTART:20230326T010000
END:DAYLIGHT
BEGIN:STANDARD
TZOFFSETFROM:+0200
TZOFFSETTO:+0100
TZNAME:CET
DTSTART:20231029T010000
END:STANDARD
BEGIN:DAYLIGHT
TZOFFSETFROM:+0100
TZOFFSETTO:+0200
TZNAME:CEST
DTSTART:20240331T010000
END:DAYLIGHT
BEGIN:STANDARD
TZOFFSETFROM:+0200
TZOFFSETTO:+0100
TZNAME:CET
DTSTART:20241027T010000
END:STANDARD
END:VTIMEZONE
BEGIN:VEVENT
DTSTART;VALUE=DATE:20231226
DTEND;VALUE=DATE:20231230
DTSTAMP:20260422T101751
CREATED:20231006T103356Z
LAST-MODIFIED:20231217T185320Z
UID:10000169-1703548800-1703894399@demercadosmedievales.info
SUMMARY:Gran Mercado De Reyes De Alpedrete ( Madrid ) 2023
DESCRIPTION:El Mercado de Reyes de Alpedrete estará ubicado en la Plaza de la Villa \, del 26 al 29 de diciembre. El mercado contará con artesanía\, gastronomía y productos navideños.\n \nGran Mercado De Reyes De Alpedrete (Madrid)\nCompartir la magia\, vivir la ilusión\nEn el mercado se podrán encontrar productos como:\n\nArtesanía navideña\, como belenes\, adornos\, figuras\, etc.\nGastronomía navideña\, como turrón\, polvorones\, dulces típicos\, etc.\nProductos navideños\, como juguetes\, regalos\, etc.\n\n\nHorario del Mercado de Reyes\nDia 26 de diciembre desde las 17h\nDías 27\, 28 y 29 de diciembre desde las 11 al 15h y de las 17h al cierre. \n\nEl acceso al mercado es gratuito.\n+ Detalles + información\n– Celebración: días 26 al 29 de diciembre 2023\n– Localidad y provincia : Alpedrete \, MADRID\n– Montaje: día 26 de diciembre\, a las 9 horas.\n– Ubicación: Plaza de la Villa. \nComo participar en el Mercado ?\nPonte en contacto con ORGANIZA : LANCELOT MEDIEVAL.\nMANOLO: 607 677 701 E-Mail: info@lancelotmedieval.com \nProgramación del Mercado\n \nSobre Alpedrete….\nMunicipio y localidad española de la Comunidad de Madrid. Famoso por sus canteras de las que se extrajo granito para construir\, entre otros monumentos\, el Monasterio de El Escorial\, el Palacio Real de Madrid y el Valle de los Caídos. El término municipal tiene una población de 15 006 habitantes. \nMercado de reyes\, España\, Comunidad de Madrid\, Alpedrete\,
URL:https://demercadosmedievales.info/mercadomedieval/gran-mercado-de-reyes-de-alpedrete-madrid-2023/
LOCATION:Alpedrete (Madrid) (***)\, Plaza del Ayuntamiento y calle Real\, Alpedrete\, Comunidad de Madrid\, 28430\, España
CATEGORIES:Alpedrete,Lancelot Medieval,Mercados de navidad
ATTACH;FMTTYPE=image/jpeg:https://demercadosmedievales.info/wp-content/uploads/2023/10/alpedrete_mercado_reyes_2023_encabezado.jpg
ORGANIZER;CN="Lancelot medieval":MAILTO:info@lancelotmedieval.com
GEO:40.659481;-4.0238132
X-APPLE-STRUCTURED-LOCATION;VALUE=URI;X-ADDRESS=Alpedrete (Madrid) (***) Plaza del Ayuntamiento y calle Real Alpedrete Comunidad de Madrid 28430 España;X-APPLE-RADIUS=500;X-TITLE=Plaza del Ayuntamiento y calle Real:geo:-4.0238132,40.659481
END:VEVENT
BEGIN:VEVENT
DTSTART;VALUE=DATE:20231221
DTEND;VALUE=DATE:20231224
DTSTAMP:20260422T101751
CREATED:20231006T101238Z
LAST-MODIFIED:20231217T181129Z
UID:10000168-1703116800-1703375999@demercadosmedievales.info
SUMMARY:Gran Mercado Navideño De Alpedrete ( Madrid ) 2023
DESCRIPTION:Gran Mercado Navideño en Alpedrete (Madrid) se celebrará los días 21\, 22 y 23 de diciembre de 2023 en la Plaza de la Villa. El mercado contará con puestos de artesanía\, gastronomía y productos navideños.\n \nGran Mercado Navideño De Alpedrete (Madrid)\nEn el mercado se podrán encontrar productos como: \n\nArtesanía navideña\, como belenes\, adornos\, figuras\, etc.\nGastronomía navideña\, como turrón\, polvorones\, dulces típicos\, etc.\nProductos navideños\, como juguetes\, regalos\, etc.\n\n  \nHorario del Mercado Navideño\nEl mercado estará abierto el Viernes de 17 a 22h. y los días Sábado y Domingo de 11 a 22 h. \n+ Detalles del Gran Mercado Navideño\n– Celebración: días 21\, 22 y 23 de diciembre 2023\n– Localidad y provincia : Alpedrete \, MADRID\n– Montaje: día 21 de diciembre\, a las 9 horas.\n– Ubicación: Plaza de la Villa. \nComo participar en el Mercado Navideño ?\nPonte en contacto con ORGANIZA : LANCELOT MEDIEVAL.\nMANOLO: 607 677 701 E-Mail: info@lancelotmedieval.com \nProgramación del Gran Mercado Navideño\n21 diciembre 2023\, 17:00 – 22:00\n17:00 h hasta el cierre. Mercado de Navidad. Plaza de la Villa\nEl mercado cobra vida. Los artesanos abren sus puestos para deleitarnos con sus productos\, rodeados de villancicos\, actividades photocall y juegos para los peques.  Descarga la información detallada en este enlace. \n17:30 h. Pasacalles a cargo de Jaco Müller\n18:00 a 18:45 h. Personajes Disney\n18:30 a 20:00 h. Globoflexia y pintacaras\n19:30 h Trineo y buzón de Papá Noel\n20:00 a 20:45 h Personajes Disney \n22 diciembre 2023\, 11:00 – 22:00\n11:00 h hasta el cierre. Mercado de Navidad. Plaza de la Villa\nEl mercado cobra vida. Los artesanos abren sus puestos para deleitarnos con sus productos\, rodeados de villancicos\, actividades photocall y juegos para los peques.  Descarga la información detallada en este enlace. \nProgramación de mañana \n11:15 h. Pasacalles a cargo de Jaco Müller\n12:00 a 12:45 h. Personajes Disney\n12:00 a 13:30 h. Globoflexia y pintacaras\n12:30 a 13:00 h. Trineo y buzón de Papá Noel\n12:30 a 13:30 h. Pase de magia\, a cargo del gran mago Sebi\n13:15 h. Pasacalles a cargo de Jaco Müller\n13:30 a 14:15 h. Personajes Disney \nProgramación de tarde \n17:00 h Reapertura del mercado\, rodeados de villancicos\, actividades photocall y juegos para los peques.\n17:30 h. Pasacalles a cargo de Jaco Müller\n18:00 a 18:45 h. Personajes Disney\n18:30 a 20:00 h. Globoflexia y pintacaras\n19:00 a 20:00 h. Pase de magia\, a cargo del gran mago Sebi\n19:30 h. Trineo y buzón de Papá Noel\n20:00 a 20:45 h. Personajes Disney\n21:00 h. Pasacalles a cargo de Jaco Müller \n23 diciembre 2023\, 11:00 – 22:00\n11:00 h hasta el cierre. Mercado de Navidad. Plaza de la Villa\nEl mercado cobra vida. Los artesanos abren sus puestos para deleitarnos con sus productos\, rodeados de villancicos\, actividades photocall y juegos para los peques.  Descarga la información detallada en este enlace. \nProgramación de mañana \n11:15 h. Pasacalles a cargo de Jaco Müller\n12:00 a 12:45 h. Personajes Disney\n12:00 a 13:30 h. Globoflexia y pintacaras\n12:30 a 13:00 h. Trineo y buzón de Papá Noel\n12:30 a 13:30 h. Pase de magia\, a cargo del gran mago Sebi\n13:15 h. Pasacalles a cargo de Jaco Müller\n13:30 a 14:15 h. Personajes Disney \nProgramación de tarde \n17:00 h Reapertura del mercado\, rodeados de villancicos\, actividades photocall y juegos para los peques\n17:30 h. Pasacalles a cargo de Jaco Müller\n18:00 a 18:45 h. Personajes Disney\n18:30 a 20:00 h. Globoflexia y pintacaras\n19:00 a 20:00 h. Pase de magia\, a cargo del gran mago Sebi\n19:30 h. Trineo y buzón de Papá Noel\n20:00 a 20:45 h. Personajes Disney\n21:00 h. Pasacalles a cargo de Jaco Müller \n  \n  \n \n  \nSobre Alpedrete….\nAlpedrete es un encantador pueblo y municipio de la Comunidad de Madrid\, España. Ubicado en medio de la pintoresca Sierra de Guadarrama\, Alpedrete ofrece un entorno pintoresco\, una rica historia y una animada escena cultural. \nMunicipio y localidad española de la Comunidad de Madrid. Famoso por sus canteras de las que se extrajo granito para construir\, entre otros monumentos\, el Monasterio de El Escorial\, el Palacio Real de Madrid y el Valle de los Caídos. El término municipal tiene una población de 15 006 habitantes. \nMercado de navidad\, Mercado Navideño\,España\,Alpedrete\, Comunidad de Madrid \n 
URL:https://demercadosmedievales.info/mercadomedieval/gran-mercado-navideno-de-alpedrete-madrid-2023/
LOCATION:Alpedrete (Madrid) (***)\, Plaza del Ayuntamiento y calle Real\, Alpedrete\, Comunidad de Madrid\, 28430\, España
CATEGORIES:Alpedrete,Lancelot Medieval,Mercados de navidad
ATTACH;FMTTYPE=image/jpeg:https://demercadosmedievales.info/wp-content/uploads/2023/10/alpedrete_mercado_navidad_2023_encabezado.jpg
ORGANIZER;CN="Lancelot medieval":MAILTO:info@lancelotmedieval.com
GEO:40.659481;-4.0238132
X-APPLE-STRUCTURED-LOCATION;VALUE=URI;X-ADDRESS=Alpedrete (Madrid) (***) Plaza del Ayuntamiento y calle Real Alpedrete Comunidad de Madrid 28430 España;X-APPLE-RADIUS=500;X-TITLE=Plaza del Ayuntamiento y calle Real:geo:-4.0238132,40.659481
END:VEVENT
BEGIN:VEVENT
DTSTART;VALUE=DATE:20230922
DTEND;VALUE=DATE:20230925
DTSTAMP:20260422T101751
CREATED:20230913T082410Z
LAST-MODIFIED:20230920T044658Z
UID:10000029-1695340800-1695599999@demercadosmedievales.info
SUMMARY:Mercado medieval en Alpedrete (Madrid) 2023
DESCRIPTION:Tradicional Mercado medieval Alpedrete 2023\, estará ubicado en la  la plaza de la Villa\, la calle Real y la plaza de la Constitución. Del 22 al 24 de septiembre\, disfruta de un viaje en el tiempo al pasado en el mercado medieval de Alpedrete. \n \n\n\n\nMercado medieval de Alpedrete\nEste fin de semana trasladamos algunos lugares emblemáticos de nuestro municipio al medievo: la plaza de la Villa\, la calle Real y la plaza de la Constitución acogerán un mercadillo medieval\, con numerosas actividades relacionadas. \nLos vecinos y visitantes de Alpedrete son bienvenidos a este viaje en el tiempo\, donde decorados\, oficios\, costumbres y modo de vida transportarán a otro tiempo repleto de encanto. Entre las actividades programadas se encuentran las atracciones infantiles\, exhibición de cetrería\, puestos de artesanía\, gastronomía\, talleres de oficios\, músicos\, bufones\, zancudos\, teatro de calle… todo ello amenizado con un fondo musical medieval.\n \nEl mercado medieval comienza el viernes 22 de septiembre a las 17:00 h\, siendo la inauguración oficial a las 19:00 h. Se celebrará hasta el domingo a las 22:00 h. La programación es la siguiente:\n \nViernes 22 \n\n19:00 h “Los Reyes Gigantes”. Espectáculo itinerante con música en directo de gaitas y percusión\, acompañado de gigantes cabezudos representando a los Reyes Católicos.\n20:00 h Espectáculo de cetrería\n20:30 h “Los Reyes Gigantes”. Segundo pase.\n22:00 h Pasacalles nocturno: “Los verdugos”. Con su hacha en mano\, los encapuchados caminan buscando reos a los que ajusticiar.\n\n  \nSábado 23\n \n\n12:00 h Pasacalles: “La Odalisca del Sultán”. Pasacalles con música árabe en directo y bailarina de danza del vientre.\n13:00 h Espectáculo de cetrería\n13:30 h “La Odalisca del Sultán”. Segundo pase\n14:00 Espectáculo de cetrería\n18:00 Teatro de calle y personajes: “Las tres cautivas”. Con el argumento del Romance Medieval de Las tres cautivas traemos a\nescena a Constanza\, Lucía y María Rosalía\, tres muchachas cristianas apresadas por el Rey Moro.\n19:00 Espectáculo de cetrería\n20:00 h Teatro de calle y personajes: “Las tres cautivas”. Segundo pase\n21:00 h Espectáculo de cetrería\n22:00 h Pasacalles nocturno: “Siniestros espantapájaros”. Unos inquietantes espantapájaros de brazos empalados\, portando cuervos\, búhos y ratones\, toman las calles en siniestro desfile.\n\n  \nDomingo 24 \n\n12:00 Pasacalles: “Danza zíngara”. Pasacalles con música en directo de gaitas y percusión y bailarina fusión flamenco – zíngaro.\n13:00 Espectáculo de cetrería\n13:30 h “Danza zíngara”. Segundo pase\n14:00 h Espectáculo de cetrería\n18:00 h “La Condesa de Alpedrete”. La Señora Condesa Doña María Antonia\, pasea por las calles de la localidad con sus dos hijas casaderas vestidas de encandilante blanco. Las mocitas ansían un matrimonio\, pero a la madre\, que fue Dama de la Reina de Castilla\, ningún pretendiente le parece suficiente para sus hijas.\n19:00 h Espectáculo de cetrería\n20:00 h “La Condesa de Alpedrete” segundo pase\n21:30 h Pasacalles nocturno: “Los Monstruos”. Horribles seres de desproporcionadas dimensiones deambulan por el mercado sembrando el horror.\n\nFICHA TECNICA\n–LOCALIDAD Y APELLIDO : Alpedrete\, MADRID \, población ubicada a 6 km de Guadarrama.\n–FECHA: 22\, 23 y 24 septiembre 2023\n–MONTAJE: 22 septiembre a partir de las 09:00h de la mañana\n–UBICACIÓN: Plaza del Ayuntamiento y C/ Real\n\nPRECIOS…\n-ARTESANÍA : 80€ metro lineal + 10%I.V.A\n-ALIMENTACIÓN : 100€ metro líneal + 10%I.V.A\n-HOSTELERÍA: Consultar\n\n\n\nFORMA DE PAGO: (Cualquier duda  WHATSAPP 615 859 516 Elisabet )\n\nReserva 50% + 10% I.V.A a la formalización y el resto una semana antes del evento.\nEn el supuesto de ARTESANÍA\nla reserva del 50% con el 10% de I.V.A incluido\, sería de:\n2 metros 88€\n3 metros 132€\n4 metros 176€\n5 metros 220€\n6 metros 264€\n7 metros 308€\n8 metros 352€\n\nEn el supuesto de ALIMENTACIÓN  la reserva del 50% con el 10% de I.V.A incluido\, sería de:\n2 metros 110€\n3 metros 165€\n4 metros 220€\n5 metros 275€\n\n6 metros 330€\n7 metros 385€\n8 metros 440€\n\nDatos bancarios para la reserva:\nBANCO : CAIXABANK TITULAR: EMACAR EVENTOS SL.\nNÚMERO DE CUENTA:\nES40 2100 2126 5302 0029 6937\nCONCEPTO: Nombre\, número de metros\, Medieval Alpedrete.\nINFORMACIÓN Y RESERVAS: WHATSAPP 615 859 516 Elisabet.\n\n\n\n\n\n\nComo participar en el Mercado medieval ?\nPonte en contacto con  FACTORIA DE SUEÑOS \nWHATSAPP 615 859 516 Elisabet. \nCartel del Mercado medieval de Alpedrete\n\nCartel Mercado medieval\nSobre Alpedrete….\nMunicipio y localidad española de la Comunidad de Madrid. Famoso por sus canteras de las que se extrajo granito para construir\, entre otros monumentos\, el Monasterio de El Escorial\, el Palacio Real de Madrid y el Valle de los Caídos. El término municipal tiene una población de 15 006 habitantes. \nEs un municipio de la Comunidad de Madrid conocido por sus canteras\, de las que se extrajo granito para construir monumentos como el Monasterio de El Escorial\, el Palacio de Oriente o el Valle de los Caídos. Esas canteras que dieron vida y economía a la villa se localizan en un entorno natural apreciado por su flora y por su fauna. Alpedrete está nominado\, junto con otros municipios de la zona\, a convertirse en Reserva de la Biosfera; y ha pedido la inclusión de sus canteras en el Catálogo de Humedales de la Comunidad de Madrid. \nLa importancia de los ecosistemas del municipio ha llevado al Ayuntamiento de Alpedrete a convertirse en editor de guías públicas y gratuitas que ponen en valor su entorno natural. Se han editado dos: “La Flora de Alpedrete. Árboles y bosques\, comunidades arbustivas y especies herbáceas” y “Aves de Alpedrete”. Está prevista la edición de otras dos que detallando las especies de setas y de anfibios y reptiles. El propósito de estas guías es profundizar en el conocimiento de los ecosistemas que existen en el municipio y quienes los habitan. \nAlpedrete es un municipio pequeño respecto a sus vecinos en los que a extensión geográfica se refiere. Ocupa el puesto 169 de los 179 municipios que existen en la Comunidad de Madrid. Sin embargo\, ocupa el vigésimo lugar en densidad de población (unos 1127 habitantes por kilómetro cuadrada). \nEl último dato censal cifra en 15.202 el número de habitantes en una villa cuyo primer censo data de 1591. Lo realizó Tomás González que consignó que en el municipio vivían 36 familias y un clérigo\, con un total de 168 “almas”\, como se denomina en aquel registro. Los primeros asentamientos tuvieron lugar hace aproximadamente 4.000 años\, según los restos megalíticos encontrados en el municipio. Se han documentado un dolmen\, dos hachas de piedra pulimentada\, un cuchillo y una punta de flecha de sílex\, un pequeño puñal\, y fragmentos de cerámica lisa y decorada. \nHay dos teorías sobre el origen de Alpedrete. Una asegura que los árabes apreciaron la fertilidad de los valles de Guadarrama y fundaron una población a la que llamaron Al Pedrete por su abundancia de canteras. Otra indica que el origen hay que buscarlo en tiempo de los romanos y su nombre primigenio vendría de Ad Petrum.
URL:https://demercadosmedievales.info/mercadomedieval/mercado-medieval-en-alpedrete-madrid-2023/
LOCATION:Alpedrete (Madrid) (***)\, Plaza del Ayuntamiento y calle Real\, Alpedrete\, Comunidad de Madrid\, 28430\, España
CATEGORIES:Alpedrete,Factoria de sueños,Mercado Medieval
ATTACH;FMTTYPE=image/jpeg:https://demercadosmedievales.info/wp-content/uploads/2023/08/alpedrete_mercado_medieval_cartel_2023.jpg
GEO:40.659481;-4.0238132
X-APPLE-STRUCTURED-LOCATION;VALUE=URI;X-ADDRESS=Alpedrete (Madrid) (***) Plaza del Ayuntamiento y calle Real Alpedrete Comunidad de Madrid 28430 España;X-APPLE-RADIUS=500;X-TITLE=Plaza del Ayuntamiento y calle Real:geo:-4.0238132,40.659481
END:VEVENT
END:VCALENDAR