BEGIN:VCALENDAR
VERSION:2.0
PRODID:-//Mercados Medievales - ECPv6.15.20//NONSGML v1.0//EN
CALSCALE:GREGORIAN
METHOD:PUBLISH
X-WR-CALNAME:Mercados Medievales
X-ORIGINAL-URL:https://demercadosmedievales.info
X-WR-CALDESC:Eventos para Mercados Medievales
REFRESH-INTERVAL;VALUE=DURATION:PT1H
X-Robots-Tag:noindex
X-PUBLISHED-TTL:PT1H
BEGIN:VTIMEZONE
TZID:Europe/Madrid
BEGIN:DAYLIGHT
TZOFFSETFROM:+0100
TZOFFSETTO:+0200
TZNAME:CEST
DTSTART:20250330T010000
END:DAYLIGHT
BEGIN:STANDARD
TZOFFSETFROM:+0200
TZOFFSETTO:+0100
TZNAME:CET
DTSTART:20251026T010000
END:STANDARD
BEGIN:DAYLIGHT
TZOFFSETFROM:+0100
TZOFFSETTO:+0200
TZNAME:CEST
DTSTART:20260329T010000
END:DAYLIGHT
BEGIN:STANDARD
TZOFFSETFROM:+0200
TZOFFSETTO:+0100
TZNAME:CET
DTSTART:20261025T010000
END:STANDARD
BEGIN:DAYLIGHT
TZOFFSETFROM:+0100
TZOFFSETTO:+0200
TZNAME:CEST
DTSTART:20270328T010000
END:DAYLIGHT
BEGIN:STANDARD
TZOFFSETFROM:+0200
TZOFFSETTO:+0100
TZNAME:CET
DTSTART:20271031T010000
END:STANDARD
END:VTIMEZONE
BEGIN:VEVENT
DTSTART;TZID=Europe/Madrid:20260522T000000
DTEND;TZID=Europe/Madrid:20260524T235959
DTSTAMP:20260420T094621
CREATED:20260221T200931Z
LAST-MODIFIED:20260411T193814Z
UID:10003251-1779408000-1779667199@demercadosmedievales.info
SUMMARY:Mercado Templario de Ledesma 2026 (Salamanca) Cartel\, video promocional e información
DESCRIPTION:El Mercado Templario de Ledesma se celebrará los días 22\, 23 y 24 de mayo de 2026\, transformando esta histórica villa salmantina en un auténtico enclave medieval lleno de ambiente\, espectáculos y artesanía. \n\n\n\n\n\n\n\n \n\n\n\n\n\n\n\n¿Eres artesano o amante de las ferias temáticas? > Descubre el mayor calendario de mercados medievales 2026. Síguenos en nuestro Instagram oficial o conecta con nosotros vía WhatsApp para recibir novedades sobre plazos de inscripción y fechas de eventos. No olvides suscribirte a nuestra Newsletter para no perderte ninguna publicación. \n\n\n\n\n\n\n\n \n\n\n\n \n\n\n\nÍndice Mercado Templario de LedesmaCartel del Mercado Templario en LedesmaInformación para artesanos y mercaderesVideo promocional del Mercado Templario de LedesmaComo llegar al Mercado Templario de LedesmaMercado Templario de Ledesma 2026 (Salamanca) Cartel\, video promocional e información22 mayo - 24 mayoMercado Romano Sieteiglesias de Tormes 2026 (Salamanca)21 junioFeria Barroca en Peñaranda de Bracamonte |  20268 agosto - 9 agostoCalendario de Ferias y Mercados :Únete a la Red de Artesanos y MercaderesEn Resumen….\n\n\n\n \n\n\n\nMercado Templario de Ledesma\n\n\n\nLa histórica villa de Ledesma\, en la provincia de Salamanca\, acogerá durante tres jornadas su esperado Mercado Templario\, un evento que invita a vecinos y visitantes a viajar a la Edad Media. \n\n\n\n📅 Fechas: 22\, 23 y 24 de mayo 2026📍 Ubicación: Centro histórico de Ledesma \n\n\n\n \n\n\n\nCartel del Mercado Templario en Ledesma\n\n\n\n\n\n\n\n \n\n\n\n \n\n\n\nInformación para artesanos y mercaderes\n\n\n\n\nNombre: Mercado Templario de Ledesma\n\n\n\nFechas: 22\, 23 y 24 de mayo de 2026\n\n\n\nMunicipio: Ledesma\n\n\n\nProvincia: SALAMANCA\n\n\n\nProductos: Artesanía\, ropa\, joyas\, gastronomía\n\n\n\nActividades: Música en vivo\, danza y animación medieval\n\n\n\nOrganiza: Degladis Servicios temáticos\n\nCorreo electrónico :Degladis.serviciostematicos@gmail.com\n\nTeléfono / WhatsApp : 674687996\n\n\n\nPersonas de contacto : Manuel Martin Porcel\n\n\n\n\n\n\n\n\n \n\n\n\nVideo promocional del Mercado Templario de Ledesma  \n\n\n\n\n\n\n\n \n\n\n\nComo llegar al Mercado Templario de Ledesma\n\n\n\nLedesma se encuentra a unos 35 km de Salamanca\, con acceso por la CL-517. Dispone de fácil llegada en vehículo privado y zonas de aparcamiento en el entorno del casco histórico. \n\n\n\n\n\n \n\n\n\n🗓 Eventos más próximos \n\n\n\nMercado Templario de Ledesma 2026 (Salamanca) Cartel\, video promocional e información22 mayo - 24 mayoMercado Romano Sieteiglesias de Tormes 2026 (Salamanca)21 junioFeria Barroca en Peñaranda de Bracamonte |  20268 agosto - 9 agosto\n\n\n\n \n\n\n\nCalendario de Ferias y Mercados :\n\n\n\nMercados Medievales en la RED\n\n\n\n¿Eres artesano o mercader y buscas nuevos eventos para exponer tus productos? España ofrece una de las agendas de ferias temáticas y mercados medievales más dinámicas de Europa. Estos eventos son el escaparate perfecto para la artesanía de autor\, combinando un gran flujo de visitantes con entornos de venta estratégicos. \n\n\n\nSi tu objetivo es ampliar tu ruta de mercados y asegurar tu participación en las mejores plazas\, esta es tu plataforma profesional de referencia. \n\n\n\n\n\n\n\n \n\n\n\nÚnete a la Red de Artesanos y Mercaderes\n\n\n\nLas plazas en los mejores mercados se agotan rápido. No te quedes fuera de las convocatorias más importantes del año. Únete a nuestros canales exclusivos para profesionales y recibe alertas sobre nuevas aperturas de plazos e inscripciones: \n\n\n\nComunidad y Visibilidad: Conecta con nosotros en Instagram\, Facebook y nuestra Newsletter profesional. \n\n\n\nAlertas Inmediatas: Únete a nuestro Telegram o WhatsApp para recibir avisos de última hora. \n\n\n\n \n\n\n\nEn Resumen….
URL:https://demercadosmedievales.info/mercadomedieval/mercado-templario-de-ledesma-2026-salamanca/
LOCATION:Ledesma (Salamanca) (***)\, Ledesma\, Salamanca\, 37100\, España
CATEGORIES:Castilla y Leon,eventos 2026,Mercado templario,Mercados tematicos,Salamanca
ATTACH;FMTTYPE=image/jpeg:https://demercadosmedievales.info/wp-content/uploads/2026/02/mercado-medieval-ledesma-1080.jpg
ORGANIZER;CN="Degladis servicios tem%C3%A1ticos":MAILTO:Degladis.serviciostematicos@gmail.com
GEO:41.087147;-6.0017674
END:VEVENT
BEGIN:VEVENT
DTSTART;TZID=Europe/Madrid:20260621T000000
DTEND;TZID=Europe/Madrid:20260621T235959
DTSTAMP:20260420T094621
CREATED:20260327T111504Z
LAST-MODIFIED:20260327T111551Z
UID:10003365-1782000000-1782086399@demercadosmedievales.info
SUMMARY:Mercado Romano Sieteiglesias de Tormes 2026 (Salamanca)
DESCRIPTION:El Mercado Romano Sieteiglesias de Tormes se celebrará el próximo 21 de junio de 2026\, ofreciendo una jornada ambientada en la época romana. \n\n\n\n\n\n\n\n \n\n\n\nContenido Mercado Romano Sieteiglesias de TormesInformación para expositores⚔️ Actividades destacadas🍖 Gastronomía : Comida popular con gran bocata de jamón ibérico🛍️ Participación y condicionesCartel y Programa del Mercado Romano Sieteiglesias de TormesDescripción de la localidad y cómo llegar🚗 Cómo llegarMercados Medievales 2026: Fechas y Localidades ConfirmadasPara más información puedes consultar :¿Te apuntas? Síguenos y no te pierdas de nada.En Resumen\n\n\n\n \n\n\n\nMercado Romano Sieteiglesias de Tormes\n\n\n\nEl Mercado Romano de Sieteiglesias de Tormes se celebrará el próximo 21 de junio de 2026\, ofreciendo una jornada ambientada en la época romana. \n\n\n\n \n\n\n\nInformación para expositores\n\n\n\n\nEvento : Mercado Romano\n\n\n\n📍 Ubicación: Sieteiglesias de Tormes \, SALAMANCA\n\n\n\n📅 Fecha: 21 de junio de 2026\n\n\n\n🎭 Temática: Mercado Romano \n\n\n\n💰 Precio de participación: Gratuito\n\n\n\nOrganiza :  Eventos Chavascat \n\nTeléfono 641 78 80 30\n\n\n\neventoschavascat@gmail.com \n\n\n\n\n\n🕰️ Horario: de 11:00 a 22:30 aprox.\n\n\n\n\n \n\n\n\n⚔️ Actividades destacadas\n\n\n\n\n🏛️ Apertura del mercado e inauguración con autoridades\n\n\n\n🛡️ Escuela de gladiadores gratis\n\n\n\n🎭 Pasacalles y animación continua (músicos\, personajes romanos)\n\n\n\n✨ Espectáculos de magia\n\n\n\n🎪 Talleres infantiles (globoflexia\, malabares\, gymkana)\n\n\n\n🎭 Teatro: Quique Puetus\n\n\n\n🔥 Gran espectáculo de fuego “Mito Pandora”\n\n\n\n🍷 Queimada con degustación nocturna\n\n\n\n\n🍖 Gastronomía : Comida popular con gran bocata de jamón ibérico\n\n\n\n \n\n\n\n🛍️ Participación y condiciones\n\n\n\nEl evento está dirigido a artesanos y puestos de alimentación que puedan adaptarse a la temática romana. \n\n\n\n\n🏺 Ambientación: Puestos y vestimenta acorde a época romana\n\n\n\n💶 Fianza: 50 € (se devuelve tras el desmontaje)\n\n\n\n\n \n\n\n\nCartel y Programa del Mercado Romano Sieteiglesias de Tormes\n\n\n\n\n\n\n\n \n\n\n\nDescripción de la localidad y cómo llegar\n\n\n\nSieteiglesias de Tormes es un pequeño y encantador municipio de la provincia de Salamanca\, rodeado de naturaleza y con un ambiente tranquilo que lo convierte en un lugar perfecto para eventos temáticos. \n\n\n\n🚗 Cómo llegar\n\n\n\n\nDesde Salamanca: aproximadamente 40 minutos en coche\n\n\n\nAcceso por carreteras comarcales\n\n\n\n\n\n\n \n\n\n\nMercados Medievales 2026: Fechas y Localidades Confirmadas\n\n\n\n\n\n\n\nEspaña cuenta con una de las agendas de ferias temáticas más ricas del mundo\, combinando gastronomía tradicional\, artesanía de autor y espectáculos en vivo. Si buscas un plan diferente para el fin de semana o quieres conocer el patrimonio de una forma única\, esta es tu guía definitiva. Leer más \n\n\n\nPara más información puedes consultar :\n\n\n\n\nPuedes Consultar en esté enlace las  Ferias y Mercados en España\n\n\n\nHaz clic en ESTE enlace :  Conoce los Organizadores de Mercados y Ferias\n\n\n\n\n¿Te apuntas? Síguenos y no te pierdas de nada.\n\n\n\n\nTelegram\n\n\n\nNewsletter\n\n\n\nWhatsApp\n\n\n\nInstagram\n\n\n\nPor supuesto en Facebook\n\n\n\n\nEn Resumen
URL:https://demercadosmedievales.info/mercadomedieval/mercado-romano-sieteiglesias-de-tormes/
LOCATION:Sieteiglesias de Tormes (Salamanca)\, Sieteiglesias de Tormes (Salamanca)\, Salamanca\, España
CATEGORIES:Castilla y Leon,Mercado romano,Salamanca
ATTACH;FMTTYPE=image/jpeg:https://demercadosmedievales.info/wp-content/uploads/2026/03/romano_sieteiglesias_fb.jpg
ORGANIZER;CN="Eventos Chavascat S.L.":MAILTO:eventoschavascat@gmail.com
END:VEVENT
BEGIN:VEVENT
DTSTART;TZID=Europe/Madrid:20260808T000000
DTEND;TZID=Europe/Madrid:20260809T235959
DTSTAMP:20260420T094621
CREATED:20260109T192241Z
LAST-MODIFIED:20260109T192317Z
UID:10003112-1786147200-1786319999@demercadosmedievales.info
SUMMARY:Feria Barroca en Peñaranda de Bracamonte |  2026
DESCRIPTION:La Feria Barroca en Peñaranda de Bracamonte se celebrará los días 08 y 09 de Agosto de 2026\, ofreciendo un evento cultural ambientado en la época barroca con artesanía\, gastronomía y animación histórica\, en pleno corazón de la provincia de Salamanca. \n\n\n\n\n\n\n\n \n\n\n\n \n\n\n\nFeria Barroca en Peñaranda de Bracamonte\n\n\n\n“Peñaranda revive el esplendor del Barroco”\n\n\n\nLa Feria Barroca en Peñaranda de Bracamonte se celebrará los días 08 y 09 de agosto de 2026\, ofreciendo a vecinos y visitantes una propuesta cultural que pone en valor el importante legado histórico y artístico de la localidad. Durante dos jornadas\, el municipio se transformará en un espacio inspirado en la época barroca\, creando una experiencia única en pleno corazón de la provincia de Salamanca. \n\n\n\nAdemás\, la feria contará con una cuidada selección de puestos de artesanía\, alimentación y gastronomía\, donde se podrán encontrar productos tradicionales y elaboraciones de calidad. A lo largo del evento\, la animación temática contribuirá a recrear el ambiente barroco\, favoreciendo el recorrido del público y la participación activa en las distintas actividades. \n\n\n\n\n\nInformación de la Feria Barroca en Peñaranda de Bracamonte .\n\n\n\nEvento: Feria Barroca en Peñaranda de BracamonteFechas: 08 y 09 de agosto de 2026Horario: Por confirmarUbicación: Peñaranda de Bracamonte (SALAMANCA)Montaje: Por confirmarDesmontaje: Por confirmarInauguración: Por confirmarPeriodicidad: AnualProductos permitidos: Artesanía\, alimentación\, gastronomíaServicios incluidos: Animación\, seguridad\, luz\, publicidadOrganiza: Por confirmar \n\n\n\n\n\n\n\n \n\n\n\nPeñaranda de Bracamonte\, historia y arte en la tierra salmantina\n\n\n\nPeñaranda de Bracamonte es una localidad situada en la provincia de Salamanca\, conocida por su relevante patrimonio histórico\, especialmente vinculado al Barroco\, visible en edificios como la Plaza Mayor y diversas construcciones monumentales. Su tradición cultural y su dinamismo la convierten en un enclave ideal para la celebración de eventos temáticos como la Feria Barroca\, que refuerzan su identidad histórica y atraen a visitantes de toda la comarca. \n\n\n\n\n\nLos Mercados Barrocos \n\n\n\n\n\n\n\nLos mercados temáticos barrocos son eventos de recreación histórica que buscan sumergir al visitante en la estética y el ambiente de los siglos XVII y XVIII. A diferencia de los mercados medievales (que son más comunes)\, estos se centran en la época del Siglo de Oro\, el absolutismo y la exuberancia artística. Consultas próximas Ferias y Barrocas \n\n\n\n \n\n\n\nMercados Medievales 2026: Fechas y Localidades Confirmadas\n\n\n\n\n\n\n\nEspaña cuenta con una de las agendas de ferias temáticas más ricas del mundo\, combinando gastronomía tradicional\, artesanía de autor y espectáculos en vivo. Si buscas un plan diferente para el fin de semana o quieres conocer el patrimonio de una forma única\, esta es tu guía definitiva. Leer más \n\n\n\nPara más información puedes consultar :\n\n\n\n\nPuedes Consultar en esté enlace las  Ferias y Mercados en España\n\n\n\nHaz clic en ESTE enlace :  Conoce los Organizadores de Mercados y Ferias\n\n\n\n\n¿Te apuntas? Síguenos y no te pierdas de nada.\n\n\n\n\nTelegram\n\n\n\nNewsletter\n\n\n\nWhatsApp\n\n\n\nInstagram\n\n\n\nPor supuesto en Facebook\n\n\n\n\nEn Resumen…\n\n\n\n🎩✨ Feria Barroca en Peñaranda de Bracamonte ✨🎩📅 8 y 9 de agosto de 2026🧺 Artesanía | 🍽️ Gastronomía | 🎭 Animación barrocaHistoria y cultura en pleno verano.
URL:https://demercadosmedievales.info/mercadomedieval/feria-barroca-en-penaranda-de-bracamonte-2026/
LOCATION:Peñaranda de Bracamonte (Salamanca) (***)\, Peñaranda de Bracamonte\, Salamanca\, 37300
CATEGORIES:Castilla y Leon,Feria barroca,Salamanca
ATTACH;FMTTYPE=image/jpeg:https://demercadosmedievales.info/wp-content/uploads/2026/01/barroca_penaranda_bracamonte_fb.jpg
GEO:40.8995974;-5.2031818
END:VEVENT
END:VCALENDAR