BEGIN:VCALENDAR
VERSION:2.0
PRODID:-//Mercados Medievales - ECPv6.15.20//NONSGML v1.0//EN
CALSCALE:GREGORIAN
METHOD:PUBLISH
X-ORIGINAL-URL:https://demercadosmedievales.info
X-WR-CALDESC:Eventos para Mercados Medievales
REFRESH-INTERVAL;VALUE=DURATION:PT1H
X-Robots-Tag:noindex
X-PUBLISHED-TTL:PT1H
BEGIN:VTIMEZONE
TZID:Europe/Madrid
BEGIN:DAYLIGHT
TZOFFSETFROM:+0100
TZOFFSETTO:+0200
TZNAME:CEST
DTSTART:20250330T010000
END:DAYLIGHT
BEGIN:STANDARD
TZOFFSETFROM:+0200
TZOFFSETTO:+0100
TZNAME:CET
DTSTART:20251026T010000
END:STANDARD
BEGIN:DAYLIGHT
TZOFFSETFROM:+0100
TZOFFSETTO:+0200
TZNAME:CEST
DTSTART:20260329T010000
END:DAYLIGHT
BEGIN:STANDARD
TZOFFSETFROM:+0200
TZOFFSETTO:+0100
TZNAME:CET
DTSTART:20261025T010000
END:STANDARD
BEGIN:DAYLIGHT
TZOFFSETFROM:+0100
TZOFFSETTO:+0200
TZNAME:CEST
DTSTART:20270328T010000
END:DAYLIGHT
BEGIN:STANDARD
TZOFFSETFROM:+0200
TZOFFSETTO:+0100
TZNAME:CET
DTSTART:20271031T010000
END:STANDARD
END:VTIMEZONE
BEGIN:VEVENT
DTSTART;TZID=Europe/Madrid:20260621T000000
DTEND;TZID=Europe/Madrid:20260621T235959
DTSTAMP:20260420T142915
CREATED:20260327T111504Z
LAST-MODIFIED:20260327T111551Z
UID:10003365-1782000000-1782086399@demercadosmedievales.info
SUMMARY:Mercado Romano Sieteiglesias de Tormes 2026 (Salamanca)
DESCRIPTION:El Mercado Romano Sieteiglesias de Tormes se celebrará el próximo 21 de junio de 2026\, ofreciendo una jornada ambientada en la época romana. \n\n\n\n\n\n\n\n \n\n\n\nContenido Mercado Romano Sieteiglesias de TormesInformación para expositores⚔️ Actividades destacadas🍖 Gastronomía : Comida popular con gran bocata de jamón ibérico🛍️ Participación y condicionesCartel y Programa del Mercado Romano Sieteiglesias de TormesDescripción de la localidad y cómo llegar🚗 Cómo llegarMercados Medievales 2026: Fechas y Localidades ConfirmadasPara más información puedes consultar :¿Te apuntas? Síguenos y no te pierdas de nada.En Resumen\n\n\n\n \n\n\n\nMercado Romano Sieteiglesias de Tormes\n\n\n\nEl Mercado Romano de Sieteiglesias de Tormes se celebrará el próximo 21 de junio de 2026\, ofreciendo una jornada ambientada en la época romana. \n\n\n\n \n\n\n\nInformación para expositores\n\n\n\n\nEvento : Mercado Romano\n\n\n\n📍 Ubicación: Sieteiglesias de Tormes \, SALAMANCA\n\n\n\n📅 Fecha: 21 de junio de 2026\n\n\n\n🎭 Temática: Mercado Romano \n\n\n\n💰 Precio de participación: Gratuito\n\n\n\nOrganiza :  Eventos Chavascat \n\nTeléfono 641 78 80 30\n\n\n\neventoschavascat@gmail.com \n\n\n\n\n\n🕰️ Horario: de 11:00 a 22:30 aprox.\n\n\n\n\n \n\n\n\n⚔️ Actividades destacadas\n\n\n\n\n🏛️ Apertura del mercado e inauguración con autoridades\n\n\n\n🛡️ Escuela de gladiadores gratis\n\n\n\n🎭 Pasacalles y animación continua (músicos\, personajes romanos)\n\n\n\n✨ Espectáculos de magia\n\n\n\n🎪 Talleres infantiles (globoflexia\, malabares\, gymkana)\n\n\n\n🎭 Teatro: Quique Puetus\n\n\n\n🔥 Gran espectáculo de fuego “Mito Pandora”\n\n\n\n🍷 Queimada con degustación nocturna\n\n\n\n\n🍖 Gastronomía : Comida popular con gran bocata de jamón ibérico\n\n\n\n \n\n\n\n🛍️ Participación y condiciones\n\n\n\nEl evento está dirigido a artesanos y puestos de alimentación que puedan adaptarse a la temática romana. \n\n\n\n\n🏺 Ambientación: Puestos y vestimenta acorde a época romana\n\n\n\n💶 Fianza: 50 € (se devuelve tras el desmontaje)\n\n\n\n\n \n\n\n\nCartel y Programa del Mercado Romano Sieteiglesias de Tormes\n\n\n\n\n\n\n\n \n\n\n\nDescripción de la localidad y cómo llegar\n\n\n\nSieteiglesias de Tormes es un pequeño y encantador municipio de la provincia de Salamanca\, rodeado de naturaleza y con un ambiente tranquilo que lo convierte en un lugar perfecto para eventos temáticos. \n\n\n\n🚗 Cómo llegar\n\n\n\n\nDesde Salamanca: aproximadamente 40 minutos en coche\n\n\n\nAcceso por carreteras comarcales\n\n\n\n\n\n\n \n\n\n\nMercados Medievales 2026: Fechas y Localidades Confirmadas\n\n\n\n\n\n\n\nEspaña cuenta con una de las agendas de ferias temáticas más ricas del mundo\, combinando gastronomía tradicional\, artesanía de autor y espectáculos en vivo. Si buscas un plan diferente para el fin de semana o quieres conocer el patrimonio de una forma única\, esta es tu guía definitiva. Leer más \n\n\n\nPara más información puedes consultar :\n\n\n\n\nPuedes Consultar en esté enlace las  Ferias y Mercados en España\n\n\n\nHaz clic en ESTE enlace :  Conoce los Organizadores de Mercados y Ferias\n\n\n\n\n¿Te apuntas? Síguenos y no te pierdas de nada.\n\n\n\n\nTelegram\n\n\n\nNewsletter\n\n\n\nWhatsApp\n\n\n\nInstagram\n\n\n\nPor supuesto en Facebook\n\n\n\n\nEn Resumen
URL:https://demercadosmedievales.info/mercadomedieval/mercado-romano-sieteiglesias-de-tormes/
LOCATION:Sieteiglesias de Tormes (Salamanca)\, Sieteiglesias de Tormes (Salamanca)\, Salamanca\, España
CATEGORIES:Castilla y Leon,Mercado romano,Salamanca
ATTACH;FMTTYPE=image/jpeg:https://demercadosmedievales.info/wp-content/uploads/2026/03/romano_sieteiglesias_fb.jpg
ORGANIZER;CN="Eventos Chavascat S.L.":MAILTO:eventoschavascat@gmail.com
END:VEVENT
END:VCALENDAR