BEGIN:VCALENDAR
VERSION:2.0
PRODID:-//Mercados Medievales - ECPv6.15.20//NONSGML v1.0//EN
CALSCALE:GREGORIAN
METHOD:PUBLISH
X-ORIGINAL-URL:https://demercadosmedievales.info
X-WR-CALDESC:Eventos para Mercados Medievales
REFRESH-INTERVAL;VALUE=DURATION:PT1H
X-Robots-Tag:noindex
X-PUBLISHED-TTL:PT1H
BEGIN:VTIMEZONE
TZID:Europe/Madrid
BEGIN:DAYLIGHT
TZOFFSETFROM:+0100
TZOFFSETTO:+0200
TZNAME:CEST
DTSTART:20250330T010000
END:DAYLIGHT
BEGIN:STANDARD
TZOFFSETFROM:+0200
TZOFFSETTO:+0100
TZNAME:CET
DTSTART:20251026T010000
END:STANDARD
BEGIN:DAYLIGHT
TZOFFSETFROM:+0100
TZOFFSETTO:+0200
TZNAME:CEST
DTSTART:20260329T010000
END:DAYLIGHT
BEGIN:STANDARD
TZOFFSETFROM:+0200
TZOFFSETTO:+0100
TZNAME:CET
DTSTART:20261025T010000
END:STANDARD
BEGIN:DAYLIGHT
TZOFFSETFROM:+0100
TZOFFSETTO:+0200
TZNAME:CEST
DTSTART:20270328T010000
END:DAYLIGHT
BEGIN:STANDARD
TZOFFSETFROM:+0200
TZOFFSETTO:+0100
TZNAME:CET
DTSTART:20271031T010000
END:STANDARD
END:VTIMEZONE
BEGIN:VEVENT
DTSTART;TZID=Europe/Madrid:20260430T000000
DTEND;TZID=Europe/Madrid:20260503T235959
DTSTAMP:20260423T082652
CREATED:20260326T121552Z
LAST-MODIFIED:20260414T234301Z
UID:10002793-1777507200-1777852799@demercadosmedievales.info
SUMMARY:Mercado Goyesco Napoleonico de Camargo 2026 - Evento Maliaño
DESCRIPTION:El Mercado Goyesco Napoleonico de Camargo en honor a Pedro Velarde tendrá lugar en Maliaño\, Cantabria\, ofreciendo una recreación histórica única. \n\n\n\n\n\n\n\n \n\n\n\n\n\n\n\n¿Eres artesano o amante de las ferias temáticas? > Descubre el mayor calendario de mercados medievales 2026. Síguenos en nuestro Instagram oficial o conecta con nosotros vía WhatsApp para recibir novedades sobre plazos de inscripción y fechas de eventos. No olvides suscribirte a nuestra Newsletter para no perderte ninguna publicación. \n\n\n\n\n\n\n\n \n\n\n\nContenidoMercado Goyesco Napoleonico MaliañoQue te espera al visitar el Mercado ?Cartel del Mercado Goyesco Napoleonico y programaEl Mägo de Oz en la Fiesta Homenaje a Pedro Velarde 🎭📍 Como llegar al Mercado Goyesco NapoleonicoArtesanos y MercaderesMercados Medievales 2026Fechas y Localidades Confirmadas\n\n\n\n \n\n\n\nMercado Goyesco Napoleonico Maliaño\n\n\n\nRecreación En Honor De Pedro Velarde \n\n\n\nEste evento conmemorará la figura de Pedro Velarde\, héroe de la Guerra de la Independencia Española\, y transportará a los asistentes al siglo XIX. \n\n\n\n\n\n\n\n \n\n\n\n \n\n\n\nOrganizado por entusiastas de la historia y la cultura\, el mercado contará con una amplia variedad de puestos de artesanía\, gastronomía y productos tradicionales. Además\, se realizarán recreaciones de batallas napoleónicas\, desfiles de época y espectáculos inspirados en la vida y la sociedad de principios del siglo XIX. \n\n\n\n \n\n\n\nSi  quieres  participar  como  artesano  o  Mercader en el Mercado Goyesco Napoleonico  de Camargo. Tienes la información completa a continuación  👇 \n\n\n\n\n🏰Mercado Goyesco de Camargo 2026 (Cantabria) 📜 Inscripciones abiertas\n\n\n\n\n \n\n\n\nQue te espera al visitar el Mercado ?\n\n\n\nDurante el evento\, los visitantes podrán disfrutar de actuaciones de música y danza de la época\, exposiciones de vestimenta y armas\, así como actividades interactivas para toda la familia. Se espera la participación de recreadores históricos y grupos especializados que darán vida a este vibrante período de la historia española. \n\n\n\nMaliaño volverá a vestirse de gala con su Mercado Goyesco Napoleónico\, música\, recreación\, animación\, artesanía y gastronomía en una sola fiesta durante el puente de mayo. La entrada será gratuita al público visitante al concierto.  \n\n\n\n\nNo lo te pierdas !!!   \n\n\n\n\nCartel del Mercado Goyesco Napoleonico y programa \n\n\n\nPronto estará disponible el cartel y la programación. \n\n\n\n \n\n\n\nEl Mägo de Oz en la Fiesta Homenaje a Pedro Velarde 🎭\n\n\n\nEn Maliaño como parte de la Fiesta homenaje a Pedro Velarde \, el Mägo de Oz dará un concierto gratuito en Parking de Cros ubicado en Maliaño el día 01 de Mayo\, gratuita la entrada a los asistentes . \n\n\n\n \n\n\n\nCartel del Concierto \n\n\n\n\n\n\n\n \n\n\n\n \n\n\n\n📍 Como llegar al Mercado Goyesco Napoleonico\n\n\n\nMaliaño es una localidad perteneciente al municipio de Camargo\, situada a escasos kilómetros de Santander. \n\n\n\nSe trata de una zona dinámica y bien comunicada\, con una importante actividad comercial y cultural. Maliaño destaca por su cercanía a la bahía de Santander y por contar con espacios urbanos modernos combinados con tradición local. \n\n\n\nAdemás\, es un punto estratégico dentro de Cantabria gracias a su proximidad al aeropuerto y a las principales vías de comunicación\, lo que la convierte en un lugar ideal para la celebración de eventos y mercados. \n\n\n\n\n\n \n\n\n\nArtesanos y Mercaderes \n\n\n\n Información para participar  \n\n\n\n\nEvento : Mercado Goyesco Napoleónico\n\n\n\nFecha: 30 de Abril al 03 de Mayo de 2026\n\n\n\nPlazo de inscripción : Hasta completar el número de paradas.\n\n\n\nLugar: PLAZA DE LA CONSTITUCION Y CALLE EULOGIO FERNANDEZ BARROS\, Maliaño\n\n\n\nPoblación: Camargo ( CANTABRIA ) \n\n\n\nOferta a exponer:    Alimentación\, Gastronomía\, Artesanía y complementos.\n\n\n\nSerá inaugurado : Durante el día 30 de Abril.\n\n\n\nServicios que proporcionará el organizador: Animación Espectáculos\, Espacio de mercado\, Luz y Vigilancia Nocturna\n\n\n\nRequisitos : Documentación en regla\, Parada de metal o madera decorada según la temática\, Vestuario adaptado a la temática Goyesca o Napoleónica. Consulta al organizador sobre este o más requisitos.\n\n\n\nEntidad organizadora: LEGEND ESPECIALISTAS\n\nCorreo electrónico : artesanos@legendespecialistas.com\n\n\n\nTeléfono / WhatsApp : Oficinas: 966-851-604 Móvil: 663-049-625\n\n\n\n\n\n\n \n\n\n\nMercados Medievales 2026\n\n\n\nFechas y Localidades Confirmadas\n\n\n\n\n\n\n\nEspaña cuenta con una de las agendas de ferias temáticas más ricas del mundo\, combinando gastronomía tradicional\, artesanía de autor y espectáculos en vivo. Si buscas un plan diferente para el fin de semana o quieres conocer el patrimonio de una forma única\, esta es tu guía definitiva. Leer más \n\n\n\nPara más información puedes consultar : \n\n\n\n\nPuedes Consultar en esté enlace las  Ferias y Mercados en España\n\n\n\nHaz clic en ESTE enlace :  Conoce los Organizadores de Mercados y Ferias\n\n\n\n\n Síguenos  \n\n\n\n\nTelegram\n\n\n\nNewsletter\n\n\n\nWhatsApp\n\n\n\nInstagram\n\n\n\nPor supuesto en Facebook
URL:https://demercadosmedievales.info/mercadomedieval/mercado-goyesco-napoleonico-recreacion-en-honor-de-pedro-velarde-camargo-maliano-cantabria-2026/
LOCATION:Camargo (Cantabria) (***)\, Maliaño\, Camargo\, Cantabria\, 39600\, España
CATEGORIES:Cantabria,Mercado napoleonico
ATTACH;FMTTYPE=image/jpeg:https://demercadosmedievales.info/wp-content/uploads/2026/04/mercado-goyesco-camargo-2026-FB.jpg
ORGANIZER;CN="Legend Especialistas":MAILTO:artesanos@legendespecialistas.com
GEO:43.4242539;-3.8400851
X-APPLE-STRUCTURED-LOCATION;VALUE=URI;X-ADDRESS=Camargo (Cantabria) (***) Maliaño Camargo Cantabria 39600 España;X-APPLE-RADIUS=500;X-TITLE=Maliaño:geo:-3.8400851,43.4242539
END:VEVENT
END:VCALENDAR