BEGIN:VCALENDAR
VERSION:2.0
PRODID:-//Mercados Medievales - ECPv6.15.20//NONSGML v1.0//EN
CALSCALE:GREGORIAN
METHOD:PUBLISH
X-WR-CALNAME:Mercados Medievales
X-ORIGINAL-URL:https://demercadosmedievales.info
X-WR-CALDESC:Eventos para Mercados Medievales
REFRESH-INTERVAL;VALUE=DURATION:PT1H
X-Robots-Tag:noindex
X-PUBLISHED-TTL:PT1H
BEGIN:VTIMEZONE
TZID:Europe/Madrid
BEGIN:DAYLIGHT
TZOFFSETFROM:+0100
TZOFFSETTO:+0200
TZNAME:CEST
DTSTART:20250330T010000
END:DAYLIGHT
BEGIN:STANDARD
TZOFFSETFROM:+0200
TZOFFSETTO:+0100
TZNAME:CET
DTSTART:20251026T010000
END:STANDARD
BEGIN:DAYLIGHT
TZOFFSETFROM:+0100
TZOFFSETTO:+0200
TZNAME:CEST
DTSTART:20260329T010000
END:DAYLIGHT
BEGIN:STANDARD
TZOFFSETFROM:+0200
TZOFFSETTO:+0100
TZNAME:CET
DTSTART:20261025T010000
END:STANDARD
BEGIN:DAYLIGHT
TZOFFSETFROM:+0100
TZOFFSETTO:+0200
TZNAME:CEST
DTSTART:20270328T010000
END:DAYLIGHT
BEGIN:STANDARD
TZOFFSETFROM:+0200
TZOFFSETTO:+0100
TZNAME:CET
DTSTART:20271031T010000
END:STANDARD
END:VTIMEZONE
BEGIN:VEVENT
DTSTART;TZID=Europe/Madrid:20260410T000000
DTEND;TZID=Europe/Madrid:20260412T235959
DTSTAMP:20260420T094816
CREATED:20260326T101148Z
LAST-MODIFIED:20260409T051204Z
UID:10003154-1775779200-1776038399@demercadosmedievales.info
SUMMARY:Mercado Circense de Las Lagunas de Mijas 2026 (Málaga)
DESCRIPTION:Mercado Circense de Las Lagunas de Mijas del 10 al 12 de abril con artesanía\, gastronomía y ambiente festivo en Málaga. \n\n\n\n\n\n\n\n \n\n\n\n \n\n\n\n\n\n\n\n¿Eres artesano o amante de las ferias temáticas? > Descubre el mayor calendario de mercados medievales 2026. Síguenos en nuestro Instagram oficial o conecta con nosotros vía WhatsApp para recibir novedades sobre plazos de inscripción y fechas de eventos. No olvides suscribirte a nuestra Newsletter para no perderte ninguna publicación. \n\n\n\n\n\n\n\n \n\n\n\n \n\n\n\nÍndiceMercado Circense de Las Lagunas de MijasInformación para expositoresCartel Mercado Circense de Las Lagunas de MijasProgramación del Mercado Circense de Las Lagunas de MijasLas Lagunas de Mijas\, vida\, comercio y tradición en la Costa del Sol🚗 Cómo llegar a Las Lagunas de Mijas en coche📍 Desde Marbella📍 Desde Granada📍 Desde SevillaEventos más próximos  Mercados Medievales 2026: Calendario de Fechas y LocalidadesInformación clave sobre Mercados medievales y temáticosÚnete a la Red de Artesanos y MercaderesEn Resumen…\n\n\n\n\n\n\n\n \n\n\n\nMercado Circense de Las Lagunas de Mijas\n\n\n\nLa magia del circo toma la calle  \n\n\n\nEl Mercado Circense de Las Lagunas de Mijas llega en abril para transformar la Plaza de la Candelaria en un espacio lleno de fantasía\, color y buen ambiente. Durante tres jornadas\, la estética del circo envolverá una variada oferta de artesanía y gastronomía. \n\n\n\n \n\n\n\nInformación para expositores\n\n\n\nMercado Circense de Las Lagunas de Mijas\n\n\n\n\nEvento: Mercado Circense \n\n\n\nFechas: 10\, 11 y 12 de abril de 2026\n\n\n\nMontaje: 10 de abril por la mañana\n\n\n\nUbicación: Plaza de la Candelaria\n\n\n\nLocalidad: Las Lagunas de Mijas ( MALAGA  )\n\n\n\nOferta: Artesanía\, alimentación y gastronomía\n\n\n\nPeriodicidad: Anual\n\n\n\nOrganiza: Malik Culture Eventos\n\n\n\nContacto / WhatsApp: 657 665 994 – 676 928 928\n\n\n\n\n \n\n\n\nCartel Mercado Circense de Las Lagunas de Mijas \n\n\n\nCartel oficial Mercado Circense de Las Lagunas de Mijas\n\n\n\n \n\n\n\nProgramación del Mercado Circense de Las Lagunas de Mijas \n\n\n\nPrograma del Mercado Circense de Las Lagunas de Mijas\n\n\n\n \n\n\n\nLas Lagunas de Mijas\, vida\, comercio y tradición en la Costa del Sol\n\n\n\nLas Lagunas de Mijas es uno de los núcleos urbanos más dinámicos del municipio de Mijas\, en la provincia de Málaga\, situado entre la costa y el interior\, con una intensa vida comercial y cultural. Las Lagunas de Mijas cuenta con fácil acceso por carretera desde Málaga\, Fuengirola y otros puntos de la Costa del Sol. \n\n\n\n🚗 Cómo llegar a Las Lagunas de Mijas en coche\n\n\n\nLas Lagunas de Mijas es una zona urbana perteneciente al municipio de Mijas\, situada estratégicamente entre Fuengirola y Marbella\, en plena Costa del Sol. \n\n\n\nSu excelente red de comunicaciones facilita el acceso desde cualquier punto de Andalucía. \n\n\n\n\n\n\n\n📍 Desde Málaga \n\n\n\n\nDistancia: Aproximadamente 30 km\n\n\n\nDuración: 25–30 minutos\n\n\n\nRuta recomendada:\n\nToma la AP-7 (peaje) o la A-7 en dirección a Algeciras.\n\n\n\nSal por la salida hacia Fuengirola/Mijas.\n\n\n\nSigue las indicaciones hacia Las Lagunas de Mijas.\n\n\n\n\n\n\n\n\n\n\n📍 Desde Marbella\n\n\n\n\nDistancia: Aproximadamente 30 km\n\n\n\nDuración: 30 minutos\n\n\n\nRuta recomendada:\n\nConduce por la A-7 o la AP-7 en dirección a Málaga.\n\n\n\nToma la salida hacia Fuengirola/Mijas y continúa hasta Las Lagunas.\n\n\n\n\n\n\n\n\n\n\n📍 Desde Granada\n\n\n\n\nDistancia: Aproximadamente 150 km\n\n\n\nDuración: 1 hora y 45 minutos\n\n\n\nRuta recomendada:\n\nCircula por la A-92 y enlaza con la A-7 en dirección a Algeciras.\n\n\n\n\n\n\n\n\n\n\n📍 Desde Sevilla\n\n\n\n\nDistancia: Aproximadamente 220 km\n\n\n\nDuración: 2 horas y 30 minutos\n\n\n\nRuta recomendada:\n\nToma la AP-4 o A-92 hacia Málaga y continúa por la A-7 hasta Mijas.\n\n\n\n\n\n\n\n\n\n\n\n\n \n\n\n\n \n\n\n\nEventos más próximos  \n\n\n\nFiesta blanca de Arroyo de la Miel – Benalmadena 2026 (Málaga)14 mayo - 17 mayoCelestia Mercado Temático de Nerja 2026 (Málaga)21 mayo - 24 mayoMercado Medieval – XX Jornadas Escocesas “Douglas Days” 2026 en Teba (Málaga)21 agosto - 23 agosto\n\n\n\n \n\n\n\n \n\n\n\nMercados Medievales 2026: Calendario de Fechas y Localidades\n\n\n\n \n\n\n\nMercados Medievales en la RED\n\n\n\n¿Eres artesano o mercader y buscas nuevos eventos para exponer tus productos? España ofrece una de las agendas de ferias temáticas y mercados medievales más dinámicas de Europa. Estos eventos son el escaparate perfecto para la artesanía de autor\, combinando un gran flujo de visitantes con entornos de venta estratégicos. \n\n\n\nSi tu objetivo es ampliar tu ruta de mercados y asegurar tu participación en las mejores plazas\, esta es tu plataforma profesional de referencia. \n\n\n\n \n\n\n\nInformación clave sobre Mercados medievales y temáticos\n\n\n\nOptimizamos tu logística facilitándote el acceso a la información clave para el montaje y la solicitud de plazas: \n\n\n\n\nPróximas Ferias y Mercados en España: Consulta las localidades confirmadas y las fechas de los próximos eventos para planificar tu ruta anual.\n\n\n\nGuía de Organizadores de Mercados y Ferias: Accede al listado de empresas organizadoras para solicitar bases de participación\, precios de metros y condiciones de montaje.\n\n\n\n\n\n\n\n\n \n\n\n\nÚnete a la Red de Artesanos y Mercaderes\n\n\n\nLas plazas en los mejores mercados se agotan rápido. No te quedes fuera de las convocatorias más importantes del año. Únete a nuestros canales exclusivos para profesionales y recibe alertas sobre nuevas aperturas de plazos e inscripciones: \n\n\n\nComunidad y Visibilidad: Conecta con nosotros en Instagram\, Facebook y nuestra Newsletter profesional. \n\n\n\nAlertas Inmediatas: Únete a nuestro Telegram o WhatsApp para recibir avisos d \n\n\n\n \n\n\n\nEn Resumen…
URL:https://demercadosmedievales.info/mercadomedieval/mercado-circense-de-las-lagunas-de-mijas-2026-malaga/
LOCATION:Las Lagunas de Mijas (Málaga) (***)\, Plaza de la Candelaria en Lagunas de Mijas\, Mijas\, Málaga\, 29650\, España
CATEGORIES:Andalucia,Cartel,Malaga,Mercado Circense,Programación
ATTACH;FMTTYPE=image/jpeg:https://demercadosmedievales.info/wp-content/uploads/2026/01/circense_las_lagunas_fb.jpg
ORGANIZER;CN="Malik Culture Eventos":MAILTO:asociacionmalim@hotmail.com
GEO:36.5967755;-4.6323067
X-APPLE-STRUCTURED-LOCATION;VALUE=URI;X-ADDRESS=Las Lagunas de Mijas (Málaga) (***) Plaza de la Candelaria en Lagunas de Mijas Mijas Málaga 29650 España;X-APPLE-RADIUS=500;X-TITLE=Plaza de la Candelaria en Lagunas de Mijas:geo:-4.6323067,36.5967755
END:VEVENT
END:VCALENDAR