BEGIN:VCALENDAR
VERSION:2.0
PRODID:-//Mercados Medievales - ECPv6.15.20//NONSGML v1.0//EN
CALSCALE:GREGORIAN
METHOD:PUBLISH
X-WR-CALNAME:Mercados Medievales
X-ORIGINAL-URL:https://demercadosmedievales.info
X-WR-CALDESC:Eventos para Mercados Medievales
REFRESH-INTERVAL;VALUE=DURATION:PT1H
X-Robots-Tag:noindex
X-PUBLISHED-TTL:PT1H
BEGIN:VTIMEZONE
TZID:Europe/Madrid
BEGIN:DAYLIGHT
TZOFFSETFROM:+0100
TZOFFSETTO:+0200
TZNAME:CEST
DTSTART:20240331T010000
END:DAYLIGHT
BEGIN:STANDARD
TZOFFSETFROM:+0200
TZOFFSETTO:+0100
TZNAME:CET
DTSTART:20241027T010000
END:STANDARD
BEGIN:DAYLIGHT
TZOFFSETFROM:+0100
TZOFFSETTO:+0200
TZNAME:CEST
DTSTART:20250330T010000
END:DAYLIGHT
BEGIN:STANDARD
TZOFFSETFROM:+0200
TZOFFSETTO:+0100
TZNAME:CET
DTSTART:20251026T010000
END:STANDARD
BEGIN:DAYLIGHT
TZOFFSETFROM:+0100
TZOFFSETTO:+0200
TZNAME:CEST
DTSTART:20260329T010000
END:DAYLIGHT
BEGIN:STANDARD
TZOFFSETFROM:+0200
TZOFFSETTO:+0100
TZNAME:CET
DTSTART:20261025T010000
END:STANDARD
END:VTIMEZONE
BEGIN:VEVENT
DTSTART;TZID=Europe/Madrid:20250612T000000
DTEND;TZID=Europe/Madrid:20250615T235959
DTSTAMP:20260422T042043
CREATED:20241220T182731Z
LAST-MODIFIED:20241220T190934Z
UID:10002034-1749686400-1750031999@demercadosmedievales.info
SUMMARY:Arde Lvcvs 2025: La XXIV Edición del Viaje al Pasado de Lugo
DESCRIPTION:Mercado Renacentista de Cebolla 2026 \, 25-26 abril con música\, pasacalles y artesanía en Toledo.  \n\n\n \n\n\n\n\n\n\n\nArde Lvcvs\n\n\n\n\n\n\n\n \n\n\n\nDel 12 al 15 de junio de 2025\, la ciudad de Lugo volverá a vibrar con el espíritu castreño y romano gracias a la XXIV edición del Arde Lvcvs\, una de las recreaciones históricas más destacadas a nivel global\, recientemente reconocida como Fiesta de Interés Turístico Internacional. \n\n\n\nCon la implicación de 19 asociaciones de recreación histórica\, este evento convierte a Lugo en un auténtico escenario del pasado\, transportando a los asistentes a la época romana y castreña con actividades\, espectáculos y una atmósfera única. El Gobierno local busca superar la calidad de años anteriores\, apostando por una programación que combine divulgación histórica y dinamización cultural. \n\n\n\nUn Éxito que se Consolida\n\n\n\nLa edición de 2024 dejó el listón muy alto\, con un 100 % de ocupación hotelera y una afluencia récord. Según el concejal de Juventud\, Jorge Bustos\, “La afluencia no puede ser mayor\, por lo que ahora centramos nuestros esfuerzos en mejorar la calidad de la programación y en hacer del Arde Lvcvs una experiencia inolvidable”. \n\n\n\nLas Claves del Arde Lvcvs\n\n\n\nEl éxito de este evento radica en el trabajo colectivo de las asociaciones como Ara Roma\, Civitas Lucensis\, Guardia Pretoriana\, Vestales Lucus Augusti y muchas más\, que se encargan de recrear la vida cotidiana\, los enfrentamientos\, la cultura y las tradiciones de la época. \n\n\n\nDurante cuatro días\, los visitantes podrán disfrutar de: \n\n\n\n\nDesfiles y recreaciones históricas.\n\n\n\nMercados castreños y romanos.\n\n\n\nActividades para toda la familia.\n\n\n\nEspectáculos de lucha\, música y danza.\n\n\n\n\nUn Evento para No Perderse\n\n\n\nEl Arde Lvcvs no es solo una fiesta\, sino un homenaje a la identidad y el patrimonio de Lugo\, uniendo pasado y presente en una experiencia inolvidable. La XXIV edición promete consolidar aún más su posición como referente en el calendario cultural gallego y global. \n\n\n\n¡Reserva las fechas y prepárate para viajar en el tiempo en el Arde Lvcvs 2025! \n\n\n\nPara participar en esta gran fiesta y su Mercado romano – castrexo :\n\n\n\n\ninfórmate en http://www.ardelucus.com/es\n\n\n\no en el  Concello de Lugo : Teléfono 982 297 350\n\n\n\no en la oficina de turismo : Teléfono 982 251 658\n\n\n\n\n \n\n\n\n\n\n\n\nMás Ferias y Mercados en la Provincia\n\n\n\nExplora otros eventos en tu zona visitando nuestra sección de Eventos de LA PROVINCIA DE LUGO\, donde encontrarás información actualizada sobre ferias\, mercados y actividades para todas las edades. \n\n\n\n\n\n\n\nMás Mercados Temáticos y Ferias\n\n\n\n¿Quieres saber cuándo y dónde se realizarán más ferias y mercados?Visita nuestro Calendario de Eventos para obtener detalles de: \n\n\n\n\nCalendario 2025: Planifica con anticipación y no te pierdas ninguna cita.\n\n\n\n\n\n\n\n\nSobre los Mercados Medievales\n\n\n\nLas ferias medievales son auténticos viajes en el tiempo. Estos eventos recrean la atmósfera de la Edad Media. Leer más… \n\n\n\n\n\n\n\n\nMERCADOS MEDIEVALES Y TEMATICOS \n\n\n\nInformación de los próximos mercados medievales\, temáticos\, de artesanía a nivel nacional además de ofrecer información sobre servicios de alquiler de casetas\, venta de paradas\, cooperativas\, decoración y más. \n\n\n\nwww.mercados medievales.net \n\n\n\n\n\n\n\n\n\n\n\n\nOrganiza…\n\n\n\n\n\nLugar de celebración …
URL:https://demercadosmedievales.info/mercadomedieval/arde-lvcvs-2025-la-xxiv-edicion-del-viaje-al-pasado-de-lugo/
LOCATION:Lugo (Lugo) (***)\, Lugo\, Lugo\, 27002\, España
CATEGORIES:Lugo,Mercado romano,Recreación Histórica,Recreación Historica
ATTACH;FMTTYPE=image/jpeg:https://demercadosmedievales.info/wp-content/uploads/2024/12/arde_lucus_2025.jpg
GEO:43.0097384;-7.5567582
END:VEVENT
BEGIN:VEVENT
DTSTART;TZID=Europe/Madrid:20250612T000000
DTEND;TZID=Europe/Madrid:20250615T235959
DTSTAMP:20260422T042043
CREATED:20250330T063603Z
LAST-MODIFIED:20250330T064004Z
UID:10002323-1749686400-1750031999@demercadosmedievales.info
SUMMARY:06/2025 Gran Mercado Medieval de La Muela 2025 Zaragoza
DESCRIPTION:El Gran Mercado Medieval de La Muela (Zaragoza)\, que formará parte de las fiestas en honor a San Antonio de Padua\, las fiestas mayores de La Muela\, abre su convocatoria para todos los artesanos que deseen participar en esta feria que transportará a los asistentes a la época medieval. \n\n\n\n\n\n\n\nEl Gran Mercado Medieval de La Muela (Zaragoza) abre su convocatoria para todos los artesanos que deseen participar en esta feria de temática medieval. \n\n\n\nGran Mercado Medieval\n\n\n\n\n\n\n\n \n\n\n\nInformación del evento\n\n\n\n\nFechas de celebración: 12\, 13\, 14 y 15 de junio del 2025 \n\n\n\nMontaje: 12 de junio a partir de las 9:00 de la mañana.\n\n\n\nUbicación: Plaza Corazón de Jesús y Calle Mayor.\n\n\n\nLocalidad y Provincia : La Muela\, ZARAGOZA\n\n\n\n\n\n\n\n\n\n\n\n\n\n\n\n \n\n\n\nInformación del organizador :\n\n\n\nLa organización y decoración de este evento están a cargo de  . Para más detalles sobre el proceso de inscripción\, tarifas y requisitos específicos\, contacta a través de: \n\n\n\n\n\nLa organización busca artesanos especializados en productos medievales\, bisutería artesanal\, cuero\, madera\, cerámica\, forja\, ropa de época y gastronomía tradicional. \n\n\n\n\n\n\n\n\n\n\n\n\n\n\n \n\n\n\n\n\n\n\n \n\n\n\nInformación sobre la localidad\n\n\n\nAcerca de .. La MuelaLa Muela es un municipio y localidad española de la provincia de Zaragoza\, en la comunidad autónoma de Aragón. \n\n\n\nEl casco antiguo está compuesto por calles paralelas y perpendiculares\, diseñado para evitar las fuertes rachas de viento. \n\n\n\nSe asienta sobre una meseta situada a 23 km de Zaragoza\, a unos 600m de altitud\, libre de contaminación debido al cierzo\, viento que sopla con frecuencia en el pueblo. \n\n\n\nSu término municipal tiene una superficie de 143.5 kilómetros cuadrados\, y su población aproximada es de 6416 habitantes\, a los que se conoce con el gentilicio de muelano. \n\n\n\n\n\n\n\n\n\nFiestas en honor a San Antonio de Padua.\n\n\n\nSon las fiestas mayores de La Muela\, que se celebran la semana del 13 de junio. \n\n\n\nComidas populares\, juegos tradicionales\, bailes\, mercado medieval\, jotas\, rondallas… conforman unas fiestas que el pueblo vive con gran participación y entusiasmo. Cabe destacar la actuación de los danzantes\, una de las manifestaciones artísticas más antiguas ligadas a La Muela. \n\n\n\nEs un baile que se hace con los palos y las espadas al son de una música especial\, entre moros y cristianos. El día del Santo al iniciarse la procesión\, en la puerta de la iglesia\, los danzantes reciben a San Antonio con el paloteado al aire de la Marcha Real. En el recorrido por las calles\, los danzantes bailan varias veces el llamado “Pasacalles”. \n\n\n\n \n\n\n\n\n\n\n\n \n\n\n\nOtros enlaces :\n\n\n\nPodría ser de tu interés : \n\n\n\n\nHaz clic en este enlace y entérate de todos los eventos que harán en la provincia de Zaragoza\n\n\n\nConsulta el calendario completo en el siguiente enlace y prepárate para la aventura! 👉 JUNIO\n\n\n\nPuedes Consultar en esté enlace las Ferias y Mercados en España\n\n\n\nHaz clic en ESTE enlace : y Conoce los Organizadores de Mercados y Ferias \n\n\n\n\n\n\n\n\n\n\n\n\nVisita nuestro Calendario de Eventos para obtener detalles de: Calendario 2025: Planifica con anticipación y no te pierdas ninguna cita.\n\n\n\n\n\nLas ferias medievales son auténticos viajes en el tiempo. Estos eventos recrean la atmósfera de la Edad Media. Leer más…\n\n\n\n\n\n\n\n\n \n\n\n\nSíguenos.\n\n\n\n\nTelegram: Recibe nuestras noticias y contenido exclusivo (clic aquí).\n\n\n\nNewsletter: Recibe un correos con nuestras últimas noticias (clic aquí).\n\n\n\nWhatsApp: Suscríbete para seguirnos en nuestro canal  (clic aquí).\n\n\n\nInstagram:  Síguenos en Instagram ( clic aquí )\n\n\n\n\n \n\n\n\n\n\n\n\n\n\n\n\nMercadosmedievales.net \n\n\n\nLos Mercados Medievales son eventos que transportan a los asistentes a la atmósfera de la Edad Media\, recreando su esencia y estética de manera auténtica. A lo largo de estos mercados\, es posible encontrar una gran variedad de puestos que ofrecen artesanía\, productos gastronómicos y objetos característicos de la época.  \n\n\n\nAdemás\, suelen contar con numerosas actividades y espectáculos inspirados en las tradiciones medievales\, como justas\, teatro callejero\, música en vivo y danzas folclóricas. En definitiva\, representan una excelente oportunidad para sumergirse en la cultura\, la gastronomía y el arte de una de las épocas más cautivadoras de la historia.
URL:https://demercadosmedievales.info/mercadomedieval/gran-mercado-medieval-de-la-muela-2025/
LOCATION:La Muela (Zaragoza) (***)\, La Muela\, Zaragoza\, 50196
CATEGORIES:Aragon,Mercado Medieval,Zaragoza
ATTACH;FMTTYPE=image/jpeg:https://demercadosmedievales.info/wp-content/uploads/2025/03/1200-mercado-medieval-la-muela.jpg
ORGANIZER;CN="Lancelot medieval":MAILTO:info@lancelotmedieval.com
GEO:41.6488226;-0.8890853
END:VEVENT
BEGIN:VEVENT
DTSTART;TZID=Europe/Madrid:20250612T000000
DTEND;TZID=Europe/Madrid:20250615T235959
DTSTAMP:20260422T042043
CREATED:20250414T112240Z
LAST-MODIFIED:20250414T124803Z
UID:10002403-1749686400-1750031999@demercadosmedievales.info
SUMMARY:Feria de Primavera de Bermeo 2025 -Vizcaya-
DESCRIPTION:Disfruta la Feria de Primavera en Bermeo\, del 12 al 15 de junio: música\, gastronomía y tradición en un entorno único. \n\n\n\n\n\n\n\n✔Haz clic en este enlace : Mercados medievales en EUSKADI\n\n\n\n✔Consulta el calendario completo del mes de JUNIO\n\n\n\n \n\n\n\n \n\n\n\nFERIA DE PRIMAVERA\n\n\n\nDel 12 al 15 de junio\, Bermeo se llena de color\, tradición y alegría con su esperada Feria de Primavera. Un evento para disfrutar en familia\, con mercado artesanal\, gastronomía local\, música y actividades para todas las edades. \n\n\n\n\n\n\n\n \n\n\n\nInformación del evento  :\n\n\n\n\nEvento:  Feria de Primavera\n\n\n\nFecha: Del 12 al 15 Junio 2025\n\n\n\nProvincia:  Bermeo ( VIZCAYA )\n\n\n\n\n \n\n\n\nOrganiza :\n\n\n\nEmail de Contacto : COMERCIALFERIAS@GMAIL.COM \n\n\n\n\n\n \n\n\n\n\n\n\n\nLocalización\n\n\n\nBermeo es una villa y municipio vizcaíno de la comarca de Busturialdea\, en la comunidad autónoma del País Vasco\, España. Se trata de una de las localidades más pobladas de la comarca de la Reserva de la Biosfera de Urdaibai junto con Guernica y Luno\, con 17 042 habitantes. \n\n\n\n\n\n \n\n\n\n\n\n\n\nOtros enlaces :\n\n\n\nPodría ser de tu interés : \n\n\n\n\nPuedes Consultar en esté enlace las Ferias y Mercados en España\n\n\n\nHaz clic en ESTE enlace : y Conoce los Organizadores de Mercados y Ferias \n\n\n\n\n\nVisita nuestro Calendario de Eventos para obtener detalles de: Calendario 2025: Planifica con anticipación y no te pierdas ninguna cita.\n\n\n\n\n\nLas ferias medievales son auténticos viajes en el tiempo. Estos eventos recrean la atmósfera de la Edad Media. Leer más…\n\n\n\n\n\n\n\n\n \n\n\n\nSíguenos.\n\n\n\n\nTelegram: Recibe nuestras noticias y contenido exclusivo (clic aquí).\n\n\n\nNewsletter: Recibe un correos con nuestras últimas noticias (clic aquí).\n\n\n\nWhatsApp: Suscríbete para seguirnos en nuestro canal  (clic aquí).\n\n\n\nInstagram:  Síguenos en Instagram ( clic aquí )\n\n\n\n\n \n\n\n\n\n\n\n\n\n\n\n\nMercadosmedievales.net \n\n\n\nLos Mercados Medievales son eventos que transportan a los asistentes a la atmósfera de la Edad Media\, recreando su esencia y estética de manera auténtica. A lo largo de estos mercados\, es posible encontrar una gran variedad de puestos que ofrecen artesanía\, productos gastronómicos y objetos característicos de la época.  \n\n\n\n\n\n\n\nAdemás\, suelen contar con numerosas actividades y espectáculos inspirados en las tradiciones medievales\, como justas\, teatro callejero\, música en vivo y danzas folclóricas. En definitiva\, representan una excelente oportunidad para sumergirse en la cultura\, la gastronomía y el arte de una de las épocas más cautivadoras de la historia.
URL:https://demercadosmedievales.info/mercadomedieval/feria-de-primavera-de-bermeo-2025-vizcaya-2/
LOCATION:Bermeo (Vizcaya)\, Bermeo\, Vizcaya\, España
CATEGORIES:Euskadi / Pais Vasco,Multisectorial,Vizcaya
ATTACH;FMTTYPE=image/jpeg:https://demercadosmedievales.info/wp-content/uploads/2025/04/1200-primavera-bermeo.jpg
END:VEVENT
END:VCALENDAR