BEGIN:VCALENDAR
VERSION:2.0
PRODID:-//Mercados Medievales - ECPv6.15.20//NONSGML v1.0//EN
CALSCALE:GREGORIAN
METHOD:PUBLISH
X-ORIGINAL-URL:https://demercadosmedievales.info
X-WR-CALDESC:Eventos para Mercados Medievales
REFRESH-INTERVAL;VALUE=DURATION:PT1H
X-Robots-Tag:noindex
X-PUBLISHED-TTL:PT1H
BEGIN:VTIMEZONE
TZID:Europe/Madrid
BEGIN:DAYLIGHT
TZOFFSETFROM:+0100
TZOFFSETTO:+0200
TZNAME:CEST
DTSTART:20240331T010000
END:DAYLIGHT
BEGIN:STANDARD
TZOFFSETFROM:+0200
TZOFFSETTO:+0100
TZNAME:CET
DTSTART:20241027T010000
END:STANDARD
BEGIN:DAYLIGHT
TZOFFSETFROM:+0100
TZOFFSETTO:+0200
TZNAME:CEST
DTSTART:20250330T010000
END:DAYLIGHT
BEGIN:STANDARD
TZOFFSETFROM:+0200
TZOFFSETTO:+0100
TZNAME:CET
DTSTART:20251026T010000
END:STANDARD
BEGIN:DAYLIGHT
TZOFFSETFROM:+0100
TZOFFSETTO:+0200
TZNAME:CEST
DTSTART:20260329T010000
END:DAYLIGHT
BEGIN:STANDARD
TZOFFSETFROM:+0200
TZOFFSETTO:+0100
TZNAME:CET
DTSTART:20261025T010000
END:STANDARD
END:VTIMEZONE
BEGIN:VEVENT
DTSTART;TZID=Europe/Madrid:20250502T000000
DTEND;TZID=Europe/Madrid:20250518T235959
DTSTAMP:20260422T032245
CREATED:20250402T085158Z
LAST-MODIFIED:20250402T085205Z
UID:10002341-1746144000-1747612799@demercadosmedievales.info
SUMMARY:05/25 Mercado de Primavera Asociación del Comercio de Talavera 2025 (Toledo)
DESCRIPTION:La Asociación del Comercio de Talavera tiene el placer de anunciar la celebración del Mercado de Primavera 2025\, un evento dedicado a la artesanía que se llevará a cabo en un entorno inigualable. \n\n\n\n\n\n\n\nMercado de Primavera 2025\n\n\n\n\n\n\n\n \n\n\n\n \n\n\n\nDetalles del Evento\n\n\n\n\nFecha de celebración: Del 2 de mayo al 18 de mayo de 2025\n\n\n\nHorario de apertura y cierre: A concretar\n\n\n\nLugar: Jardines del Prado\, Talavera de la Reina \,  TOLEDO\n\n\n\n\nParticipación\n\n\n\n\nPlazo de inscripción: Hasta el 15 de abril de 2025\n\n\n\nTipo de productos a exponer y vender: Artesanía\n\n\n\nFecha de montaje: 1 de mayo de 2025\n\n\n\nFecha de desmontaje: 19 de mayo de 2025\n\n\n\n\nOrganiza\n\n\n\nAsociación del Comercio de Talavera \n\n\n\nInformación e Inscripciones\n\n\n\n\n\n\n\n\n\n\n\n\n\n\n\n\nInformación sobre la localidad\n\n\n\nAcerca de .. \n\n\n\n\n\n\n\n\n\nOtros enlaces :\n\n\n\nPodría ser de tu interés : \n\n\n\n\nHaz clic en este enlace y entérate de todos los eventos que harán en la provincia de TOLEDO\n\n\n\nConsulta el calendario completo en el siguiente enlace y prepárate para la aventura! 👉 MAYO\n\n\n\nPuedes Consultar en esté enlace las Ferias y Mercados en España\n\n\n\nHaz clic en ESTE enlace : y Conoce los Organizadores de Mercados y Ferias \n\n\n\n\n\nVisita nuestro Calendario de Eventos para obtener detalles de: Calendario 2025: Planifica con anticipación y no te pierdas ninguna cita.\n\n\n\n\n\nLas ferias medievales son auténticos viajes en el tiempo. Estos eventos recrean la atmósfera de la Edad Media. Leer más…\n\n\n\n\n\n\n\n\n \n\n\n\nSíguenos.\n\n\n\n\nTelegram: Recibe nuestras noticias y contenido exclusivo (clic aquí).\n\n\n\nNewsletter: Recibe un correos con nuestras últimas noticias (clic aquí).\n\n\n\nWhatsApp: Suscríbete para seguirnos en nuestro canal  (clic aquí).\n\n\n\nInstagram:  Síguenos en Instagram ( clic aquí )\n\n\n\n\n \n\n\n\n\n\n\n\n\n\n\n\nMercadosmedievales.net \n\n\n\nLos Mercados Medievales son eventos que transportan a los asistentes a la atmósfera de la Edad Media\, recreando su esencia y estética de manera auténtica. A lo largo de estos mercados\, es posible encontrar una gran variedad de puestos que ofrecen artesanía\, productos gastronómicos y objetos característicos de la época.  \n\n\n\nAdemás\, suelen contar con numerosas actividades y espectáculos inspirados en las tradiciones medievales\, como justas\, teatro callejero\, música en vivo y danzas folclóricas. En definitiva\, representan una excelente oportunidad para sumergirse en la cultura\, la gastronomía y el arte de una de las épocas más cautivadoras de la historia.
URL:https://demercadosmedievales.info/mercadomedieval/05-25-mercado-de-primavera-asociacion-del-comercio-de-talavera-2025-toledo/
LOCATION:Talavera de la Reina (Toledo) (***)\, Talavera de la Reina\, Toledo\, España
CATEGORIES:Castilla La Mancha,Multisectorial,Toledo
ATTACH;FMTTYPE=image/jpeg:https://demercadosmedievales.info/wp-content/uploads/2025/04/1200-MERCADO-ARTESANIA-TALAVERA-1.jpg
ORGANIZER;CN="Asociaci%C3%B3n del Comercio de Talavera":MAILTO:juliodiazaros@gmail.com
GEO:39.9617411;-4.825774
END:VEVENT
BEGIN:VEVENT
DTSTART;TZID=Europe/Madrid:20250515T000000
DTEND;TZID=Europe/Madrid:20250518T235959
DTSTAMP:20260422T032245
CREATED:20250217T195254Z
LAST-MODIFIED:20250510T182959Z
UID:10002223-1747267200-1747612799@demercadosmedievales.info
SUMMARY:Programa del Mercado De Las Fiestas Ibero-Romanas De Cástulo En Linares
DESCRIPTION:Las Fiestas Ibero-Romanas de Cástulo se celebrarán en Linares del 15 al 18 de mayo de 2025.  \n\n\n\n\n\n\n\n \n\n\n\nMercado Romano\n\n\n\nEste evento anual recrea el pasado de la antigua ciudad de Cástulo\, destacando sus raíces íberas y romanas. Entre las actividades programadas se incluyen desfiles de tropas y legiones\, recreaciones de circo romano\, campamentos romanos\, festivales de teatro y un mercado ibero-romano. \n\n\n\nCartel oficial\n\n\n\n\n\n\n\n \n\n\n\nProgramación\n\n\n\nDescubre la programación de las Fiestas Ibero Romanas de Cástulo celebradas del 14 al 18 de mayo de 2025. \n\n\n\n\n\n\n\n \n\n\n\n\n\n\n\n\n\n\n\n \n\n\n\n\n\n\n\n \n\n\n\n\n\n\n\n \n\n\n\n\n\n\n\n \n\n\n\nInformación del evento\n\n\n\n\nFecha: 15 al 18 de Mayo de  2025 \n\n\n\nLugar: Paseo linarejos\n\n\n\nPoblación: Linares ( JAEN ) Linares es un municipio y ciudad​ española situada en la mitad sur de la península ibérica que pertenece administrativamente a la provincia de Jaén\, en la comunidad autónoma de Andalucía.\n\n\n\nOferta a exponer:    Alimentación\, Gastronomía\, Artesanía y complementos.\n\n\n\nSerá inaugurado  : El día 15 de Mayo\n\n\n\nServicios que proporcionara el organizador: Agua\, Luz y Vigilancia Nocturna\n\n\n\nEntidad organizadora: ANUBIS TEMATICA\n\n\n\n\n \n\n\n\nDescripción del evento:  \n\n\n\n \n\n\n\nInformación del organizador :\n\n\n\nLa organización y decoración de este evento están a cargo de ANUBIS TEMATICA . Para más detalles sobre el proceso de inscripción\, tarifas y requisitos específicos\, contacta a través de: \n\n\n\n\nAdemás \, Descubre las próximas ferias y mercados en su agenda:  \n\n\n\n\n\n\n\n\n\n\nInformación sobre la localidad \n\n\n\nAcerca de .. LinaresLinares es un municipio y ciudad​ española situada en la mitad sur de la península ibérica que pertenece administrativamente a la provincia de Jaén\, en la comunidad autónoma de Andalucía. \n\n\n\nConoce más de LINARES  visitando la pagina web del Ayuntamiento : https://www.ciudaddelinares.es/ \n\n\n\nListado de eventos en está localidad : \n\n\n\n\n\nLas Fiestas Ibero-Romanas de Cástulo en Linares son un evento que transporta la ciudad a su pasado íbero y romano con una espectacular recreación histórica. Se celebran cada año en mayo y combinan cultura\, tradición y entretenimiento. \n\n\n\n¿Cómo son estas fiestas?\n\n\n\nActividades para todas las edades: Talleres para niños\, pasacalles\, juegos antiguos y representaciones de mitos y leyendas de la época. \n\n\n\nDesfiles y recreaciones históricas: Se organizan desfiles de tropas íberas y legiones romanas\, con trajes de época\, escudos\, lanzas y estandartes. También hay recreaciones de batallas y ceremonias religiosas antiguas. \n\n\n\nMercado Ibero-Romano: Un espacio lleno de puestos de artesanía\, comida tradicional\, perfumes antiguos\, orfebrería y productos inspirados en la época íbera y romana. Se pueden ver demostraciones de alfarería\, acuñación de monedas y vidrio soplado. \n\n\n\nEspectáculos de circo romano: Se recrean luchas de gladiadores\, carreras de cuadrigas y espectáculos de teatro y danza con inspiración clásica. \n\n\n\nCampamentos históricos: Se instalan reproducciones de campamentos militares y civiles\, donde los visitantes pueden ver cómo vivían romanos e íberos en la antigüedad. \n\n\n\n \n\n\n\n\n\n\n\n \n\n\n\n\n\n\n\nOtros enlaces :\n\n\n\nPodría ser de tu interés : \n\n\n\n\nEventos de LA PROVINCIA DE  JAÉN\n\n\n\nCalendario de Mercados Medievales en MAYO\n\n\n\nFerias y Mercados en España\n\n\n\nOrganizadores de Mercados y Ferias\n\n\n\n\n\nVisita nuestro Calendario de Eventos para obtener detalles de: Calendario 2025: Planifica con anticipación y no te pierdas ninguna cita.\n\n\n\n\n\nLas ferias medievales son auténticos viajes en el tiempo. Estos eventos recrean la atmósfera de la Edad Media. Leer más…\n\n\n\n\n\n\n\n\n \n\n\n\nSíguenos.\n\n\n\n\nTelegram: Recibe nuestras noticias y contenido exclusivo (clic aquí).\n\n\n\nNewsletter: Recibe un correos con nuestras últimas noticias (clic aquí).\n\n\n\nWhatsApp: Suscríbete para seguirnos en nuestro canal  (clic aquí).\n\n\n\nInstagram:  Síguenos en Instagram ( clic aquí )\n\n\n\n\n \n\n\n\n\n\n\n\n\n\n\n\nMercadosmedievales.net \n\n\n\nLas ferias medievales son auténticos viajes en el tiempo. Estos eventos recrean la atmósfera de la Edad Media….
URL:https://demercadosmedievales.info/mercadomedieval/05-2025-mercado-de-las-fiestas-ibero-romanas-de-castulo-en-linares/
LOCATION:Linares (Jaén) (***)\, Paseo de Linarejos\, Linares\, Jaén\, España
CATEGORIES:Andalucia,Jaén,Mercado romano,Programación
ATTACH;FMTTYPE=image/jpeg:https://demercadosmedievales.info/wp-content/uploads/2025/02/1200-ibero-romanas-castulo.jpg
ORGANIZER;CN="Anubis tematica":MAILTO:artesanos@anubistematica.com
GEO:38.1023493;-3.6284991
X-APPLE-STRUCTURED-LOCATION;VALUE=URI;X-ADDRESS=Linares (Jaén) (***) Paseo de Linarejos Linares Jaén España;X-APPLE-RADIUS=500;X-TITLE=Paseo de Linarejos:geo:-3.6284991,38.1023493
END:VEVENT
BEGIN:VEVENT
DTSTART;TZID=Europe/Madrid:20250515T000000
DTEND;TZID=Europe/Madrid:20250518T235959
DTSTAMP:20260422T032245
CREATED:20250405T113111Z
LAST-MODIFIED:20250511T075043Z
UID:10002363-1747267200-1747612799@demercadosmedievales.info
SUMMARY:Programación Mercado Medieval Behobia\, Irun (Guipuzcoa) 2025
DESCRIPTION:Del 15 al 18 de mayo\, las calles de Behobia (Irun) se transforman en un auténtico viaje al pasado con la Erdi Aroko Azoka —un mercado medieval lleno de magia\, historia y diversión para toda la familia. \n\n\n\n\n\n\n\n✔Haz clic en este enlace : Mercados medievales en EUSKADI \n\n\n\n✔Consulta el calendario completo del mes de MAYO \n\n\n\n Mercado Medieval Behobia \n\n\n\nCartel\n\n\n\n\n\n\n\n \n\n\n\nProgramación\n\n\n\n\n\n\n\n \n\n\n\n\n\n\n\n \n\n\n\n \n\n\n\n\n\n\n\n \n\n\n\n \n\n\n\n \n\n\n\nInformación del evento\n\n\n\nFechas: del 15 al 18 de mayo de 2025 (2025ko maiatzaren 15etik 18ra)📍 Lugar: Behobia\, Irún \n\n\n\nDel 15 al 18 de mayo\, las calles de Behobia (Irun) se transforman en un auténtico viaje al pasado con la Erdi Aroko Azoka —un mercado medieval lleno de magia\, historia y diversión para toda la familia.\n\n\n\n🔸 Pasea entre puestos de artesanía tradicional (Artisautza)🎭 Disfruta de lo mejor de la gastronomía local (Elikadura) y nuestras tabernas medievales (Tabernak)🌟 Los más peques se lo pasarán en grande con talleres infantiles (Haurrentzako tailerrak)✨ Música en cada rincón (Musika giroa)🎇Grandes conciertos y espectáculos🔸 Y mucho más con el mejor teatro de calle (Kaleeko antzerkiak)ades destacadas: \n\n\n\n \n\n\n\nInformación del organizador :\n\n\n\n\n\nEn caso de estar interesado por favor\, enviadles los siguientes datos: \n\n\n\n\nNombre y apellidos\n\n\n\nTeléfono de contacto\n\n\n\nDescripción del producto \n\n\n\nFotos del producto y parada\n\n\n\nMetros lineales y de fondo\n\n\n\n\n \n\n\n\nInformación sobre la localidad\n\n\n\nAcerca de .. Behovia (en vasco y oficialmente Behobia) es un barrio español perteneciente al municipio de Irún\, en la provincia de Guipúzcoa\, comunidad autónoma del País Vasco. Está situado en su extremo oriental del municipio\, al sur del río Bidasoa\, en plena frontera con Francia. \n\n\n\n\nBehovia contiene varias barriadas:\n\n\n\nDumboa\, levantado sobre antiguos territorios marismeños del Bidasoa.\n\n\n\nAzken Portu\, también conocido como Polígono 54 y\, erróneamente\, como Artía.\n\n\n\nGazteluzar\, en torno a la fortaleza del siglo XVI.\n\n\n\n\nEl propio casco histórico de Behovia\, junto al puente internacional y a la antigua aduana. \n\n\n\n\n\n\n\n\n\n\n\n\nSíguenos.\n\n\n\n\nTelegram: Recibe nuestras noticias y contenido exclusivo (clic aquí).\n\n\n\nNewsletter: Recibe un correos con nuestras últimas noticias (clic aquí).\n\n\n\nWhatsApp: Suscríbete para seguirnos en nuestro canal  (clic aquí).\n\n\n\nInstagram:  Síguenos en Instagram ( clic aquí )\n\n\n\n\n \n\n\n\n\n\n\n\n\n\n\n\nMercadosmedievales.net \n\n\n\nLos Mercados Medievales son eventos que transportan a los asistentes a la atmósfera de la Edad Media\, recreando su esencia y estética de manera auténtica. A lo largo de estos mercados\, es posible encontrar una gran variedad de puestos que ofrecen artesanía\, productos gastronómicos y objetos característicos de la época.  \n\n\n\n\n\n\n\nAdemás\, suelen contar con numerosas actividades y espectáculos inspirados en las tradiciones medievales\, como justas\, teatro callejero\, música en vivo y danzas folclóricas. En definitiva\, representan una excelente oportunidad para sumergirse en la cultura\, la gastronomía y el arte de una de las épocas más cautivadoras de la historia. \n\n\n\nEn Resumen
URL:https://demercadosmedievales.info/mercadomedieval/05-25-mercado-medieval-behobia-irun-guipuzcoa-2025/
LOCATION:Toledo
CATEGORIES:Euskadi / Pais Vasco,Guipuzcoa,Mercado Medieval
ATTACH;FMTTYPE=image/jpeg:https://demercadosmedievales.info/wp-content/uploads/2025/04/1200-medieval-behobia.jpg
ORGANIZER;CN="Lucus Events":MAILTO:lucusevents@gmail.com
END:VEVENT
BEGIN:VEVENT
DTSTART;TZID=Europe/Madrid:20250515T000000
DTEND;TZID=Europe/Madrid:20250518T235959
DTSTAMP:20260422T032245
CREATED:20250406T173402Z
LAST-MODIFIED:20250511T172126Z
UID:10002371-1747267200-1747612799@demercadosmedievales.info
SUMMARY:Programación Mercado Pirata en Benalmádena – Del 15 al 18 de mayo
DESCRIPTION:¡El espíritu pirata desembarca en Benalmádena! Llega la 1.ª edición del Mercado Pirata en Benalmadena\, del 15 al 18 de mayo\, en el emblemático entorno del Castillo El Bil Bil. \n\n\n\n\n\n\n\n✔Haz clic en este enlace : Mercados medievales en la provincia de Málaga\n\n\n\n✔Consulta el calendario completo del mes de Mayo\n\n\n\n \n\n\n\nMercado Pirata\n\n\n\nCartel\n\n\n\n\n\n\n\n \n\n\n\nProgramación oficial\n\n\n\n\n\n\n\n \n\n\n\n\n\n\n\n \n\n\n\n \n\n\n\nDurante estos cuatro días\, el mercado ofrecerá un viaje temático a través de los mares de la fantasía con artesanía\, alimentación\, talleres\, animación\, gastronomía y muchas sorpresas para toda la familia. \n\n\n\n🎪 Horario: \n\n\n\n\nJueves 15: desde las 17:00 h\n\n\n\nResto de días: de 11:00 a 23:00 h\n\n\n\n\n📍 Ubicación: Castillo El Bil Bil – Benalmádena (Málaga)⚓ Montaje: Jueves 15 de mayo 🧳 Desmontaje: Domingo 18 de mayo tras el cierre📆 Inscripciones: A partir del 6 de abril \n\n\n\n🎉 Servicios para participantes:Animación\, luz y un ambiente único inspirado en el mundo pirata. \n\n\n\n Información del organizador :\n\n\n\n\n\n\n\n\n\nInformación sobre la localidad\n\n\n\nAcerca de ..Benalmadena es uno de los tres distritos en los que está dividida administrativamente la ciudad de Benalmádena.​ \n\n\n\n\n\n  \n\n\n\n\n\n\n\n\n\n\n\n\n\n\n\n\n\n\nOtros enlaces :\n\n\n\nPodría ser de tu interés : \n\n\n\n\nPuedes Consultar en esté enlace las Ferias y Mercados en España\n\n\n\nHaz clic en ESTE enlace : y Conoce los Organizadores de Mercados y Ferias \n\n\n\n\n\nVisita nuestro Calendario de Eventos para obtener detalles de: Calendario 2025: Planifica con anticipación y no te pierdas ninguna cita.\n\n\n\n\n\nLas ferias medievales son auténticos viajes en el tiempo. Estos eventos recrean la atmósfera de la Edad Media. Leer más…\n\n\n\n\n\n\n\n\n \n\n\n\nSíguenos.\n\n\n\n\nTelegram: Recibe nuestras noticias y contenido exclusivo (clic aquí).\n\n\n\nNewsletter: Recibe un correos con nuestras últimas noticias (clic aquí).\n\n\n\nWhatsApp: Suscríbete para seguirnos en nuestro canal  (clic aquí).\n\n\n\nInstagram:  Síguenos en Instagram ( clic aquí )\n\n\n\n\n \n\n\n\n\n\n\n\n\n\n\n\nMercadosmedievales.net \n\n\n\nLos Mercados Medievales son eventos que transportan a los asistentes a la atmósfera de la Edad Media\, recreando su esencia y estética de manera auténtica. A lo largo de estos mercados\, es posible encontrar una gran variedad de puestos que ofrecen artesanía\, productos gastronómicos y objetos característicos de la época.  \n\n\n\n \n\n\n\nAdemás\, suelen contar con numerosas actividades y espectáculos inspirados en las tradiciones medievales\, como justas\, teatro callejero\, música en vivo y danzas folclóricas. En definitiva\, representan una excelente oportunidad para sumergirse en la cultura\, la gastronomía y el arte de una de las épocas más cautivadoras de la historia.
URL:https://demercadosmedievales.info/mercadomedieval/05-25-mercado-pirata-en-arroyo-de-la-miel-del-15-al-18-de-mayo/
LOCATION:Benalmadena (Málaga)\, Benálmadena\, Málaga\, España
CATEGORIES:Andalucia,Cartel,Malaga,Mercado pirata,Programación
ATTACH;FMTTYPE=image/jpeg:https://demercadosmedievales.info/wp-content/uploads/2025/04/1200_pirata-benalmadena.jpg
ORGANIZER;CN="Malik Culture Eventos":MAILTO:asociacionmalim@hotmail.com
END:VEVENT
END:VCALENDAR