BEGIN:VCALENDAR
VERSION:2.0
PRODID:-//Mercados Medievales - ECPv6.15.20//NONSGML v1.0//EN
CALSCALE:GREGORIAN
METHOD:PUBLISH
X-ORIGINAL-URL:https://demercadosmedievales.info
X-WR-CALDESC:Eventos para Mercados Medievales
REFRESH-INTERVAL;VALUE=DURATION:PT1H
X-Robots-Tag:noindex
X-PUBLISHED-TTL:PT1H
BEGIN:VTIMEZONE
TZID:Europe/Madrid
BEGIN:DAYLIGHT
TZOFFSETFROM:+0100
TZOFFSETTO:+0200
TZNAME:CEST
DTSTART:20240331T010000
END:DAYLIGHT
BEGIN:STANDARD
TZOFFSETFROM:+0200
TZOFFSETTO:+0100
TZNAME:CET
DTSTART:20241027T010000
END:STANDARD
BEGIN:DAYLIGHT
TZOFFSETFROM:+0100
TZOFFSETTO:+0200
TZNAME:CEST
DTSTART:20250330T010000
END:DAYLIGHT
BEGIN:STANDARD
TZOFFSETFROM:+0200
TZOFFSETTO:+0100
TZNAME:CET
DTSTART:20251026T010000
END:STANDARD
BEGIN:DAYLIGHT
TZOFFSETFROM:+0100
TZOFFSETTO:+0200
TZNAME:CEST
DTSTART:20260329T010000
END:DAYLIGHT
BEGIN:STANDARD
TZOFFSETFROM:+0200
TZOFFSETTO:+0100
TZNAME:CET
DTSTART:20261025T010000
END:STANDARD
END:VTIMEZONE
BEGIN:VEVENT
DTSTART;TZID=Europe/Madrid:20250502T000000
DTEND;TZID=Europe/Madrid:20250518T235959
DTSTAMP:20260422T023102
CREATED:20250402T085158Z
LAST-MODIFIED:20250402T085205Z
UID:10002341-1746144000-1747612799@demercadosmedievales.info
SUMMARY:05/25 Mercado de Primavera Asociación del Comercio de Talavera 2025 (Toledo)
DESCRIPTION:La Asociación del Comercio de Talavera tiene el placer de anunciar la celebración del Mercado de Primavera 2025\, un evento dedicado a la artesanía que se llevará a cabo en un entorno inigualable. \n\n\n\n\n\n\n\nMercado de Primavera 2025\n\n\n\n\n\n\n\n \n\n\n\n \n\n\n\nDetalles del Evento\n\n\n\n\nFecha de celebración: Del 2 de mayo al 18 de mayo de 2025\n\n\n\nHorario de apertura y cierre: A concretar\n\n\n\nLugar: Jardines del Prado\, Talavera de la Reina \,  TOLEDO\n\n\n\n\nParticipación\n\n\n\n\nPlazo de inscripción: Hasta el 15 de abril de 2025\n\n\n\nTipo de productos a exponer y vender: Artesanía\n\n\n\nFecha de montaje: 1 de mayo de 2025\n\n\n\nFecha de desmontaje: 19 de mayo de 2025\n\n\n\n\nOrganiza\n\n\n\nAsociación del Comercio de Talavera \n\n\n\nInformación e Inscripciones\n\n\n\n\n\n\n\n\n\n\n\n\n\n\n\n\nInformación sobre la localidad\n\n\n\nAcerca de .. \n\n\n\n\n\n\n\n\n\nOtros enlaces :\n\n\n\nPodría ser de tu interés : \n\n\n\n\nHaz clic en este enlace y entérate de todos los eventos que harán en la provincia de TOLEDO\n\n\n\nConsulta el calendario completo en el siguiente enlace y prepárate para la aventura! 👉 MAYO\n\n\n\nPuedes Consultar en esté enlace las Ferias y Mercados en España\n\n\n\nHaz clic en ESTE enlace : y Conoce los Organizadores de Mercados y Ferias \n\n\n\n\n\nVisita nuestro Calendario de Eventos para obtener detalles de: Calendario 2025: Planifica con anticipación y no te pierdas ninguna cita.\n\n\n\n\n\nLas ferias medievales son auténticos viajes en el tiempo. Estos eventos recrean la atmósfera de la Edad Media. Leer más…\n\n\n\n\n\n\n\n\n \n\n\n\nSíguenos.\n\n\n\n\nTelegram: Recibe nuestras noticias y contenido exclusivo (clic aquí).\n\n\n\nNewsletter: Recibe un correos con nuestras últimas noticias (clic aquí).\n\n\n\nWhatsApp: Suscríbete para seguirnos en nuestro canal  (clic aquí).\n\n\n\nInstagram:  Síguenos en Instagram ( clic aquí )\n\n\n\n\n \n\n\n\n\n\n\n\n\n\n\n\nMercadosmedievales.net \n\n\n\nLos Mercados Medievales son eventos que transportan a los asistentes a la atmósfera de la Edad Media\, recreando su esencia y estética de manera auténtica. A lo largo de estos mercados\, es posible encontrar una gran variedad de puestos que ofrecen artesanía\, productos gastronómicos y objetos característicos de la época.  \n\n\n\nAdemás\, suelen contar con numerosas actividades y espectáculos inspirados en las tradiciones medievales\, como justas\, teatro callejero\, música en vivo y danzas folclóricas. En definitiva\, representan una excelente oportunidad para sumergirse en la cultura\, la gastronomía y el arte de una de las épocas más cautivadoras de la historia.
URL:https://demercadosmedievales.info/mercadomedieval/05-25-mercado-de-primavera-asociacion-del-comercio-de-talavera-2025-toledo/
LOCATION:Talavera de la Reina (Toledo) (***)\, Talavera de la Reina\, Toledo\, España
CATEGORIES:Castilla La Mancha,Multisectorial,Toledo
ATTACH;FMTTYPE=image/jpeg:https://demercadosmedievales.info/wp-content/uploads/2025/04/1200-MERCADO-ARTESANIA-TALAVERA-1.jpg
ORGANIZER;CN="Asociaci%C3%B3n del Comercio de Talavera":MAILTO:juliodiazaros@gmail.com
GEO:39.9617411;-4.825774
END:VEVENT
BEGIN:VEVENT
DTSTART;TZID=Europe/Madrid:20250508T000000
DTEND;TZID=Europe/Madrid:20250509T235959
DTSTAMP:20260422T023102
CREATED:20250413T073443Z
LAST-MODIFIED:20250507T080219Z
UID:10002393-1746662400-1746835199@demercadosmedievales.info
SUMMARY:Fira De Sant Ponç de Santa Coloma De Gramenet 8 y 9 de Mayo 2025
DESCRIPTION:La ciudad de Santa Coloma de Gramenet\, en el corazón del área metropolitana de Barcelona\, se prepara para acoger una nueva edición del esperado evento en la Rambla del Fondo\, los días 8 y 9 de mayo de 2025. \n\n\n\n\n\n\n\n  \n\n\n\n Haz clic en este enlace : Mercados medievales en la provincia de Barcelona\n\n\n\nCatalunya / Cataluña\n\n\n\n✔Consulta el calendario completo del mes de MAYO \n\n\n\n \n\n\n\nFira De Sant Ponç de Santa Coloma De Gramenet\n\n\n\nCartel \n\n\n\n\n\n\n\n \n\n\n\n \n\n\n\nInformación del evento\n\n\n\n \n\n\n\n\nFecha: 08 y 09 de Mayo de  2025 \n\n\n\nLugar: RAMBLA DEL FONDO\n\n\n\nPoblación: Santa Coloma De Gramenet  ( BARCELONA )\n\n\n\nOferta a exponer:    Alimentación\, Gastronomía\, Artesanía y complementos.\n\n\n\n\n \n\n\n\nInformación del organizador :\n\n\n\n\n\n \n\n\n\n\n\n\n\n \n\n\n\nLocalidad :\n\n\n\nSanta Coloma de Gramanet​​\, llamada Gramanet del Besós desde 1937 hasta el final de la guerra civil española\, es una ciudad y municipio español de la provincia de Barcelona\, en Cataluña. Pertenece a la comarca del Barcelonés. \n\n\n\n\n\n \n\n\n\n\n\n\n\n\n\n\nOtros enlaces :\n\n\n\nPodría ser de tu interés : \n\n\n\n\nPuedes Consultar en esté enlace las Ferias y Mercados en España\n\n\n\nHaz clic en ESTE enlace : y Conoce los Organizadores de Mercados y Ferias \n\n\n\n\n\nVisita nuestro Calendario de Eventos para obtener detalles de: Calendario 2025: Planifica con anticipación y no te pierdas ninguna cita.\n\n\n\n\n\nLas ferias medievales son auténticos viajes en el tiempo. Estos eventos recrean la atmósfera de la Edad Media. Leer más…\n\n\n\n\n\n\n\n\n \n\n\n\nSíguenos.\n\n\n\n\nTelegram: Recibe nuestras noticias y contenido exclusivo (clic aquí).\n\n\n\nNewsletter: Recibe un correos con nuestras últimas noticias (clic aquí).\n\n\n\nWhatsApp: Suscríbete para seguirnos en nuestro canal  (clic aquí).\n\n\n\nInstagram:  Síguenos en Instagram ( clic aquí )\n\n\n\n\n \n\n\n\n\n\n\n\n\n\n\n\nMercadosmedievales.net \n\n\n\nLos Mercados Medievales son eventos que transportan a los asistentes a la atmósfera de la Edad Media\, recreando su esencia y estética de manera auténtica. A lo largo de estos mercados\, es posible encontrar una gran variedad de puestos que ofrecen artesanía\, productos gastronómicos y objetos característicos de la época.  \n\n\n\n\n\n\n\nAdemás\, suelen contar con numerosas actividades y espectáculos inspirados en las tradiciones medievales\, como justas\, teatro callejero\, música en vivo y danzas folclóricas. En definitiva\, representan una excelente oportunidad para sumergirse en la cultura\, la gastronomía y el arte de una de las épocas más cautivadoras de la historia.
URL:https://demercadosmedievales.info/mercadomedieval/fira-de-sant-ponc-de-santa-coloma-de-gramenet-8-y-9-de-mayo-2025/
LOCATION:Santa Coloma de Gramanet (Barcelona) (***)\, Santa Coloma de Gramenet\, Barcelona
CATEGORIES:Barcelona,Cartel,Cataluña,Feria tradicional,Mercado tradicional
ATTACH;FMTTYPE=image/jpeg:https://demercadosmedievales.info/wp-content/uploads/2025/04/1200-fira-sant-ponc-santacoloma-1.jpg
ORGANIZER;CN="Galaico edicions":MAILTO:galaikocat@gmail.com
GEO:41.4508737;2.2110649
END:VEVENT
BEGIN:VEVENT
DTSTART;TZID=Europe/Madrid:20250508T000000
DTEND;TZID=Europe/Madrid:20250511T235959
DTSTAMP:20260422T023102
CREATED:20250228T113657Z
LAST-MODIFIED:20250508T101546Z
UID:10002270-1746662400-1747007999@demercadosmedievales.info
SUMMARY:Programa del Mercado Medieval de Benidorm (Alicante) 2025
DESCRIPTION:Del 8 al 11 de mayo de 2025\, el Parque de Elche de Benidorm se transformará en un auténtico escenario medieval gracias a la llegada del esperado Mercado Medieval\, organizado por Legend Especialistas.  \n\n\n\n\n\n\n\nMercado Medieval\n\n\n\nDurante estos tres días y medio\, residentes y visitantes podrán sumergirse en una experiencia única que combina historia\, entretenimiento y tradición. \n\n\n\nCartel oficial\n\n\n\n\n\n\n\n \n\n\n\nProgramación oficial\n\n\n\n\n\n\n\n\n\n\n\n \n\n\n\nInformación del evento\n\n\n\n\nFecha: 08 al 11 de Mayo de  2025 \n\n\n\nPlazo de inscripción : Hasta completar las inscripciones\n\n\n\nLugar: en el Parque de Elche\n\n\n\nPoblación:  Benidorm ( ALICANTE )\n\n\n\nOferta a exponer:    Alimentación\, Gastronomía\, Artesanía y complementos.\n\n\n\nSerá inaugurado  : el día 08 de Mayo durante el día\n\n\n\nServicios que proporcionará el organizador: Agua\, Luz y Vigilancia Nocturna\n\n\n\nEntidad organizadora:  LEGEND ESPECIALISTAS\n\n\n\n\n \n\n\n\n \n\n\n\nInformación del organizador :\n\n\n\nLa organización y decoración de este evento están a cargo de LEGEND ESPECIALISTAS. Para más detalles sobre el proceso de inscripción\, tarifas y requisitos específicos\, contacta a través de: \n\n\n\n\nCorreo electrónico : artesanos@legendespecialistas.com\n\n\n\nTeléfono / WhatsApp : Oficinas: 966-851-604 Móvil: 663-049-625\n\n\n\nDescubre las próximas ferias y mercados en su agenda:  👇\n\n\n\n\n\n\n\n\n\n\nInformación sobre la localidad \n\n\n\nAcerca de .. BenidormBenidorm es un balneario costero en la costa este de España\, parte de la famosa Costa Blanca de la región de Valencia \n\n\n\nConoce más de BENIDORM  visitando la pagina web del Ayuntamiento :  https://benidorm.org/ \n\n\n\nListado de eventos en está localidad : 👇 \n\n\n\n\n\n \n\n\n\n \n\n\n\n\n\n\n\n \n\n\n\n\n\n\n\nOtros enlaces : \n\n\n\nPodría ser de tu interés : \n\n\n\n\nHaz clic en este enlace y entérate de todos los eventos que harán en la provincia de Alicante\n\n\n\nConsulta el calendario completo en el siguiente enlace y prepárate para la aventura! 👉 MAYO\n\n\n\nPuedes Consultar en esté enlace las Ferias y Mercados en España\n\n\n\nConoce los Organizadores de Mercados y Ferias haciendo clic en ESTE enlace 👈\n\n\n\n\n\nVisita nuestro Calendario de Eventos para obtener detalles de: Calendario 2025: Planifica con anticipación y no te pierdas ninguna cita.\n\n\n\n\n\nLas ferias medievales son auténticos viajes en el tiempo. Estos eventos recrean la atmósfera de la Edad Media. Leer más…\n\n\n\n\n\n\n\n\n \n\n\n\nSíguenos.\n\n\n\n\nTelegram: Recibe nuestras noticias y contenido exclusivo (clic aquí).\n\n\n\nNewsletter: Recibe un correos con nuestras últimas noticias (clic aquí).\n\n\n\nWhatsApp: Suscríbete para seguirnos en nuestro canal  (clic aquí).\n\n\n\nInstagram:  Síguenos en Instagram ( clic aquí )\n\n\n\n\n \n\n\n\n\n\n\n\n\n\n\n\nMercadosmedievales.net \n\n\n\nLas ferias medievales son auténticos viajes en el tiempo. Estos eventos recrean la atmósfera de la Edad Media….
URL:https://demercadosmedievales.info/mercadomedieval/05-25-mercado-medieval-de-benidorm-alicante-2025/
LOCATION:Benidorm (Alicante) (***)\, Benidorm\, Alicante\, España
CATEGORIES:Alicante,Cartel,Comunidad valenciana,Mercado Medieval,Programación
ATTACH;FMTTYPE=image/jpeg:https://demercadosmedievales.info/wp-content/uploads/2025/02/1200-benidorm-medieval.jpg
ORGANIZER;CN="Legend Especialistas":MAILTO:artesanos@legendespecialistas.com
GEO:38.5411928;-0.1233831
END:VEVENT
BEGIN:VEVENT
DTSTART;TZID=Europe/Madrid:20250508T000000
DTEND;TZID=Europe/Madrid:20250511T235959
DTSTAMP:20260422T023102
CREATED:20250306T162837Z
LAST-MODIFIED:20250507T094014Z
UID:10002287-1746662400-1747007999@demercadosmedievales.info
SUMMARY:Programación : Feria Medieval de Ibiza (Baleares) 08 al 11 de Mayo del 2025
DESCRIPTION:Ibiza se viste de historia con el Mercado Medieval 2025\, del 8 al 11 de mayo. Vive la magia de la Edad Media con gastronomía\, espectáculos y artesanía única. Las inscripciones están abiertas. \n\n\n\n\n\n\n\nMercado Medieval\n\n\n\n\n\n\n\n \n\n\n\nLa Feria Ibiza Medieval regresa un año más como uno de los eventos más emblemáticos del inicio de temporada en la isla. Esta celebración\, organizada por el Ayuntamiento de Ibiza\, transforma el casco antiguo de la ciudad en un auténtico escenario histórico lleno de vida\, cultura y color. Durante cuatro días\, las calles empedradas de Dalt Vila\, declaradas Patrimonio de la Humanidad por la UNESCO\, se llenan de propuestas culturales\, música y espectáculos que cautivan a residentes y visitantes por igual. \n\n\n\nEste evento tan esperado conmemora la inclusión de Ibiza en la lista de Patrimonio de la Humanidad en 1999. Desde entonces\, Ibiza Medieval no ha dejado de crecer\, superando cada año sus cifras de asistencia. En 2025\, celebra su 25ª edición del jueves 8 al domingo 11 de mayo\, convirtiéndose en una cita ineludible en el calendario de eventos de primavera. \n\n\n\nComo cada año\, el corazón de la feria es su gran mercado medieval\, que se extiende por las zonas de La Marina y Dalt Vila. En él encontrarás más de 200 puestos\, incluyendo 75 dedicados a la artesanía local\, donde los creadores de la isla exponen sus trabajos únicos. Junto a ellos\, no faltarán las tradicionales tabernas medievales\, productos gastronómicos típicos y especialidades para todos los gustos. \n\n\n\nAdemás de la oferta comercial\, la feria propone una agenda cultural repleta de actividades. Más de 150 actuaciones en directo\, espectáculos callejeros\, música medieval\, celta\, pagana y árabe\, así como exposiciones\, cuentacuentos\, teatro\, circo y talleres para todas las edades. Todo comenzará con la inauguración oficial el jueves 8 de mayo a las 19:00 h en el Portal de ses Taules\, donde la compañía Morboria ofrecerá una obra teatral basada en la historia de Ibiza y su defensa frente a los ataques piratas. \n\n\n\nDurante la feria\, todos los baluartes de Dalt Vila permanecerán abiertos al público\, al igual que los museos de la zona. Esto ofrece una oportunidad excepcional para conocer el patrimonio histórico de Ibiza en un ambiente festivo. Los horarios de visita serán de martes a viernes de 10:00 a 14:00 h\, y durante el fin de semana\, solo en horario matutino. \n\n\n\nLa feria se divide en 10 zonas temáticas\, cada una ambientada con talleres tradicionales\, combates medievales\, áreas infantiles\, recreaciones históricas y espectáculos itinerantes. El mapa detallado se podrá consultar en el programa oficial del evento. \n\n\n\nPara facilitar el acceso\, el Ayuntamiento de Ibiza ofrecerá servicio gratuito de autobuses circulares desde los aparcamientos disuasorios hasta es Soto. Este transporte estará disponible todos los días del evento de 10:00 a 15:00 h y de 17:00 a 23:00 h\, lo que permite desplazarse cómodamente sin preocuparse por el tráfico. \n\n\n\nEs importante tener en cuenta que durante estos días habrá restricciones de tráfico y estacionamiento en el centro histórico\, por lo que se recomienda planificar la visita con antelación. \n\n\n\nEn definitiva\, Ibiza Medieval 2025 es una experiencia mágica que permite sumergirse en la historia de la isla\, desde sus raíces fenicias y romanas hasta su herencia árabe. Una fiesta para los sentidos que fusiona cultura\, tradición y entretenimiento en un entorno único. \n\n\n\n \n\n\n\nJueves\n\n\n\n\n\n\n\n\n\n\n\n\n\n\n\n\n\n \n\n\n\nViernes\n\n\n\n\n\n\n\n\n\n\n\n\n\n\n\n\n\n\n\n \n\n\n\nContinua Viernes y Sábado\n\n\n\n\n\n\n\n\n\n\n\n\n\n\n\n\n\n\n\n\n\n\n\nDomingo\n\n\n\n\n\n\n\n\n\n\n\n\n\n\n\n\n\n\n\nMapa de ubicación\n\n\n\n\n\n\n\n \n\n\n\n\n\n\n\n \n\n\n\nInformación del evento\n\n\n\n\nFecha: 08 por la tarde hasta el 11 de Mayo de  2025 \n\n\n\nLugar: paseo de Vara de Rey\n\n\n\nPoblación:  Ibiza ( ISLAS BALEARES ) Ibiza es una de las islas Baleares\, un archipiélago de España en el mar Mediterráneo. \n\n\n\nEntidad organizadora:  Musical Sport\n\n\n\n\n\n\n \n\n\n   \n\n\n\nInformación del organizador :\n\n\n\nLa organización y decoración de este evento están a cargo de Musical Sport . Para más detalles\, contacta a través del Correo electrónico : artesanos@musicalsport.com \n\n\n\nDescubre las próximas ferias y mercados en su agenda:  Musical Sport \n\n\n\n \n\n\n\n\n\n\n\nInformación sobre la localidad \n\n\n\nAcerca de .. IbizaIbiza es una de las islas Baleares\, un archipiélago de España en el mar Mediterráneo. Es conocida por la animada vida nocturna en la ciudad de Ibiza y San Antonio\, donde importantes clubes nocturnos europeos tienen sucursales de verano. También cuenta con villas tranquilas\, lugares de retiro para el yoga y playas\, desde la Playa d’en Bossa\, bordeada por hoteles\, bares y tiendas\, hasta las caletas de arena más tranquilas con colinas cubiertas de pinos en su parte posterior\, que se encuentran por toda la costa. \n\n\n\nConoce más de IBIZA  visitando la pagina web del Ayuntamiento : https://ibiza.travel/ \n\n\n\nListado de eventos en está localidad : \n\n\n\n\n\n \n\n\n\nDescubre la Magia del Mercado Medieval de Ibiza 2025 \n\n\n\nLa historia y la tradición cobran vida en la hermosa isla de Ibiza con la llegada del Mercado Medieval 2025\, un evento que transportará a locales y visitantes a otra época del 8 al 11 de mayo. Durante estos días\, el centro histórico se llenará de color\, música y actividades que evocan la esencia de la Edad Media. \n\n\n\nUn Viaje en el Tiempo: Gastronomía\, Artesanía y Espectáculos\n\n\n\nEste emblemático mercado se ubicará en el paseo de Vara de Rey \, creando un escenario ideal para disfrutar de una experiencia única. Entre sus principales atractivos\, los asistentes podrán encontrar: \n\n\n\n\n🍖 Gastronomía y alimentación medieval: una selección de productos y delicias de época.\n\n\n\n🏺 Artesanía y complementos: piezas únicas elaboradas por expertos artesanos.\n\n\n\n🎭 Animación y espectáculos: músicos\, trovadores y personajes caracterizados que llenarán el ambiente de magia y emoción.\n\n\n\n\n \n\n\n\n \n\n\n\n\n\n\n\n \n\n\n\n\n\n \n\n\n\n\n\n\nOtros enlaces : \n\n\n\nPodría ser de tu interés : \n\n\n\n\nHaz clic en este enlace y entérate de todos los eventos que harán en la provincia de Islas Baleares\n\n\n\nConsulta el calendario completo en el siguiente enlace y prepárate para la aventura! 👉 MAYO\n\n\n\nPuedes Consultar en esté enlace las Ferias y Mercados en España\n\n\n\nConoce los Organizadores de Mercados y Ferias haciendo clic en ESTE enlace 👈\n\n\n\n\n\nVisita nuestro Calendario de Eventos para obtener detalles de: Calendario 2025: Planifica con anticipación y no te pierdas ninguna cita.\n\n\n\n\n\nLas ferias medievales son auténticos viajes en el tiempo. Estos eventos recrean la atmósfera de la Edad Media. Leer más…\n\n\n\n\n\n\n\n\n\n\n\n\nMercadosmedievales.net \n\n\n\nLas ferias medievales son auténticos viajes en el tiempo. Estos eventos recrean la atmósfera de la Edad Media….
URL:https://demercadosmedievales.info/mercadomedieval/mayo-25-mercado-medieval-de-ibiza-baleares-08-al-11-de-mayo-del-2025/
LOCATION:Ibiza (***)\, Ibiza\, Islas Baleares\, España
CATEGORIES:Islas Baleares,Mercado Medieval
ATTACH;FMTTYPE=image/webp:https://demercadosmedievales.info/wp-content/uploads/2025/03/feria-ibiza-medieval-cartel.webp
ORGANIZER;CN="Musical Sport":MAILTO:artesanos@musicalsport.com
GEO:39.0200099;1.4821482
END:VEVENT
BEGIN:VEVENT
DTSTART;TZID=Europe/Madrid:20250508T000000
DTEND;TZID=Europe/Madrid:20250511T235959
DTSTAMP:20260422T023102
CREATED:20250405T190140Z
LAST-MODIFIED:20250508T113634Z
UID:10002365-1746662400-1747007999@demercadosmedievales.info
SUMMARY:Programación  Mercado Renacentista de Nerja  8 al 11 de mayo 2025
DESCRIPTION:Del 8 al 11 de mayo\, la Plaza de España de Nerja se transformará en un escenario digno del Renacimiento con la celebración de la segunda edición del Mercado Renacentista de Nerja. \n\n\n\n\n\n\n\nHaz clic en este enlace : Mercados medievales en ANDALUCIA \n\n\n\n✔Consulta el calendario completo del mes de MAYO \n\n\n\nMercado Renacentista\n\n\n\n \n\n\n\nCartel oficial\n\n\n\n\n\n\n\n \n\n\n\nLa Plaza de España de Nerja será el escenario\, desde el 8 al 11 de mayo\, de un Mercado Renacentista que contará con más de 40 puestos\, según ha anunciado el Concejal Delegado de Comercio\, Antonio López\, el primer Teniente de Alcalde\, Francisco Arce\, junto a Leandro Losa\, representante de Malik\, entidad que gestiona la organización del evento. \n\n\n\nEste mercado temático transportará a los visitantes a la época del Renacimiento\, ofreciendo una gran variedad de productos artesanales y gastronómicos\, en los que se podrá disfrutar de sabores y tradiciones de épocas pasadas. \n\n\n\nAdemás\, el mercado contará con una amplia programación de espectáculos y actividades\, entre las que se incluyen exhibiciones de cetrería\, música en vivo\, representaciones teatrales\, talleres interactivos y otras sorpresas para público de todas las edades. \n\n\n\nAntonio López ha resaltado que este evento\, ya fue un éxito el año pasado\, destacando que este tipo de eventos no solo dinamizan la economía local\, sino que también promueven nuestra cultura y tradiciones. \n\n\n\nEl mercado Renacentista será una oportunidad para disfrutar de un ambiente festivo y familiar\, que promete atraer a una gran cantidad de público durante los cuatro días de duración del evento. \n\n\n\n \n\n\n\nOrganizado por Malik mercados tematicos\, este evento reunirá a mercaderes y artesanos en un entorno único donde la historia cobra vida. La cita contará con puestos de auténtica artesanía\, animación temática\, ambientación de época\, luz\, agua y muchas sorpresas más. \n\n\n\n \n\n\n\nProgramación de actividades \n\n\n\n\n\n\n\n \n\n\n\n\n\n\n\n \n\n\n\n \n\n\n\n \n\n\n\n📆 Fechas: 8 al 11 de mayo de 2025📍 Lugar: Plaza de España\, Nerja (MALAGA)🕐 Horario: \n\n\n\n\nJueves 8: desde las 17:00 h\n\n\n\nDel 9 al 11: de 11:00 a 23:00 h\n\n\n\n\n🎪 Solo artesanía y mercaderes🛠️ Montaje: 7 de mayo (tarde) y 8 de mayo (mañana)📦 Desmontaje: 11 de mayo \n\n\n\n📬 Inscripciones abiertas desde el 8 de mayo📞 Contacto: \n\n\n\n\n\n\n\n\n\n\n\n\n\n\n\n\nInformación sobre la localidad\n\n\n\nAcerca de ..Nerja es un municipio y localidad española de la provincia de Málaga\, en la comunidad autónoma de Andalucía. El término municipal es el más oriental de la comarca de la Axarquía  y tiene una población de 22 187 habitantes (INE 2024). \n\n\n\n\n\n\n\n\n\nOtros enlaces :\n\n\n\nPodría ser de tu interés : \n\n\n\n\nPuedes Consultar en esté enlace las Ferias y Mercados en España\n\n\n\nHaz clic en ESTE enlace : y Conoce los Organizadores de Mercados y Ferias \n\n\n\n\n\nVisita nuestro Calendario de Eventos para obtener detalles de: Calendario 2025: Planifica con anticipación y no te pierdas ninguna cita.\n\n\n\n\n\nLas ferias medievales son auténticos viajes en el tiempo. Estos eventos recrean la atmósfera de la Edad Media. Leer más…\n\n\n\n\n\n\n\n\n \n\n\n\nSíguenos.\n\n\n\n\nTelegram: Recibe nuestras noticias y contenido exclusivo (clic aquí).\n\n\n\nNewsletter: Recibe un correos con nuestras últimas noticias (clic aquí).\n\n\n\nWhatsApp: Suscríbete para seguirnos en nuestro canal  (clic aquí).\n\n\n\nInstagram:  Síguenos en Instagram ( clic aquí )\n\n\n\n\n \n\n\n\n\n\n\n\n\n\n\n\nMercadosmedievales.net \n\n\n\nLos Mercados Medievales son eventos que transportan a los asistentes a la atmósfera de la Edad Media\, recreando su esencia y estética de manera auténtica. A lo largo de estos mercados\, es posible encontrar una gran variedad de puestos que ofrecen artesanía\, productos gastronómicos y objetos característicos de la época.  \n\n\n\n\n\n\n\n\n\n\nAdemás\, suelen contar con numerosas actividades y espectáculos inspirados en las tradiciones medievales\, como justas\, teatro callejero\, música en vivo y danzas folclóricas. En definitiva\, representan una excelente oportunidad para sumergirse en la cultura\, la gastronomía y el arte de una de las épocas más cautivadoras de la historia.
URL:https://demercadosmedievales.info/mercadomedieval/05-25-mercado-renacentista-de-nerja-8-al-11-de-mayo-2025/
LOCATION:Nerja (Málaga) (***)\, Nerja\, Málaga\, 29780\, España
CATEGORIES:Programación
ATTACH;FMTTYPE=image/jpeg:https://demercadosmedievales.info/wp-content/uploads/2025/04/medieval-nerja-cartel.jpg
ORGANIZER;CN="Malik Culture Eventos":MAILTO:asociacionmalim@hotmail.com
GEO:36.756395;-3.8727496
END:VEVENT
END:VCALENDAR