BEGIN:VCALENDAR
VERSION:2.0
PRODID:-//Mercados Medievales - ECPv6.15.20//NONSGML v1.0//EN
CALSCALE:GREGORIAN
METHOD:PUBLISH
X-WR-CALNAME:Mercados Medievales
X-ORIGINAL-URL:https://demercadosmedievales.info
X-WR-CALDESC:Eventos para Mercados Medievales
REFRESH-INTERVAL;VALUE=DURATION:PT1H
X-Robots-Tag:noindex
X-PUBLISHED-TTL:PT1H
BEGIN:VTIMEZONE
TZID:Europe/Madrid
BEGIN:DAYLIGHT
TZOFFSETFROM:+0100
TZOFFSETTO:+0200
TZNAME:CEST
DTSTART:20240331T010000
END:DAYLIGHT
BEGIN:STANDARD
TZOFFSETFROM:+0200
TZOFFSETTO:+0100
TZNAME:CET
DTSTART:20241027T010000
END:STANDARD
BEGIN:DAYLIGHT
TZOFFSETFROM:+0100
TZOFFSETTO:+0200
TZNAME:CEST
DTSTART:20250330T010000
END:DAYLIGHT
BEGIN:STANDARD
TZOFFSETFROM:+0200
TZOFFSETTO:+0100
TZNAME:CET
DTSTART:20251026T010000
END:STANDARD
BEGIN:DAYLIGHT
TZOFFSETFROM:+0100
TZOFFSETTO:+0200
TZNAME:CEST
DTSTART:20260329T010000
END:DAYLIGHT
BEGIN:STANDARD
TZOFFSETFROM:+0200
TZOFFSETTO:+0100
TZNAME:CET
DTSTART:20261025T010000
END:STANDARD
END:VTIMEZONE
BEGIN:VEVENT
DTSTART;TZID=Europe/Madrid:20250430T000000
DTEND;TZID=Europe/Madrid:20250504T235959
DTSTAMP:20260422T005814
CREATED:20250217T185225Z
LAST-MODIFIED:20250428T103254Z
UID:10002222-1745971200-1746403199@demercadosmedievales.info
SUMMARY:Programación del Mercado Medieval de Villajoyosa (Alicante) 2025
DESCRIPTION:La celebración del 725 cumpleaños del otorgamiento de la Carta Puebla arrancará el próximo miércoles\, 30 de abril\, con la inauguración del Mercado Medieval.  \n\n\n\n\n\n\n\nMercado Medieval\n\n\n\n\n\n\n\nEl parque de la desembocadura del río Amadorio se convertirá en un auténtico escenario ambientado en la época de la edad media a lo largo del puente de mayo\, hasta el domingo 4 de mayo. \n\n\n\nLugares de artesanía y gastronomía\, actuaciones musicales\, exhibiciones teatralizadas\, caballerizas\, torneo de caballos\, talleres y juegos infantiles conseguirán que todos los públicos disfruten de una experiencia que los trasladará a la Edad media. \n\n\n\nEl Mercado Medieval se inaugurará la tarde del miércoles 30 de abril con un espectacular desfile por las calles del recinto y\, a lo largo de los días del puente de mayo\, los asistentes disfrutarán de espectáculos de calle con representaciones teatrales\, malabarismos y música medieval. Podrán visitar el campamento de caballeros y las caballerizas reales.  \n\n\n\nAdemás\, los más pequeños disfrutarán de juegos\, talleres y cuentacuentos en la ludoteca\, instalada en la zona infantil del parque. Habrá talleres de oficios y lugares de venta\, tanto de productos artesanales\, como ahora cerámica\, tejidos\, juguetes\, cestería\, así como de alimentación\, inspirados en la época. \n\n\n\nEntre la amplia programación de actividades a lo largo de los 5 días\, destaca el torneo medieval de caballos que se celebrará la mañana del domingo 5 de mayo. \n\n\n\nEl edil de Cultura\, Marisa Mingot\, explica que “el Mercado Medieval es una oferta lúdica\, cultural y gastronómica que pretende atraer a todos los públicos y después del gran éxito de visitantes el año pasado\, este año presenta más novedades en las cuales se combina la historia\, la cultura y el entretenimiento\, puesto que se espera aumentar el número de visitantes y que sea una perfecta opción de ocio para las familias durante el puente de mayo”. \n\n\n\nEl Mercado Medieval es la primera actividad con la cual arranca la programación de actas culturales\, lúdicos y gastronómicos con los cuales el Ayuntamiento de Villajoyosa festeja el 725 cumpleaños de la fundación de la ciudad.  \n\n\n\nLa agenda de actividades se celebrará del 30 abril al 11 de mayo\, en torno a la conmemoración del otorgamiento de la Carta Puebla por parte del almirante Bernat de Sarriá el 8 de mayo de 1300. \n\n\n\nCartel oficial\n\n\n\n\n\n\n\n \n\n\n\nProgramación de actividades \n\n\n\nEn Castellano\n\n\n\n MIÉRCOLES 30 De ABRIL17.30 APERTURA DEL MERCADO18.00 DESFILE INAUGURAL19.00 RITMO DEL DESIERTO CON DANZA ORIENTAL20.00 LOS CONCUERDAS MÁGICOS20.30 RISAS DEL BUFÓN21.00 EL HADA DE LOS DESEOS21.30 EL PAS DE LA PESTE NEGRA22.00 SONIDOS ENTRE LAS DUNAS \n\n\n\nJUEVES 1 DE MAYO11.00 EMPIEZA EL DÍA EN EL MERCADO11.30 EL ECO DE LOS TAMBORES12.00 TALLER EN CAMPAMENTO BAILA COMO UNA PRINCESA DEL DESIERTO13.00 CIRCO DE LOCOS Y LUNAS13.30 CUENTA CUENTOS14.00 SONIDOS DEL REINO14.30 La HORA DEL BUEN YANTAR \n\n\n\n17.30 EL MERCADO ABRE SUS PUERTAS CON LOS MÚSICOS DE LA CORTE18.00 El ORÁCULO18.30 LA NINFA DE LOS SECRETOS19.00 ZANCUDO DEL REINO19.30 DESFILE MUSICAL20.00 CUENTA CUENTOS EN CAMPAMENTO21.00 BUSCA Y CAPTURA DEL LADRÓN22.00 MELODÍAS ENCADENADAS \n\n\n\n \n\n\n\nVIERNES 2 DE MAYO11.00 EL REINO DESPIERTA CON ALEGRÍA11.30 LAS HADAS DE La ALBA12.00 TALLER DE MANUALIDADES EN CAMPAMENTO13.00 SONIDOS LEJANOS13.30 DANZA ANDALUSÍ14.00 LOS MENDIGOS RECORREN EL MERCADO14.30 HORA DE LLENAR LA ANDORGA (TRIPA) \n\n\n\n17.30 EL DESPERTAR DE LA TARDE CON LOS MÚSICOS18.00 El OJO DEL DESTINO19.00 ESCUELA DE BUFONES DE LA CORTE19.30 EL DANZAR DE LA FAVORITA20.00 MELODÍAS ENCANTADAS20.30 CUENTA CUENTOS CON *EDOX21.30 EL ZANCUDO MÁGICO22.00 SUENAN ACORDES DE DESPEDIDA \n\n\n\n \n\n\n\nSÁBADO 3 DE MAYO11.00 EL REINO DESPIERTA DE NUEVO11.30 LA HISTORIA DE VILLAJOYOSA12.00 El HECHIZO DE LA DANZARINA12.30 TALLER PEINE CARAS EN CAMPAMENTO13.00 SONIDOS DEL REINO13.30 LAS NINFAS DE LOS DESEOS14.00 CABALLERO BÚSQUEDA ESPOSA14.30 HORA DE LLENAR LA ANDORGA (TRIPA) \n\n\n\n17.30 EL DESPERTAR DE LA VILA18.00 LA LOCURA DEL BUFÓN18.30 El HECHIZO DE LA NINFA19.00 LOS SECRETOS DEL *TAROT19.30 *MELODIAS ENCANTADAS20.00 EL JUICIO DEL MENDIGO21.00 La LLAMADA DE LA PESTE22.00 SUENAN ACORDES DE DESPEDIDA \n\n\n\n \n\n\n\nDOMINGO 4 DE MAYO11.00 EL MERCADO ABRE SUS PUERTAS11.30 DESFILE DE COMITIVA HACIA EL GRAN TORNEO MEDIEVAL12.00 GRAN TORNEO MEDIEVAL13.00 ECOS DEL BOSQUE13.30 El ESPEJO DEL REINO PERDIDO14.00 EL BUFÓN DEL REY14.30 HORA DE LLENAR LA ANDORGA (TRIPA) \n\n\n\n17.30 RITMOS En VILLAJOYOSA18.00 AROMAS De ORIENTE18.30 EL DESPERTAR DE LA TARDE19.00 CUENTA CUENTOS19.30 LAS MELODÍAS ENCANTADAS20.00 EN BUSCA Y CAPTURA DEL FUGITIVO20.30 LA NINFA DE LOS DESEOS21.00 FUTUROLOGÍA MEDIEVAL\, NO TENGAS MIEDO AL DESTINO22.00 DESFILE DE DESPEDIDA \n\n\n\nY TAMBIÉN….GRAN LUDOTECA INFANTILATRACCIONES ECOLÓGICASTALLERES De OFICIOTALLERES INFANTILES EN CAMPAMENTO \n\n\n\n \n\n\n\nEn Valenciano\n\n\n\nDIMECRES 30 D’ABRIL 17.30 OBERTURA DEL MERCAT18.00 DESFILADA INAUGURAL19.00 RITME DEL DESERT AMB DANSA ORIENTAL20.00 ELS CONCORDES MÀGICS20.30 RIURES DEL BUFÓ21.00 LA FADA DELS DESITJOS21.30 EL PAS DE LA PESTA NEGRA22.00 SONS ENTRE LES DUNES \n\n\n\nDIJOUS 1 DE MAIG11.00 COMENÇA EL DIA EN EL MERCAT11.30 EL RESSÒ DELS TAMBORS12.00 TALLER EN CAMPAMENT BALLA COM UNA PRINCESA DEL DESERT13.00 CIRC DE BOJOS I LLUNES13.30 COMPTE CONTES14.00 SONS DEL REGNE14.30 L’HORA DEL BON YANTAR \n\n\n\n17.30 EL MERCAT OBRI LES SEUES PORTES AMB ELS MÚSICS DE LA CORT18.00 L’ORACLE18.30 LA NIMFA DELS SECRETS19.00 XANQUER DEL REGNE19.30 DESFILADA MUSICAL20.00 COMPTE CONTES EN CAMPAMENT21.00 CRIDA I CERCA DEL LLADRE22.00 MELODIES ENCADENADES \n\n\n\nDIVENDRES 2 DE MAIG11.00 EL REGNE DESPERTA AMB ALEGRIA11.30 LES FADES DE L’ALBA12.00 TALLER DE MANUALITATS EN CAMPAMENT13.00 SONS LLUNYANS13.30 DANSA ANDALUSINA14.00 ELS CAPTAIRES RECORREN EL MERCAT14.30 HORA D’OMPLIR L’ANDORGA \n\n\n\n17.30 EL DESPERTAR DE LA VESPRADA AMB ELS MÚSICS18.00 L’ULL DEL DESTÍ19.00 ESCOLA DE BUFONS DE LA CORT19.30 EL DANSAR DE LA FAVORITA20.00 MELODIES ENCANTADES20.30 COMPTE CONTES AMB EDOX21.30 EL XANQUER MÀGIC22.00 SONEN CONCORDES DE COMIAT \n\n\n\nDISSABTE 3 DE MAIG 11.00 EL REGNE DESPERTA DE NOU11.30 LA HISTÒRIA DE LA VILA JOIOSA12.00 L’ENCANTERI DE LA DANZARINA12.30 TALLER PINTA CARES EN CAMPAMENT13.00 SONS DEL REGNE13.30 LES NIMFES DELS DESITJOS14.00 CAVALLER CERCA ESPOSA14.30 HORA D’OMPLIR L’ANDORGA \n\n\n\n17.30 EL DESPERTAR DE LA VILA18.00 LA BOGERIA DEL BUFÓ18.30 L’HICHIZO DE LA NIMFA19.00 ELS SECRETS DEL TAROT19.30 MELODIAS ENCANTADES20.00 EL JUDICI DEL CAPTAIRE21.00 L’ANOMENADA DE LA PESTA22.00 SONEN CONCORDES DE COMIAT \n\n\n\nDIUMENGE 4 DE MAIG11.00 EL MERCAT OBRI LES SEUES PORTES11.30 DESFILADA DE COMITIVA CAP AL GRAN TORNEIG MEDIEVAL12.00 GRAN TORNEIG MEDIEVAL13.00 RESSONS DEL BOSC13.30 L’ESPILL DEL REGNE PERDUT14.00 EL BUFÓ DEL REI14.30 HORA D’OMPLIR L’ANDORGA \n\n\n\n17.30 RITMES A LA VILA JOIOSA18.00 AROMES D’ORIENT18.30 EL DESPERTAR DE LA VESPRADA19.00 COMPTE CONTES19.30 LES MELODIES ENCANTADES20.00 EN CRIDA I CERCA DEL FUGITIU20.30 LA NIMFA DELS DESITJOS21.00 FUTUROLOGIA MEDIEVAL\, NO TINGUES POR AL DESTÍ22.00 DESFILADA DE COMIAT \n\n\n\nI TAMBÉ….GRAN LUDOTECA INFANTILATRACCIONS ECOLÒGIQUESTALLERS D’OFICITALLERS INFANTILS EN CAMPAMENT \n\n\n\n \n\n\n\nInformación del evento\n\n\n\n\n📅 Fecha: 30 de abril al 4 de mayo  2025 \n\n\n\nLugar: Parque cerca del Rio\n\n\n\nPoblación:  Villajoyosa ( ALICANTE ) Villajoyosa​ ​ es un municipio de la Comunidad Valenciana\, España. Perteneciente a la provincia de Alicante y situado en la Costa Blanca\, en la comarca de la Marina Baja\, de la que es su capital\, su población es de 36 891 habitantes.\n\n\n\n🏺 Oferta a exponer\n\n\n\nAlimentación\n\n\n\nGastronomía\n\n\n\nArtesanía y complementos\n\n\n\nSerá inaugurado  : El dia 30 de Abril\n\n\n\nServicios que proporcionara el organizador: Agua\,  Luz y Vigilancia Nocturna\n\n\n\nEntidad organizadora: ANUBIS TEMATICA\n\n\n\n\n \n\n\n\n🔥 ¡Un viaje a la Edad Media en plena Costa Blanca! \n\n\n\nVillajoyosa se transforma en un auténtico pueblo medieval con su esperado Mercado Medieval. Durante cinco días\, el parque junto al río se llenará de vida con mercaderes\, artesanos y taberneros\, ofreciendo una experiencia única de historia\, cultura y entretenimiento. \n\n\n\nInformación del organizador :\n\n\n\nLa organización y decoración de este evento están a cargo de ANUBIS TEMATICA . Para más detalles sobre el proceso de inscripción\, tarifas y requisitos específicos\, contacta a través de: \n\n\n\n\nCorreo electrónico :   artesanos@anubistematica.com\n\n\n\nTeléfono / WhatsApp : Oficinas: 966-851-604 Móvil: 663-049-625\n\n\n\n\n \n\n\n\n\nDescubre las próximas ferias y mercados en su agenda:  \n\n\n\n\n\n\n\n\n\n\n\n\n\n\nInformación sobre la localidad \n\n\n\nAcerca de .. Villajoyosa\, AlicanteVillajoyosa​ ​ es un municipio de la Comunidad Valenciana\, España. Perteneciente a la provincia de Alicante y situado en la Costa Blanca\, en la comarca de la Marina Baja\, de la que es su capital\, su población es de 36 891 habitantes. \n\n\n\nConoce más de VILLAJOYOSA  visitando la pagina web del Ayuntamiento :  https://www.villajoyosa.com/ \n\n\n\nListado de eventos en está localidad : \n\n\n\n\n\n \n\n\n\n\n\n\n\nOtros enlaces : \n\n\n\nPodría ser de tu interés : \n\n\n\n\nEventos de LA PROVINCIA DE  ALICANTE\n\n\n\nCalendario de Mercados Medievales en ABRIL\n\n\n\nFerias y Mercados en España\n\n\n\nOrganizadores de Mercados y Ferias\n\n\n\n\n\nVisita nuestro Calendario de Eventos para obtener detalles de: Calendario 2025: Planifica con anticipación y no te pierdas ninguna cita.\n\n\n\n\n\nLas ferias medievales son auténticos viajes en el tiempo. Estos eventos recrean la atmósfera de la Edad Media. Leer más…\n\n\n\n\n\n\n\n\n \n\n\n\nSíguenos.\n\n\n\n\nTelegram: Recibe nuestras noticias y contenido exclusivo (clic aquí).\n\n\n\nNewsletter: Recibe un correos con nuestras últimas noticias (clic aquí).\n\n\n\nWhatsApp: Suscríbete para seguirnos en nuestro canal  (clic aquí).\n\n\n\nInstagram:  Síguenos en Instagram ( clic aquí )\n\n\n\n\n \n\n\n\n\n\n\n\n\n\n\n\nMercadosmedievales.net \n\n\n\nLas ferias medievales son auténticos viajes en el tiempo. Estos eventos recrean la atmósfera de la Edad Media….
URL:https://demercadosmedievales.info/mercadomedieval/04-2025-mercado-medieval-de-villajoyosa-alicante/
LOCATION:Villajoyosa (Alicante) (***)\, Villajoyosa\, Alicante\, 03570\, España
CATEGORIES:Alicante,Cartel,Comunidad valenciana,Mercado Medieval
ATTACH;FMTTYPE=image/jpeg:https://demercadosmedievales.info/wp-content/uploads/2025/02/medieval-villajoyosa-cartel.jpg
ORGANIZER;CN="Legend Especialistas":MAILTO:artesanos@legendespecialistas.com
GEO:38.5124744;-0.232687
END:VEVENT
BEGIN:VEVENT
DTSTART;TZID=Europe/Madrid:20250430T000000
DTEND;TZID=Europe/Madrid:20250504T235959
DTSTAMP:20260422T005814
CREATED:20250306T131926Z
LAST-MODIFIED:20250428T093712Z
UID:10002286-1745971200-1746403199@demercadosmedievales.info
SUMMARY:Complutum Renacida y el Mercado Romano de Alcalá de Henares (Madrid)
DESCRIPTION:La ciudad de Alcalá de Henares ya se prepara para Complutum Renacida y el Mercado Romano 2025. Del 29 de abril al 9 de mayo\, un variado programa de actividades ofrecerá propuestas para todos los públicos. \n\n\n\n\n\n\n\nMercado Romano\n\n\n\nComplatum renacida\n\n\n\n \n\n\n\n\n\n\n\nEl Mercado Romano\, lleno de animación y espectáculos\, tendrá lugar del 30 de abril al 4 de mayo\, extendiéndose desde la plaza de los Santos Niños hasta el recinto amurallado. Allí\, una vez más\, los visitantes podrán disfrutar de impactantes exhibiciones de aurigas\, bigas y gladiadores en el espectacular Circus Maximus. \n\n\n\nPor otro lado\, el MARPA (Museo Arqueológico y Paleontológico) sorprenderá con la exposición temporal «Hispano\, Gladiadores en el Imperio Romano»\, que ya ha atraído a más de 15.000 visitantes desde su apertura. \n\n\n\nAdemás\, este año el Parque Arqueológico de Complutum tendrá un papel protagonista como nunca antes. En especial\, gracias al nuevo Antiquarium Complutum\, un moderno centro de interpretación que enriquecerá la experiencia de los visitantes al recorrer los yacimientos arqueológicos de la ciudad. \n\n\n\n \n\n\n\nCartel oficial\n\n\n\n\n\n\n\n \n\n\n\nProgramaciones\n\n\n\n \n\n\n\nMercado Romano\n\n\n\nHorario de apertura : \n\n\n\n\nMiércoles a las 17h\n\n\n\nJueves a Domingo : A las 11 y a las 17h\n\n\n\n\nHorario de cierre : \n\n\n\n\nMiércoles a las 23h\n\n\n\nJueves a Sábado a las 23h y el domingo a las 22h\n\n\n\n\n \n\n\n\nZonas de ubicación :  \n\n\n\n\nPlaza Santos Niños\, \n\n\n\nCalles San Juan\, Sandoval y Rojas\n\n\n\ny Pico del Obispo\n\n\n\n\n\n\n\n\n\n\n\n\n \n\n\n\nHorarios\n\n\n\n\n\n\n\n \n\n\n\nCampamento\n\n\n\n\n\n\n\n \n\n\n\nOtras actividades\n\n\n\n\n\n\n\n \n\n\n\nMapa\n\n\n\n\n\n\n\n \n\n\n\nInformación del evento\n\n\n\n\nFecha: 30 de Abril al 04 de Mayo de  2025 \n\n\n\nLugar: San Juan/ Sandoval Y Rojas/ Huerta Del Obispo\n\n\n\nPoblación:  Alcalá de Henares ( MADRID ) \n\n\n\nEntidad organizadora: Musical Sport\n\n\n\n \n\n\n   \n\n\n\nInformación del organizador :\n\n\n\nLa organización y decoración de este evento están a cargo de Musical Sport . Para más detalles\, contacta a través de: \n\n\n\n\nCorreo electrónico : artesanos@musicalsport.com\n\n\n\nDescubre las próximas ferias y mercados en su agenda:  Musical Sport \n\n\n\n\n\n\n\n\nInformación sobre la localidad \n\n\n\nAcerca de .. Alcalá de HenaresAlcalá de Henares es una ciudad situada al nordeste de Madrid. Es conocida por la Universidad de Alcalá\, que se encuentra en edificios del casco antiguo que datan del siglo XVI. Entre ellos destaca el paraninfo\, un salón con un elaborado techo de estilo mudéjar\, donde el rey de España entrega el premio Cervantes de literatura todos los años. Cerca de allí se encuentra el Museo Casa Natal de Cervantes\, donde vivió el famoso autor de El Quijote. \n\n\n\nConoce más de ALCALÁ DE HENARES   visitando la pagina web del Ayuntamiento : https://www.ayto-alcaladehenares.es/ \n\n\n\nListado de eventos en está localidad : \n\n\n\n\n\nComplutum Renacida: El Gran Mercado Romano de Alcalá de Henares 2025 \n\n\n\nDel 30 de abril al 4 de mayo de 2025\, Alcalá de Henares regresa a sus raíces romanas con Complutum Renacida\, un espectacular Mercado Romano que llenará las calles de historia\, cultura y tradición. En los escenarios de San Juan\, Sandoval y Rojas y la Huerta del Obispo\, visitantes y comerciantes disfrutarán de un evento único inspirado en la antigua Roma. \n\n\n\nUn Regreso a la Época Romana: Artesanía\, Gastronomía y Espectáculos\n\n\n\nEste mercado romano ofrecerá una amplia variedad de experiencias para todos los asistentes: \n\n\n\n\n🍇 Gastronomía y alimentación romana: productos inspirados en la cocina del Imperio Romano.\n\n\n\n🏺 Artesanía y complementos: artículos únicos elaborados con técnicas ancestrales.\n\n\n\n🎭 Espectáculos y animación: gladiadores\, músicos\, actores y personajes caracterizados traerán de vuelta la esencia de Complutum.\n\n\n\n\n \n\n\n\n \n\n\n\n\n\n\n\n \n\n\n\n\n\n \n\n\n\n\n\n\nOtros enlaces : \n\n\n\nPodría ser de tu interés : \n\n\n\n\nHaz clic en este enlace y entérate de todos los eventos que harán en la provincia de Madrid\n\n\n\nConsulta el calendario completo en el siguiente enlace y prepárate para la aventura! 👉 ABRIL\n\n\n\nPuedes Consultar en esté enlace las Ferias y Mercados en España\n\n\n\nConoce los Organizadores de Mercados y Ferias haciendo clic en ESTE enlace 👈\n\n\n\n\n\nVisita nuestro Calendario de Eventos para obtener detalles de: Calendario 2025: Planifica con anticipación y no te pierdas ninguna cita.\n\n\n\n\n\nLas ferias medievales son auténticos viajes en el tiempo. Estos eventos recrean la atmósfera de la Edad Media. Leer más…\n\n\n\n\n\n\n\n\n \n\n\n\nSíguenos.\n\n\n\n\nTelegram: Recibe nuestras noticias y contenido exclusivo (clic aquí).\n\n\n\nNewsletter: Recibe un correos con nuestras últimas noticias (clic aquí).\n\n\n\nWhatsApp: Suscríbete para seguirnos en nuestro canal  (clic aquí).\n\n\n\nInstagram:  Síguenos en Instagram ( clic aquí )\n\n\n\n\n \n\n\n\n\n\n\n\n\n\n\n\nMercadosmedievales.net \n\n\n\nLas ferias medievales son auténticos viajes en el tiempo. Estos eventos recrean la atmósfera de la Edad Media….
URL:https://demercadosmedievales.info/mercadomedieval/04-25-mercado-romano-de-alcala-de-henares-madrid-30-de-abril-al-04-de-mayo-2025/
LOCATION:Alcalá de Henares (Madrid) (***)\, Alcalá de Henares\, Comunidad de Mmadrid\, 28800\, España
CATEGORIES:Cartel,Programación
ATTACH;FMTTYPE=image/jpeg:https://demercadosmedievales.info/wp-content/uploads/2025/03/mercado_romano-alcala-cartel.jpg
GEO:40.4843898;-3.3688023
END:VEVENT
BEGIN:VEVENT
DTSTART;TZID=Europe/Madrid:20250430T000000
DTEND;TZID=Europe/Madrid:20250504T235959
DTSTAMP:20260422T005814
CREATED:20250403T124003Z
LAST-MODIFIED:20250429T095750Z
UID:10002349-1745971200-1746403199@demercadosmedievales.info
SUMMARY:Programación del Mercado Goyesco de Móstoles (Madrid) 2025
DESCRIPTION:Tradicional Mercado Goyesco que se celebra durante el puente de Mayo\, en la calle Antonio Hernández\, plaza del pradillo\, de la cultura y Agustina de Aragón. \n\n\n\n\n\n\n\nHaz clic en este enlace : Mercado medievales en La Comunidad de Madrid \n\n\n\n✔Consulta el calendario completo del mes de ABRIL \n\n\n\nDescubre el Mercado Goyesco: tradición\, cultura y entretenimiento del 30 de abril al 4 de mayo\n\n\n\nDel 30 de abril al 4 de mayo\, la ciudad se transforma con la llegada del Mercado Goyesco\, un evento único que combina tradición\, arte y gastronomía. Más de 140 puestos de artesanía y productos gastronómicos llenarán de vida las calles en un entorno ambientado en la época goyesca\, ofreciendo una experiencia inolvidable para toda la familia. \n\n\n\nA lo largo de estos días\, los visitantes podrán disfrutar de pasacalles históricos\, espectáculos de música y danza\, así como actuaciones de bufones\, juglares\, marionetas y artistas circenses. Además\, habrá espacio para la creatividad y la participación con talleres\, cuentacuentos y performances únicas como «Fuegos del Capricho» o «La Danza del Fuego y el Lienzo». \n\n\n\nEl evento se desarrollará en varios puntos emblemáticos: Plaza del Pradillo\, calle Antonio Hernández\, Plaza de la Cultura y la Avenida Iker Casillas. El horario general será de 10:00 a 00:00 horas\, ampliándose hasta la 01:00 horas en víspera de festivo\, mientras que los puestos de la Avenida Iker Casillas abrirán de 18:00 a 04:00 horas. \n\n\n\n \n\n\n\nCartel oficial\n\n\n\n\n\n\n\n \n\n\n\nProgramación de actividades del Mercado Goyesco de Móstoles\n\n\n\nMiércoles \n\n\n\n\n\n\n\n \n\n\n\nJueves\n\n\n\n\n\n\n\n \n\n\n\nViernes \n\n\n\n\n\n\n\n \n\n\n\nSábado\n\n\n\n\n\n\n\n \n\n\n\nDomingo\n\n\n\n\n\n\n\nInformación del evento\n\n\n\n\nFecha: 30 de Abril al 04 de Mayo de  2025 \n\n\n\nLugar: calle Antonio Hernández\, plaza del pradillo\, de la cultura y Agustina de Aragón.\n\n\n\nPoblación: Móstoles \, MADRID\n\n\n\nEntidad organizadora: Rivendel Mercados Temáticos\n\n\n\n\n\n\n\n\n\n\n\n \n\n\n\nInformación del organizador :\n\n\n\nLa organización y decoración de este evento están a cargo de Rivendel Mercados Temáticos . Para más detalles sobre el proceso de inscripción\, tarifas y requisitos específicos\, contacta a través de: \n\n\n\n\n\n\n\n\n\nInformación sobre la localidad \n\n\n\nAcerca de .. Mostoles Móstoles es un municipio y una villa​ española de la Comunidad de Madrid. Es el vigésimo sexto municipio más poblado del país y el segundo de la Comunidad\, solo superado por la capital\, Madrid. En 2024 contaba con 214 006 habitantes. El municipio se sitúa a 18 km al suroeste del centro de la ciudad de Madrid. \n\n\n\nListado de eventos en está localidad : \n\n\n\n\n\n \n\n\n\n\n\n\n\n\n\n\n\n\n\n\nOtros enlaces : \n\n\n\nPodría ser de tu interés : \n\n\n\n\nPuedes Consultar en esté enlace las Ferias y Mercados en España\n\n\n\nHaz clic en ESTE enlace : y Conoce los Organizadores de Mercados y Ferias \n\n\n\n\n\nVisita nuestro Calendario de Eventos para obtener detalles de: Calendario 2025: Planifica con anticipación y no te pierdas ninguna cita.\n\n\n\n\n\nLas ferias medievales son auténticos viajes en el tiempo. Estos eventos recrean la atmósfera de la Edad Media. Leer más…\n\n\n\n\n\n\n\n\n \n\n\n\nSíguenos.\n\n\n\n\nTelegram: Recibe nuestras noticias y contenido exclusivo (clic aquí).\n\n\n\nNewsletter: Recibe un correos con nuestras últimas noticias (clic aquí).\n\n\n\nWhatsApp: Suscríbete para seguirnos en nuestro canal  (clic aquí).\n\n\n\nInstagram:  Síguenos en Instagram ( clic aquí )\n\n\n\n\n \n\n\n\n\n\n\n\n\n\n\n\nMercadosmedievales.net \n\n\n\nUn mercado de temática goyesca recrea el ambiente del siglo XVIII y principios del XIX\, inspirado en la época de Francisco de Goya. Calles y plazas se transforman en un escenario histórico donde los comerciantes visten con trajes de majos y majas\, bandoleros y campesinos\, evocando la estética de las pinturas del célebre artista aragonés. \n\n\n\nLos Mercados Medievales son eventos que transportan a los asistentes a la atmósfera de la Edad Media\, recreando su esencia y estética de manera auténtica. A lo largo de estos mercados\, es posible encontrar una gran variedad de puestos que ofrecen artesanía\, productos gastronómicos y objetos característicos de la época. \n\n\n\nAdemás\, suelen contar con numerosas actividades y espectáculos inspirados en las tradiciones medievales\, como justas\, teatro callejero\, música en vivo y danzas folclóricas. En definitiva\, representan una excelente oportunidad para sumergirse en la cultura\, la gastronomía y el arte de una de las época
URL:https://demercadosmedievales.info/mercadomedieval/04-25-mercado-goyesco-de-mostoles-madrid-2025/
LOCATION:Móstoles (Madrid) (***)\, en el centro\, Mostoles\, Comunidad de Madrid\, 28931\, España
CATEGORIES:Comunidad de Madrid,Mercado Goyesco
ATTACH;FMTTYPE=image/jpeg:https://demercadosmedievales.info/wp-content/uploads/2025/04/1200_GOYESCO-MOSTOLES.jpg
GEO:40.3248633;-3.8642577
X-APPLE-STRUCTURED-LOCATION;VALUE=URI;X-ADDRESS=Móstoles (Madrid) (***) en el centro Mostoles Comunidad de Madrid 28931 España;X-APPLE-RADIUS=500;X-TITLE=en el centro:geo:-3.8642577,40.3248633
END:VEVENT
END:VCALENDAR