BEGIN:VCALENDAR
VERSION:2.0
PRODID:-//Mercados Medievales - ECPv6.15.20//NONSGML v1.0//EN
CALSCALE:GREGORIAN
METHOD:PUBLISH
X-ORIGINAL-URL:https://demercadosmedievales.info
X-WR-CALDESC:Eventos para Mercados Medievales
REFRESH-INTERVAL;VALUE=DURATION:PT1H
X-Robots-Tag:noindex
X-PUBLISHED-TTL:PT1H
BEGIN:VTIMEZONE
TZID:Europe/Madrid
BEGIN:DAYLIGHT
TZOFFSETFROM:+0100
TZOFFSETTO:+0200
TZNAME:CEST
DTSTART:20240331T010000
END:DAYLIGHT
BEGIN:STANDARD
TZOFFSETFROM:+0200
TZOFFSETTO:+0100
TZNAME:CET
DTSTART:20241027T010000
END:STANDARD
BEGIN:DAYLIGHT
TZOFFSETFROM:+0100
TZOFFSETTO:+0200
TZNAME:CEST
DTSTART:20250330T010000
END:DAYLIGHT
BEGIN:STANDARD
TZOFFSETFROM:+0200
TZOFFSETTO:+0100
TZNAME:CET
DTSTART:20251026T010000
END:STANDARD
BEGIN:DAYLIGHT
TZOFFSETFROM:+0100
TZOFFSETTO:+0200
TZNAME:CEST
DTSTART:20260329T010000
END:DAYLIGHT
BEGIN:STANDARD
TZOFFSETFROM:+0200
TZOFFSETTO:+0100
TZNAME:CET
DTSTART:20261025T010000
END:STANDARD
END:VTIMEZONE
BEGIN:VEVENT
DTSTART;TZID=Europe/Madrid:20250424T000000
DTEND;TZID=Europe/Madrid:20250428T235959
DTSTAMP:20260422T023035
CREATED:20240821T074742Z
LAST-MODIFIED:20250423T121957Z
UID:10001634-1745452800-1745884799@demercadosmedievales.info
SUMMARY:Mercado Marinero Escala a Castelló (Castellón de la Plana) 2025
DESCRIPTION:Contará con la participación de navíos históricos de acceso gratuito al público\, escenario con artistas nacionales e internaciones\, campamento de recreación histórica con recreadores y cañones\, animación de calles con zancudos y músicos\, rincón infantil\, obras teatrales\, cuenta cuentos\, justas marineras\, una batalla naval\, espectáculo pirotécnico con fuegos artificiales\, campaña publicitaria con medios de comunicación locales y nacionales\, etc. \n\n\n\n\n\n\n\nMercado Marinero Escala a Castelló\n\n\n\n\n\nCartel\n\n\n\nProximamente \n\n\n\nProgramación \n\n\n\n  \n\n\n\n\n\n\n\n \n\n\n\n\n\n\n\n \n\n\n\n\n\n\n\n\n\n\n\n\n\n\n\nInformación básica del Mercado\n\n\n\nFecha de celebraciónLos dias 24 al 28 de Abril del 2025 \n\n\n\nDonde se realizaEn la localidad de Castellón de la Plana que pertenece a la provincia de CASTELLON \n\n\n\nInformación del Organizador\n\n\n\nLa empresa organizadora es  ESPECTACULOS H.M. \n\n\n\nSI ESTÁN INTERESAD@S EN RECIBIR MÁS INFORMACIÓN\, REMÍTANNOS UN EMAIL A INFO@ESPECTACULOSHM.COM CON SU NOMBRE\, TELÉFONO DE CONTACTO\, FOTOGRAFÍAS DE LA PARADA\, PRODUCTOS QUE VENDE Y METROS QUE OCUPA\, Y LES MANDAREMOS EL DOSSIER DEL EVENTO Y UNA SOLICITUD DE PRE-INSCRIPCIÓN Y PRECIOS. \n\n\n\nBENEFICIOS DE PRE INSCRIBIRSE: SI SE INSCRIBEN ANTES DEL 15 DE OCTUBRE SIN PREVIO PAGO\, Y SON ACEPTADOS\, SE BENEFICIARÁN DE UN DESCUENTO DEL 5% SOBRE EL PRECIO DE SU ZONA Y UNA MEJOR UBICACIÓN DENTRO DE LA ZONA SOLICITADA\, POR ORDEN DE ENTRADA DE LAS SOLICITUDES. CONDICIONES A CONSULTAR. \n\n\n\n¿QUÉ DEBO HACER PARA SOLICITAR PARTICIPAR EN ESTOS EVENTOS?\n\n\n\nPara tramitar y valorar vuestra solicitud\, debéis enviar un email a info@espectaculoshm.com   con la siguiente información (NO SE ATENDERÁN SOLICITUDES A LAS QUE LES FALTE CUALQUIERA DE ESTOS APARTADOS): \n\n\n\n– FERIA/S A LA/S QUE QUIERE ASISTIR \n\n\n\n– NOMBRE\, APELLIDOS Y TELÉFONO DE CONTACTO \n\n\n\n– FOTOS DE LA PARADA (QUE SE VEA LA PARADA ENTERA Y EL PRODUCTO) \n\n\n\n– BREVE DESCRIPCIÓN DE LOS PRODUCTOS QUE VENDÉIS \n\n\n\n– CANTIDAD DE METROS QUE OCUPA LA PARADA (METROS LINEALES Y DE FONDO) \n\n\n\nMás fechas  Puedes conocer mas ferias y mercados en está provincia\, consultando nuestra sección de  Eventos en Castellón \n\n\n\nOtros eventos del organizadorConsulta Aquí otras ferias y mercados que organizará la empresa Espectácuos H.M. \n\n\n\notros mercados temáticos y FeriasSi quieres conocer cuando se realizan más ferias y mercados\, puedes consultarlos visitando nuestro  Calendario de Eventos \n\n\n\nAcerca de Castellón de la Plana\n\n\n\nCastellón de la Plana ​ es una ciudad y municipio español\, capital de la provincia de Castellón y de la comarca de la Plana Alta\, ubicada en el noreste de la Comunidad Valenciana. \n\n\n\nCalendario 2024\n\n\n\nSobre los Mercados Medievales\n\n\n\nLas ferias medievales son eventos que recrean la atmósfera de la Edad Media. Por lo general\, se llevan a cabo en pueblos o ciudades\, y presentan puestos de vendedores que venden artesanías\, alimentos y bebidas. También puede haber entretenimiento\, como justas\, música y baile. \n\n\n\n\n\n\n\nDetalles del organizador\n\n\n\n\n\nMapa de localización
URL:https://demercadosmedievales.info/mercadomedieval/mercado-marinero-escala-a-castello-castellon-de-la-plana-2025/
LOCATION:Castellón de la Plana (***)\, Castellon de la plana\, Castellón\, España
CATEGORIES:Cartel,Castellon,mercado marinero,Programación
ATTACH;FMTTYPE=image/jpeg:https://demercadosmedievales.info/wp-content/uploads/2024/08/escala_a_castello_f.jpg
ORGANIZER;CN="Espectaculos  H.M.":MAILTO:info@espectaculoshm.com
GEO:40.0017505;-0.0559939
END:VEVENT
BEGIN:VEVENT
DTSTART;TZID=Europe/Madrid:20250425T000000
DTEND;TZID=Europe/Madrid:20250428T235959
DTSTAMP:20260422T023035
CREATED:20250215T111353Z
LAST-MODIFIED:20250222T115009Z
UID:10002206-1745539200-1745884799@demercadosmedievales.info
SUMMARY:NATUREFEST GILET 2025 Artesanía\, Gastronomía y Alimentación
DESCRIPTION:Si eres artesano\, gestor de talleres\, dueño de un food truck\, Naturefest Gilet te invita a ser parte de su edición 2025. \n\n\n\n\n\n\n\nNATUREFEST GILET 2025\n\n\n\n\n\n\n\n \n\n\n\n📍 Plaza Verge Estrella\, Gilet (Valencia)📅 Del 25 al 28 de abril 2025 🎨🛍️ Artesanía | Gastronomía | Alimentación | Talleres \n\n\n\n🕒 Horario de apertura:🔹 Viernes 25 abril: 17:00 – 00:00 (Inauguración a las 17:00h)🔹 Sábado 26 abril: 11:00 – 14:00 / 17:00 – 01:00🔹 Domingo 27 abril: 11:00 – 14:00 / 17:00 – 22:00 \n\n\n\n✨ Servicios para expositores: Luz\, agua\, aseos y vigilancia.📌 Plazo de inscripción: Hasta el 1 de abril.🛠️ Montaje: Viernes 25 abril | Desmontaje: Lunes 28 abril. \n\n\n\n💰 Tarifas:🔸 Artesanía: 50€/m🔸 Alimentación: 75€/m🎭 Requisitos: Buena estética del puesto. \n\n\n\n📩 Información e inscripciones:📞 WhatsApp: 667 058 594📧 Email: hybridarts.events@gmail.com📲 Instagram: @lamareaarts \n\n\n\n📢 Organiza:  La Marea ARts \n\n\n\nCalendario de ferias ↓ \n\n\n\n\n\n¡No te pierdas este evento anual lleno de naturaleza\, arte y tradición! \n\n\n\nAcerca de GILET\n\n\n\nGilet es un municipio de España\, en la Comunidad Valenciana. Pertenece a la provincia de Valencia y a la comarca del Campo de Murviedro. \n\n\n\nEl municipio está integrado en la subcomarca de la Baronía y en la comarca de Campo de Morvedre\, situándose a 33 kilómetros de Valencia. El término municipal está atravesado por la autovía A-23 y por la antigua carretera nacional N-234. \n\n\n\n\n\nOtros enlaces : \n\n\n\nPodría ser de tu interés : \n\n\n\n\nEventos de LA PROVINCIA DE  VALENCIA\n\n\n\nCalendario de Mercados Medievales en  ABRIL \n\n\n\nFerias y Mercados en España\n\n\n\nOrganizadores de Mercados y Ferias\n\n\n\n\n\nVisita nuestro Calendario de Eventos para obtener detalles de: Calendario 2025: Planifica con anticipación y no te pierdas ninguna cita.\n\n\n\n\n\nLas ferias medievales son auténticos viajes en el tiempo. Estos eventos recrean la atmósfera de la Edad Media. Leer más…\n\n\n\n\n\n\n\n\n \n\n\n\nSíguenos.\n\n\n\n\nTelegram: Recibe nuestras noticias y contenido exclusivo (clic aquí).\n\n\n\nNewsletter: Recibe un correos con nuestras últimas noticias (clic aquí).\n\n\n\nWhatsApp: Suscríbete para seguirnos en nuestro canal  (clic aquí).\n\n\n\nInstagram:  Síguenos en Instagram ( clic aquí )\n\n\n\n\n \n\n\n\n\n\n\n\n\n\n\n\nMercadosmedievales.net \n\n\n\nLas ferias medievales son auténticos viajes en el tiempo. Estos eventos recrean la atmósfera de la Edad Media….
URL:https://demercadosmedievales.info/mercadomedieval/naturefest-gilet-2025-artesania-gastronomia-y-alimentacion/
LOCATION:Gilet (Valencia) (***)\, Gilet\, Valencia\, 46149
CATEGORIES:Cartel,Mercado de artesanía y alimentación,Valencia
ATTACH;FMTTYPE=image/jpeg:https://demercadosmedievales.info/wp-content/uploads/2025/02/NATURE_FEST_GILET_2025-WEB.jpg
ORGANIZER;CN="La Marea ARts":MAILTO:HYBRIDARTS.EVENTS@GMAIL.COM
GEO:39.6793602;-0.3268296
END:VEVENT
END:VCALENDAR