BEGIN:VCALENDAR
VERSION:2.0
PRODID:-//Mercados Medievales - ECPv6.15.20//NONSGML v1.0//EN
CALSCALE:GREGORIAN
METHOD:PUBLISH
X-WR-CALNAME:Mercados Medievales
X-ORIGINAL-URL:https://demercadosmedievales.info
X-WR-CALDESC:Eventos para Mercados Medievales
REFRESH-INTERVAL;VALUE=DURATION:PT1H
X-Robots-Tag:noindex
X-PUBLISHED-TTL:PT1H
BEGIN:VTIMEZONE
TZID:Europe/Madrid
BEGIN:DAYLIGHT
TZOFFSETFROM:+0100
TZOFFSETTO:+0200
TZNAME:CEST
DTSTART:20240331T010000
END:DAYLIGHT
BEGIN:STANDARD
TZOFFSETFROM:+0200
TZOFFSETTO:+0100
TZNAME:CET
DTSTART:20241027T010000
END:STANDARD
BEGIN:DAYLIGHT
TZOFFSETFROM:+0100
TZOFFSETTO:+0200
TZNAME:CEST
DTSTART:20250330T010000
END:DAYLIGHT
BEGIN:STANDARD
TZOFFSETFROM:+0200
TZOFFSETTO:+0100
TZNAME:CET
DTSTART:20251026T010000
END:STANDARD
BEGIN:DAYLIGHT
TZOFFSETFROM:+0100
TZOFFSETTO:+0200
TZNAME:CEST
DTSTART:20260329T010000
END:DAYLIGHT
BEGIN:STANDARD
TZOFFSETFROM:+0200
TZOFFSETTO:+0100
TZNAME:CET
DTSTART:20261025T010000
END:STANDARD
END:VTIMEZONE
BEGIN:VEVENT
DTSTART;TZID=Europe/Madrid:20250416T000000
DTEND;TZID=Europe/Madrid:20250420T235959
DTSTAMP:20260422T042046
CREATED:20250105T074736Z
LAST-MODIFIED:20250105T140747Z
UID:10002078-1744761600-1745193599@demercadosmedievales.info
SUMMARY:Descubre la 11ª Feria de Artesanía Villa de Ayllón 2025
DESCRIPTION:Mercado Renacentista de Cebolla 2026 \, 25-26 abril con música\, pasacalles y artesanía en Toledo.  \n\n\n\n\n\n\n11ª Feria de Artesanía Villa de Ayllón 2025\n\n\n\n \n\n\n\n \n\n\n\nLa 11ª Feria de Artesanía Villa de Ayllón\, que se celebrará en 2025\, es un evento imperdible para los amantes de la cultura y la artesanía. \n\n\n\n \n\n\n\n\n\n\n\n \n\n\n\nInformación  \n\n\n\n\nFecha: Del 16 al 20 de abril de  2025 (Semana Santa).Lugar: La feria se llevará a cabo en el interior y en el atrio de la Iglesia de San Miguel\, ubicada en la Plaza Mayor de Ayllón (SEGOVIA).Horario:● Miércoles: De 17:00 a 21:00 h.● Jueves\, viernes y sábado: De 10:30 a 14:30 h y de 17:00 a 21:00 h.● Domingo: De 10:30 a 14:30 h y de 17:00 a 20:00 h.\n\n\n\nPoblación:  Ayllón \, SEGOVIA /  Ayllón es un municipio y villa española situada al nordeste de la provincia de Segovia\, en la comunidad autónoma de Castilla y León.\n\n\n\nPeriodicidad: anual\n\n\n\nOferta a exponer:  Artesanía y relacionados\, Alimentación y gastronomía\n\n\n\nEntidad organizadora:  Asociación de Artesanos La Martina.\n\n\n\n\n \n\n\n\nFoto de edición anterior de la Feria de Artesanía Villa de Ayllón  \n\n\n\n \n\n\n\n¿Qué encontrarás en la feria?\n\n\n\n\nExposición de productos artesanales: Cerámica\, madera\, textiles\, joyería y más.\n\n\n\nDemostraciones en vivo: Técnicas tradicionales como alfarería o forja.\n\n\n\nGastronomía local: Degustación de productos típicos.\n\n\n\nActividades familiares: Talleres y animación cultural.\n\n\n\n\n\n\n\n\nAyllón: El marco perfecto\n\n\n\nUbicada en la provincia de Segovia\, Ayllón es conocida por su rica historia y arquitectura medieval. Este evento no solo es una feria\, sino una experiencia que combina cultura\, turismo y tradición en un entorno inigualable. \n\n\n\n\n\n\n\nConclusión\n\n\n\nSi buscas un plan que combine creatividad\, tradición y un entorno único\, no te pierdas la 11ª Feria de Artesanía Villa de Ayllón 2025. ¡Ideal para disfrutar en familia!   \n\n\n\n \n\n\n\n \n\n\n\n\n\n\n\n\n\nBases de participación en la 11ª Feria de Artesanía Villa de Ayllón 2025 \n\n\n\nInscripciones hasta el 19 de Enero del 2025. Leer más… \n\n\n\n \n\n\n\n\n \n\n\n\n\n\n\n\n\nOtros Eventos del Organizador\n\n\n\nDescubre las próximas ferias y mercados en su agenda: 👉 Consulta Aquí para acceder al calendario de eventos temáticos. \n\n\n\n\n\n\n\nFerias y Mercados en la Provincia de Segovia\n\n\n\nExplora otros eventos en la misma provincia visitando nuestra sección de Eventos de LA PROVINCIA DE SEGOVIA\, donde encontrarás información actualizada sobre ferias\, mercados y actividades para todas las edades. \n\n\n\n\n\n\n\nCalendario de Mercados Temáticos y Ferias\n\n\n\n¿Quieres saber cuándo y dónde se realizarán más ferias y mercados?Visita nuestro Calendario de Eventos para obtener detalles de: Calendario 2025: Planifica con anticipación y no te pierdas ninguna cita. \n\n\n\n\n\n\n\nLos Mercados Medievales\n\n\n\nLas ferias medievales son auténticos viajes en el tiempo. Estos eventos recrean la atmósfera de la Edad Media. Leer más… \n\n\n\n\n\n\n\n\nMERCADOS MEDIEVALES Y TEMATICOS \n\n\n\nInformación de los próximos mercados medievales\, temáticos\, de artesanía a nivel nacional además de ofrecer información sobre servicios de alquiler de casetas\, venta de paradas\, cooperativas\, decoración y más. \n\n\n\nwww.mercados medievales.net \n\n\n\n\nDetalles\n\n\n\n\n\nOrganiza\n\n\n\n\n\nLugar de celebración\n\n\n\nAyllón es un municipio y villa española situada al nordeste de la provincia de Segovia\, en la comunidad autónoma de Castilla y León.
URL:https://demercadosmedievales.info/mercadomedieval/descubre-la-11a-feria-de-artesania-villa-de-ayllon-2025/
LOCATION:Ayllón (Segovia) (***)\, Ayllón\, Segovia\, España
CATEGORIES:Feria de artesanía,Segovia
ATTACH;FMTTYPE=image/jpeg:https://demercadosmedievales.info/wp-content/uploads/2025/01/Feria-Artesania-Villa-Ayllon-2025-redes.jpg
GEO:41.4200192;-3.376055
END:VEVENT
BEGIN:VEVENT
DTSTART;TZID=Europe/Madrid:20250416T000000
DTEND;TZID=Europe/Madrid:20250420T235959
DTSTAMP:20260422T042046
CREATED:20250307T202433Z
LAST-MODIFIED:20250307T215829Z
UID:10002295-1744761600-1745193599@demercadosmedievales.info
SUMMARY:Abril/25 Festival de los 5 Sentidos Ribadeo (Lugo) 16 al 20 de Abril 2025
DESCRIPTION:El Festival de los 5 Sentidos Ribadeo regresa en su edición anual\, ofreciendo una experiencia única para los amantes de la artesanía\, la gastronomía y la cultura. Un evento diseñado para estimular todos los sentidos y disfrutar de un ambiente vibrante en el hermoso municipio de Ribadeo\, Lugo. \n\n\n\n\n\n\n\nFestival de los 5 Sentidos Ribadeo 2025\n\n\n\n \n\n\n\n\n\n\n\n \n\n\n\nDetalles del Evento:\n\n\n\n\nFecha de celebración: Del 16 al 20 de abril de 2025 \n\n\n\nHorario: De 11:00 a 21:00 horas\n\n\n\nUbicación: Parque San Francisco\, Ribadeo\, LUGO\n\n\n\nPeriodicidad: Anual\n\n\n\n\nInscripción y Participación:\n\n\n\n\nPlazo de inscripción: Hasta el 1 de abril de 2025 \n\n\n\nRequisitos: Estar al día con la documentación legal\n\n\n\nPrecio del metro lineal: 80€\n\n\n\n\nProductos permitidos para exposición y venta:\n\n\n\n\nArtesanía\n\n\n\nAlimentación\n\n\n\nGastronomía\n\n\n\nTalleres\n\n\n\nNo se permiten tabernas ni pulperías.\n\n\n\n\nMontaje y Desmontaje:\n\n\n\n\nFecha de Montaje: 16 de abril de 2025\n\n\n\nFecha de Desmontaje: 20 de abril de 2025\n\n\n\n\nInauguración:\n\n\n\n\nFecha y Hora: 16 de abril de 2025  a las 17:00 horas\n\n\n\n\nServicios proporcionados por la organización:\n\n\n\n\nSuministro eléctrico\n\n\n\nSeguridad\n\n\n\nAnimación\n\n\n\nConciertos\n\n\n\nDecoración\n\n\n\nTalleres\n\n\n\nDegustaciones\n\n\n\n\nOrganiza:\n\n\n\n\n\nContacto para información e inscripciones:\n\n\n\n\nWhatsApp y Teléfono: 626209697\n\n\n\nCorreo Electrónico: globandy2009@gmail.com\n\n\n\n\n \n\n\n\n\n\n\n\n \n\n\n\nInformación sobre la localidad \n\n\n\nAcerca de .. RibadeoRibadeo es un municipio español situado en el extremo nororiental de Galicia\, en la provincia de Lugo\, en el límite con el Principado de Asturias. Perteneciente a la comarca de La Mariña Oriental\, de la cual es la capital\, tiene una población de 9978 habitantes (INE 2024). \n\n\n\nListado de eventos en está localidad : \n\n\n\n\n\n \n\n\n \n\n\n\n\n\n\nArticulo sobre este evento :\n\n\n\nRibadeo acogerá el Festival de los 5 Sentidos del 16 al 20 de abril de 2025\n\n\n\nEl municipio de Ribadeo (Lugo) se prepara para recibir una nueva edición del Festival de los 5 Sentidos\, un evento que cada año reúne a artesanos\, gastrónomos y visitantes en un ambiente lleno de creatividad y cultura. La cita se celebrará del 16 al 20 de abril de 2025 en el Parque San Francisco\, con un horario de apertura al público de 11:00 a 21:00 horas. \n\n\n\nEl festival\, organizado por Globandy Mercados Temáticos\, ofrecerá una amplia variedad de productos\, incluyendo artesanía\, alimentación\, gastronomía y talleres\, aunque sin la presencia de tabernas ni pulperías. \n\n\n\nInauguración y servicios para los expositores\n\n\n\nEl evento será inaugurado el 16 de abril a las 17:00 horas y contará con diversas actividades para atraer al público. Los expositores dispondrán de servicios como suministro eléctrico\, seguridad\, animación\, conciertos\, decoración\, talleres y degustaciones\, con el objetivo de mejorar la experiencia tanto para los participantes como para los asistentes. \n\n\n\nInscripción abierta hasta el 1 de abril\n\n\n\nLos interesados en participar pueden inscribirse hasta el 1 de abril de 2025. Para ello\, deben estar al día con la documentación y abonar un coste de 80 euros por metro lineal de espacio. El montaje de los puestos se realizará el 16 de abril\, mientras que el desmontaje está previsto para el 20 de abril\, coincidiendo con el cierre del festival. \n\n\n\n \n\n\n\n\n\n\n\n \n\n\n\n\n\n\n\nOtros enlaces : \n\n\n\nPodría ser de tu interés : \n\n\n\n\nHaz clic en este enlace y entérate de todos los eventos que harán en la provincia de Lugo\n\n\n\nConsulta el calendario completo en el siguiente enlace y prepárate para la aventura! 👉 ABRIL\n\n\n\nPuedes Consultar en esté enlace las Ferias y Mercados en España\n\n\n\nConoce los Organizadores de Mercados y Ferias haciendo clic en ESTE enlace 👈\n\n\n\n\n\nVisita nuestro Calendario de Eventos para obtener detalles de: Calendario 2025: Planifica con anticipación y no te pierdas ninguna cita.\n\n\n\n\n\nLas ferias medievales son auténticos viajes en el tiempo. Estos eventos recrean la atmósfera de la Edad Media. Leer más…\n\n\n\n\n\n\n\n\n\n\n\n\nMercadosmedievales.net \n\n\n\nLas ferias medievales son auténticos viajes en el tiempo. Estos eventos recrean la atmósfera de la Edad Media….
URL:https://demercadosmedievales.info/mercadomedieval/abril-25-festival-de-los-5-sentidos-ribadeo-lugo-16-al-20-de-abril-2025/
LOCATION:Ribadeo (Lugo) (***)\, Ribadeo\, Lugo\, 27700\, España
CATEGORIES:Lugo,Mercados tematicos
ATTACH;FMTTYPE=image/jpeg:https://demercadosmedievales.info/wp-content/uploads/2025/03/1200-festival-sentidos-ribadeo-2025-ok.jpg
ORGANIZER;CN="Globandy Mercados Tem%C3%A1ticos":MAILTO:globandy2009@gmail.com
GEO:43.5336794;-7.0403489
END:VEVENT
BEGIN:VEVENT
DTSTART;TZID=Europe/Madrid:20250416T000000
DTEND;TZID=Europe/Madrid:20250421T235959
DTSTAMP:20260422T042046
CREATED:20250212T194322Z
LAST-MODIFIED:20250302T090902Z
UID:10002196-1744761600-1745279999@demercadosmedievales.info
SUMMARY:04/2025 Mercado Marinero de Noja (Cantabria)
DESCRIPTION:Abierta la convocatoria de participación en el Mercado Marinero de Noja 2025 \n\n\n\n\n\n\n\nMercado Marinero\n\n\n\n\n\n\n\nAlimentación\, Gastronomía\, Artesanía y complementos\, talleres infantiles\, atracciones\, etc. \n\n\n\nInformación del evento\n\n\n\n\nFecha: 16-21 de Abril de   2025\n\n\n\nLugar: Rambla de Noja – Parque Marquez de Velasco\n\n\n\nPoblación:  Noja ( CANTABRIA ) Noja es un municipio cántabro perteneciente a la comarca de Trasmiera que limita al sur con Argoños y al este con Santoña.\n\n\n\nOferta a exponer:    Alimentación\, Gastronomía\, Artesanía y complementos\, talleres infantiles\, atracciones\, etc.\n\n\n\nMontaje : El día de montaje será en miércoles Santo por la mañana\n\n\n\nDesmontaje : se recogerá el día 21 por la tarde\n\n\n\nSerá inaugurado  : Miércoles Santo (16 de abril de 2025) por la tarde.\n\n\n\nRequisitos : \n\nLas paradas deben tener temática marinera.\n\n\n\nVestuario adecuado a la temática marinera.\n\n\n\nEnviar solicitud con 2 fotografías del puesto y los productos\, junto con los metros requeridos para la parada.\n\n\n\n\n\nServicios que proporcionara el organizador: luz\, agua\, seguridad y parking para los artesanos\n\n\n\nEntidad organizadora: IL MERCATO NOSTRO\n\n\n\n\n \n\n\n\nDescripción del evento:Les presentamos el Mercado Marinero de Noja 2025\, este evento tendrá lugar entre los días 16-21 de Abril en Semana Santa. Noja es un municipio cántabro perteneciente a la comarca de Trasmiera que limita al sur con Argoños y al este con Santoña. \n\n\n\nNoja\n\n\n\nEste pequeño municipio\, el cual se encuentra a 40 km de la capital (Santander) tiene apenas 2600 habitantes en invierno\, pero durante la temporada de verano y en especial\, en semana santa multiplica por 40 su población llegando a superar los 100000 habitantes por lo que representa uno de los principales enclaves turísticos de Cantabria. \n\n\n\nTemática\n\n\n\nLa temática del mercado es marinera\, por lo que será absolutamente imprescindible que los interesados en participar adecuen tanto las paradas como el vestuario. El día de montaje será en miércoles Santo por la mañana y el mercado se inaugurará ese mismo día por la tarde. El mercado finalizará el lunes 21 a medio día. Para participar será necesario enviar una solicitud\, con dos fotografías de la parada y el producto\, así como los metros que se solicitan. \n\n\n\nInformación del organizador :\n\n\n\nLa organización y decoración de este evento están a cargo de IL MERCATO NOSTRO. Para más detalles sobre el proceso de inscripción\, tarifas y requisitos específicos\, contacta a través de: \n\n\n\nCorreo electrónico: info.nostromercato@gmail.comTeléfono / WhatsApp: 659804406 (Chema)Personas de contacto: ChemaListado de eventos en de esté organizador  : ↓ clic ↓ \n\n\n\n\n\n\n\n\n\nInformación sobre la localidad \n\n\n\nAcerca de .. Noja\, Provincia de Cantabria Noja es un municipio cántabro perteneciente a la comarca de Trasmiera que limita al sur con Argoños y al este con Santoña.Este pequeño municipio\, el cual se encuentra a 40 km de la capital (Santander) tiene apenas 2600 habitantes en invierno\, pero durante la temporada de verano y en especial\, en semana santa multiplica por 40 su población llegando a superar los 100000 habitantes por lo que representa uno de los principales enclaves turísticos de Cantabria. \n\n\n\nConoce más de NOJA  visitando la pagina web del Ayuntamiento : https://ayuntamientodenoja.es/portal/ \n\n\n\nListado de eventos en está localidad : ↓ Clic ↓ \n\n\n\n\n\n \n\n\n\n\n\n\n\n\n\n\n\nPasos para inscribirse\n\n\n\nPara inscribirte en el Mercado Marinero de Noja \, que se celebrará del 16 al 21 de Abril en la localidad de Noja \, sigue estos pasos: \n\n\n\n\nContacto con el Organizador: IL MERCATO NOSTRO\n\nTeléfonos: 659804406 (Chema)\n\n\n\nCorreo Electrónico: info.nostromercato@gmail.com\n\n\n\n\n\nRequisitos de Participación:\n\nVestimenta: Es obligatorio vestir de temática marinera. durante el evento.\n\n\n\nPuesto: Tu stand debe estar decorado y adaptado a la temática marinera. \n\n\n\nPara participar será necesario enviar una solicitud\, con dos fotografías de la parada y el producto\, así como los metros que se solicitan.\n\n\n\n\n\nServicios Proporcionados:\n\nSeguridad\n\n\n\nAgua\n\n\n\nElectricidad\n\n\n\n\n\nMontaje del Puesto:\n\nEl montaje se realizará el El día de montaje será en miércoles Santo por la mañana. Se desmonta el día 21 por la tarde.\n\n\n\n\n\nInauguración del Mercado:\n\nEl mercado abrirá oficialmente el Miércoles Santo (16 de abril de 2025) por la tarde.\n\n\n\n\n\n\nPara obtener información más detallada y asegurar tu participación\, te recomiendo comunicarte directamente con el organizador a través de los datos de contacto proporcionados. \n\n\n\n\n\n\n\nOtros enlaces : \n\n\n\nPodría ser de tu interés : \n\n\n\n\nEventos de LA PROVINCIA DE  CANTABRIA\n\n\n\nCalendario de Mercados Medievales en ABRIL\n\n\n\nFerias y Mercados en España\n\n\n\nOrganizadores de Mercados y Ferias\n\n\n\n\n\nVisita nuestro Calendario de Eventos para obtener detalles de: Calendario 2025: Planifica con anticipación y no te pierdas ninguna cita.\n\n\n\n\n\nLas ferias medievales son auténticos viajes en el tiempo. Estos eventos recrean la atmósfera de la Edad Media. Leer más…\n\n\n\n\n\n\n\n\n \n\n\n\nSíguenos.\n\n\n\n\nTelegram: Recibe nuestras noticias y contenido exclusivo (clic aquí).\n\n\n\nNewsletter: Recibe un correos con nuestras últimas noticias (clic aquí).\n\n\n\nWhatsApp: Suscríbete para seguirnos en nuestro canal  (clic aquí).\n\n\n\nInstagram:  Síguenos en Instagram ( clic aquí )\n\n\n\n\n \n\n\n\n\n\n\n\n\n\n\n\nMercadosmedievales.net \n\n\n\nLas ferias medievales son auténticos viajes en el tiempo.
URL:https://demercadosmedievales.info/mercadomedieval/04-2025-mercado-marinero-de-noja-cantabria-2/
LOCATION:Noja (Cantabria) (***)\, Noja\, Cantabria\, 39180\, Spain
CATEGORIES:Cantabria,mercado marinero
ATTACH;FMTTYPE=image/jpeg:https://demercadosmedievales.info/wp-content/uploads/2025/02/1200-MERCADO-marinero-noja-ok.jpg
ORGANIZER;CN="IL Nostro mercato":MAILTO:info.nostromercato@gmail.com
GEO:43.4847877;-3.5281482
END:VEVENT
END:VCALENDAR