BEGIN:VCALENDAR
VERSION:2.0
PRODID:-//Mercados Medievales - ECPv6.15.20//NONSGML v1.0//EN
CALSCALE:GREGORIAN
METHOD:PUBLISH
X-WR-CALNAME:Mercados Medievales
X-ORIGINAL-URL:https://demercadosmedievales.info
X-WR-CALDESC:Eventos para Mercados Medievales
REFRESH-INTERVAL;VALUE=DURATION:PT1H
X-Robots-Tag:noindex
X-PUBLISHED-TTL:PT1H
BEGIN:VTIMEZONE
TZID:Europe/Madrid
BEGIN:DAYLIGHT
TZOFFSETFROM:+0100
TZOFFSETTO:+0200
TZNAME:CEST
DTSTART:20230326T010000
END:DAYLIGHT
BEGIN:STANDARD
TZOFFSETFROM:+0200
TZOFFSETTO:+0100
TZNAME:CET
DTSTART:20231029T010000
END:STANDARD
BEGIN:DAYLIGHT
TZOFFSETFROM:+0100
TZOFFSETTO:+0200
TZNAME:CEST
DTSTART:20240331T010000
END:DAYLIGHT
BEGIN:STANDARD
TZOFFSETFROM:+0200
TZOFFSETTO:+0100
TZNAME:CET
DTSTART:20241027T010000
END:STANDARD
BEGIN:DAYLIGHT
TZOFFSETFROM:+0100
TZOFFSETTO:+0200
TZNAME:CEST
DTSTART:20250330T010000
END:DAYLIGHT
BEGIN:STANDARD
TZOFFSETFROM:+0200
TZOFFSETTO:+0100
TZNAME:CET
DTSTART:20251026T010000
END:STANDARD
END:VTIMEZONE
BEGIN:VEVENT
DTSTART;TZID=Europe/Madrid:20241114T000000
DTEND;TZID=Europe/Madrid:20241124T235959
DTSTAMP:20260419T213834
CREATED:20241029T134451Z
LAST-MODIFIED:20241109T062606Z
UID:10001874-1731542400-1732492799@demercadosmedievales.info
SUMMARY:Feria solidaria de Otoño de Valencia 2024
DESCRIPTION:Mercado Medieval de Marchena del 24 al 26 de abril con artesanía\, gastronomía y animación medieval en Sevilla.  \n\n\n \n\n\n\n\n\n\n\nFeria solidaria de Otoño\n\n\n\nOrganizado por la ONG APAINF (entidad que trabaja para traer a España niños/as sin recursos\, con graves enfermedades\, con la finalidad de curarlos de forma altruista)\, este evento tiene como objetivo recaudar fondos para apoyar las actividades solidarias de la organización y ofrecer un espacio para que artesanos\, emprendedores y productores locales muestren sus productos. \n\n\n\nLa feria estará ubicada en los jardines del Palau de la Música\, un lugar clave para el turismo de la ciudad\, que también es el lugar de celebración de las fiestas de moros y cristianos. \n\n\n\nLa Feria Solidaria de Otoño se destaca por la diversidad y calidad de los productos que ofrece. Los stands modulares están diseñados para albergar todo tipo de productos\, entre los que destacan: \n\n\n\n\nArtesanía: Creaciones hechas a mano como joyería\, cerámica\, artículos de cuero\, madera tallada\, y textiles artesanales. Estos productos únicos reflejan la tradición y el arte local\, lo que los convierte en un atractivo para turistas y habitantes de la zona.\n\n\n\nComplementos: Incluyen bolsos\, cinturones\, bufandas\, bisutería y más. Muchos de estos accesorios están elaborados con materiales reciclados o sostenibles\, lo que refuerza el compromiso de la feria con el medio ambiente.\n\n\n\nAlimentación (envasada al vacío): Productos gourmet de la región como embutidos\, quesos\, conservas\, mermeladas y aceites. La modalidad de envasado al vacío garantiza que los productos mantengan su frescura y sabor\, ideales para ser transportados y disfrutados en cualquier lugar.\n\n\n\n\n\n\n\n\nInformación básica del Mercado\n\n\n\nFecha de celebración Los dias 14 al 24 de noviembre del  2024 \n\n\n\nDonde se realizaEn Valencia capital ( VALENCIA ) \n\n\n\nUbicación del EventoEstará ubicado en los jardines del Palau de la Música de Valencia (Pg. de l’Albereda\, 30\, El Pla del Real\, 46023 València\, Valencia) \n\n\n\nInformación del Organizador\n\n\n\nLa empresa organizadora es APAINF \n\n\n\nPara más Información e Inscripciones:  Teléfono / WhatsApp 603.31.26.10 \n\n\n\nMás fechas  Puedes conocer mas ferias y mercados en está provincia\, consultando nuestra sección de Eventos en Valencia \n\n\n\nOtros eventos del organizadorConsulta Aquí otras ferias y mercados que organizará APAINF  \n\n\n\notros mercados temáticos y FeriasSi quieres conocer cuando se realizan más ferias y mercados\, puedes consultarlos visitando nuestro   Calendario de Eventos \n\n\n\nCalendario 2024\n\n\n\nSobre los Mercados Medievales\n\n\n\nLas ferias medievales son eventos que recrean la atmósfera de la Edad Media. Por lo general\, se llevan a cabo en pueblos o ciudades\, y presentan puestos de vendedores que venden artesanías\, alimentos y bebidas. También puede haber entretenimiento\, como justas\, música y baile. \n\n\n\n\n\n\n\nOrganizador\n\n\n\n\n\nLocalización\n\n\n\nValencia ​ es un municipio​ y una ciudad de España\, capital de la provincia homónima y de la Comunidad Valenciana. Su población es de 807 693 habitantes que sube a 1 581 057 habitantes si se incluye su espacio urbano\, ​ es la tercera ciudad y área metropolitana más poblada de España\, por detrás de Madrid y Barcelona.​
URL:https://demercadosmedievales.info/mercadomedieval/feria-solidaria-de-otono-de-valencia-2024/
LOCATION:Valencia (Jardin del Turia) (***)\, València\, Valencia\, 46023\, España
CATEGORIES:Cartel,Feria comercial,Suspendido / Cancelado,Valencia
ATTACH;FMTTYPE=image/jpeg:https://demercadosmedievales.info/wp-content/uploads/2024/10/feria_solidaroa_dana-f-cancelado.jpg
GEO:39.4654287;-0.3602443
END:VEVENT
END:VCALENDAR