BEGIN:VCALENDAR
VERSION:2.0
PRODID:-//Mercados Medievales - ECPv6.15.20//NONSGML v1.0//EN
CALSCALE:GREGORIAN
METHOD:PUBLISH
X-ORIGINAL-URL:https://demercadosmedievales.info
X-WR-CALDESC:Eventos para Mercados Medievales
REFRESH-INTERVAL;VALUE=DURATION:PT1H
X-Robots-Tag:noindex
X-PUBLISHED-TTL:PT1H
BEGIN:VTIMEZONE
TZID:Europe/Madrid
BEGIN:DAYLIGHT
TZOFFSETFROM:+0100
TZOFFSETTO:+0200
TZNAME:CEST
DTSTART:20230326T010000
END:DAYLIGHT
BEGIN:STANDARD
TZOFFSETFROM:+0200
TZOFFSETTO:+0100
TZNAME:CET
DTSTART:20231029T010000
END:STANDARD
BEGIN:DAYLIGHT
TZOFFSETFROM:+0100
TZOFFSETTO:+0200
TZNAME:CEST
DTSTART:20240331T010000
END:DAYLIGHT
BEGIN:STANDARD
TZOFFSETFROM:+0200
TZOFFSETTO:+0100
TZNAME:CET
DTSTART:20241027T010000
END:STANDARD
BEGIN:DAYLIGHT
TZOFFSETFROM:+0100
TZOFFSETTO:+0200
TZNAME:CEST
DTSTART:20250330T010000
END:DAYLIGHT
BEGIN:STANDARD
TZOFFSETFROM:+0200
TZOFFSETTO:+0100
TZNAME:CET
DTSTART:20251026T010000
END:STANDARD
END:VTIMEZONE
BEGIN:VEVENT
DTSTART;VALUE=DATE:20240328
DTEND;VALUE=DATE:20240402
DTSTAMP:20260425T192014
CREATED:20240202T035258Z
LAST-MODIFIED:20240202T035258Z
UID:10000845-1711584000-1712015999@demercadosmedievales.info
SUMMARY:28 Marzo al 01 Abril 2024 Pascua Moncofa Fashion Market
DESCRIPTION:Market\, comida callejera\, concurso dibujo\, animación infantil\, artesanía \, Mojiteria en el Paseo marítimo de Moncofa. \n \nLlega la pascua a Moncofa Beach del 28 de marzo al 1 de abril de 2024\, market\, gastronomía mojiteria\, zona de ocio infantil\, dj set a vinilo  y mucho más. \n Detalles de Pascua Moncofa Fashion Market\n Cuando se celebra ? \nLos dias  28 de Marzo al 01 de Abril  del  2024. de Jueves a Lunes. \nEn que localidad y provincia ? \nEn el municipio de Moncofá \, en la provincia de  CASTELLON. \n Cual será la ubicación ?  \nEl Market estará ubicado en el Paseo marítimo de Moncofá. \n  Quién lo organiza ? \nLa empresa organizadora es Exclusive Events Levante\n\ncontacto: info@exclusiveeventslevante.com\nWhatsApp no llamadas: 722426582\npersona de contacto: Isis Ventura Diana\n\nCartel  Pascua Moncofa Fashion Market\n\nPascua Moncofa Market\n\n\nEl organizador proveerá de los siguientes servicios para los artesanos : \n\nLUZ\nAGUA\nPUBLICIDAD\nVIGILANCIA DISUASORIA\n\n Acerca de Moncofá\nMoncófar​ municipio de la provincia de Castellón en la Comunidad Valenciana\, España. Perteneciente a la comarca de la Plana Baja. \n  \n\nCalendario de Mercado Medieval y Ferias 2024 :\n  \n\n\nEnero\nFebrero\nMarzo\nAbril\nMayo\nJunio\nJulio\nAgosto\nSeptiembre\nOctubre\nNoviembre\nDiciembre\n\n\n Las Ferias y mercados medievales\n\n\nLas Ferias y mercados medievales son eventos populares que recrean el ambiente y la atmósfera de la Edad Media. \n\n\n\nDurante estas Ferias y mercados medievales\, se recrea un pueblo o una ciudad medieval\, con puestos de artesanía\, alimentos\, entretenimiento y actividades relacionadas con la época. Los participantes\, vestidos con trajes medievales\, venden productos tradicionales como joyería\, armas\, vestimenta\, objetos de cuero\, cerámica y otros productos artesanales.\nLos alimentos y bebidas también desempeñan un papel importante en las ferias medievales.  + Leer más \n\nMercados Medievales de Castellón\,  Pascua Moncofa Fashion Market\, Comunidad Valenciana\, Castellon\, Moncofa\, Moncofar\,
URL:https://demercadosmedievales.info/mercadomedieval/28-marzo-al-01-abril-2024-pascua-moncofa-fashion-market/
LOCATION:Moncofa (Castellón) (***)\, Moncofa\, Castellón\, España
CATEGORIES:Castellon
ATTACH;FMTTYPE=image/png:https://demercadosmedievales.info/wp-content/uploads/2024/02/pascua-moncofa-market-2024-f.png
ORGANIZER;CN="Exclusive events levante":MAILTO:isis@exclusiveeventslevante.com
GEO:39.8088264;-0.1470569
END:VEVENT
END:VCALENDAR