BEGIN:VCALENDAR
VERSION:2.0
PRODID:-//Mercados Medievales - ECPv6.15.20//NONSGML v1.0//EN
CALSCALE:GREGORIAN
METHOD:PUBLISH
X-WR-CALNAME:Mercados Medievales
X-ORIGINAL-URL:https://demercadosmedievales.info
X-WR-CALDESC:Eventos para Mercados Medievales
REFRESH-INTERVAL;VALUE=DURATION:PT1H
X-Robots-Tag:noindex
X-PUBLISHED-TTL:PT1H
BEGIN:VTIMEZONE
TZID:Europe/Madrid
BEGIN:DAYLIGHT
TZOFFSETFROM:+0100
TZOFFSETTO:+0200
TZNAME:CEST
DTSTART:20230326T010000
END:DAYLIGHT
BEGIN:STANDARD
TZOFFSETFROM:+0200
TZOFFSETTO:+0100
TZNAME:CET
DTSTART:20231029T010000
END:STANDARD
BEGIN:DAYLIGHT
TZOFFSETFROM:+0100
TZOFFSETTO:+0200
TZNAME:CEST
DTSTART:20240331T010000
END:DAYLIGHT
BEGIN:STANDARD
TZOFFSETFROM:+0200
TZOFFSETTO:+0100
TZNAME:CET
DTSTART:20241027T010000
END:STANDARD
BEGIN:DAYLIGHT
TZOFFSETFROM:+0100
TZOFFSETTO:+0200
TZNAME:CEST
DTSTART:20250330T010000
END:DAYLIGHT
BEGIN:STANDARD
TZOFFSETFROM:+0200
TZOFFSETTO:+0100
TZNAME:CET
DTSTART:20251026T010000
END:STANDARD
END:VTIMEZONE
BEGIN:VEVENT
DTSTART;VALUE=DATE:20240215
DTEND;VALUE=DATE:20240219
DTSTAMP:20260425T155121
CREATED:20231008T095612Z
LAST-MODIFIED:20240213T054726Z
UID:10000177-1707955200-1708300799@demercadosmedievales.info
SUMMARY:Mercado Medieval De Las Bodas De Isabel De Segura \, El Mercado Medieval de Teruel 2024
DESCRIPTION:Teruel revive la historia de sus amantes\, los días 15 al 18 de Febrero del 2024\, con un Mercado Medieval\, teatro\, recreaciones y un sinfín de propuestas para trasladarse al siglo XIII. \nMercado Medieval De Las Bodas De Isabel De Segura\nEl Mercado Medieval de Teruel 2024\nProgramación\n\n\n\n\n\n\n\nLos Amantes de Teruel\, 1217\nDel 15 al 18 de Febrero del 2024\, se representa en Teruel el desenlace de la Leyenda de Los Amantes\, “la más hermosa historia de amor jamás contada”. 17.000 personas vestidas al modo medieval\, 5.000 organizados en torno a haymas y campamentos recreando la época\, y 400 actores dan vida a la historia de “Los Amantes”. Conciertos\, exhibiciones\, animación\, mercado\, teatro y muchas actividades para todas las edades\, han convertido a Teruel\, con “Las Bodas de Isabel” en un atractivo destino turístico. Teruel se convierte…\nYa está abierto el plazo para solicitar participar en el Mercado medieval de Las Bodas de Isabel\, que se celebrarán los días 15 al 18 de febrero.\n¡No lo dejes pasar! Tienes toda la información en este enlace:\nhttp://www.bodasdeisabel.com/W3/Bodas/Mercado/Mercado.aspx\nLas Bodas de Isabel son un referente en la recreación histórica tanto en nuestro país como fuera de nuestras fronteras. Un multitudinario evento turístico y cultural que cada año visitan cerca de 100.000 personas\, y que narra el trágico final de la historia de Los Amantes de Teruel\n\nAquí tienes toda la información para la Inscripción en el Mercado Medieval De Teruel : \n\n\nNormas de la organización del mercado\nNormas y condiciones higiénicas\nCriterios de adjudicación\nSolicitud y puja\nDocumentación a presentar\nVestimenta y decoración de la parada\n\n\n  \nNecesito más información \, donde acudo ?\nEscribe a  : Fundación de las Bodas de Isabel  fundacion@bodasdeisabel.com \nMás mercados en la Comunidad autónoma de Aragón ?\nPuedes consultar la sección :  Ferias y mercados en Aragón \n  \n  \n \n  \n\nLa Leyenda\nTeruel\, Siglo XIII. Isabel de Segura y Diego de Marcilla se aman desde niños\, pero como el joven no dispone de riquezas\, el enlace de ambos parece imposible. Aun así\, consigue cinco años para obtener fortuna en la guerra. Justo el día en que se acaba ese plazo\, regresa a Teruel; pero ya es tarde. Isabel se ha casado con Pedro de Azagra\, hermano del Señor de Albarracín. Desesperado busca a Isabel. Quiere verla\, pedirle un beso antes de marchar\, pero ella\, aunque enamorada\, se lo niega\, aludiendo que pertenece ya a otro hombre. El joven no puede soportarlo y cae muerto. Al día siguiente\, en los funerales\, aparece una mujer con la cara velada. Es Isabel de Segura que\, rota de dolor\, quiere a dar a su amado el beso no entregado. Al besar el cuerpo de su amado\, también ella pierde la vida. La tradición asegura que murieron de amor. Por eso fueron enterrados juntos\, y así han permanecido hasta hoy. \n\nMercado Medieval De Las Bodas De Isabel De Segura \, El Mercado Medieval de Teruel 2024\nTeruel revive la historia de sus amantes\, los dias 15 al 18 de Febrero del 2024\, con un Mercado Medieval\, teatro\, recreaciones y un sinfín de propuestas para trasladarse al siglo XIII.
URL:https://demercadosmedievales.info/mercadomedieval/mercado-medieval-de-las-bodas-de-isabel-de-segura-el-mercado-medieval-de-teruel-2024/
LOCATION:Teruel (***)\, centro histórico\, Teruel\, Teruel\, 44001\, España
CATEGORIES:Fundación de las Bodas de Isabel ,Mercado Medieval,Teruel capital
ATTACH;FMTTYPE=image/jpeg:https://demercadosmedievales.info/wp-content/uploads/2023/10/bodas_de_isabel_de_segura_2024.jpg
ORGANIZER;CN="Fundaci%C3%B3n de las Bodas de Isabel%C2%A0":MAILTO:fundacion@bodasdeisabel.com
GEO:40.3417974;-1.1137191
X-APPLE-STRUCTURED-LOCATION;VALUE=URI;X-ADDRESS=Teruel (***) centro histórico Teruel Teruel 44001 España;X-APPLE-RADIUS=500;X-TITLE=centro histórico:geo:-1.1137191,40.3417974
END:VEVENT
BEGIN:VEVENT
DTSTART;VALUE=DATE:20240216
DTEND;VALUE=DATE:20240219
DTSTAMP:20260425T155121
CREATED:20231111T191823Z
LAST-MODIFIED:20240212T193930Z
UID:10000670-1708041600-1708300799@demercadosmedievales.info
SUMMARY:16 al 18 de febrero Mercado Medieval de la Embajada en JÒDAR (Jaén) 2024
DESCRIPTION:Durante varios días\, Jódar viaja en el tiempo para celebrar este romance con desfiles de época\, actuaciones musicales y Mercado Medieval. \n \nFiestas Medievales de la Embajada.\n\n\n\n\n\n\n\n\n\n\n\nSe acercan las Fiestas Medievales de la Embajada\, durante las que se recuerdan\, cercanas al día de San Valentín\, bellas historias de amor del siglo XV cantadas por trovadores y narradas por historiadores.\n\nLos galdurienses volverán a recordar aquel amor nacido en Oriente y declarado junto al murmullo de las aguas cristalinas de la Fontana de Xodar.\n\nCada año\, se rememora  la llegada en el año 1406 de la primera embajada de Castilla a Oriente. El cortejo hizo estancia en la localidad\, desarrollándose una historia de amor entre el embajador Payo Gómez de Sotomayor y la princesa cautiva María de Grecia.\n\nDurante varios días\, Jódar viaja en el tiempo para celebrar este romance con desfiles de época\, actuaciones musicales y mercadillos medievales.\n\nMercado Medieval de la Embajada en Jódar\n\n+ Detalles e Información\n\n\n\n\n\n\n\n\n\nFecha de inicio y finalización\n\n\n\n\nDel 16 AL 18 de febrero 2024 \nLocalidad y Provincia  Jódar (JAEN)\n\n\n\n\n\n\n\nJódar es una localidad y municipio español situado en el centro-sur en la provincia de Jaén\, comunidad autónoma de Andalucía.\nSe encuentra a 647 metros de altitud en la falda del cerro de San Cristóbal\, dentro de la Serrezuela\, una estribación al norte del macizo de Sierra Mágina.\n\n\n\n\n\nEs el municipio más poblado de la comarca de Sierra Mágina. Sierra Mágina es el nombre de una comarca de las diez que tiene la provincia de Jaén en España.\nUna parte significativa de su territorio forma parte del Parque natural de Sierra Mágina.\n\n\n\n\n\n\n\n\n\n\n\n\nUbicación dentro de la localidad (calle\, Plaza\, vía\, etc.)\n\n\n\n\nPlaza del Ayuntamiento y calles aledañas\n\n\n\n\n\n\n\n\n\nDescripción del Evento :\n\n\n\n\nFiestas Medievales de la Embajada\n\n\n+ Datos del organizador\nARTESANOS REUNIDOS\ne-mail: artesanosreunidos@gmail.com\nTeléfono Móvil: 633323561 \n\n\n\n\n\n\n\n\n\n\n\n\n\n\nProgramación\n\n\n\n\n\n\n\nEn Jódar hay un castillo …\nEl Castillo de Jódar es una fortificación medieval con origen emiral del siglo VIII\, situada en el municipio español de Jódar\, provincia de Jaén. \nSe encuentra en el casco urbano de Jódar\, en la ladera del cerro San Cristóbal. Su origen se remonta al siglo VIII con varias etapas constructivas a lo largo del tiempo\, especialmente las obras de época almohade y almorávide\, así como las modificaciones góticas de sus torres del homenaje. \nEn sus tiempos\, constaba de un aljibe de gran capacidad. \nSe conservan sus dos torres del homenaje\, denominadas torre Norte y torre Sur cuyas dimensiones son de 15\,30 x 12\,60 y 13\,50 x 12\,40 metros\, respectivamente. \nAdemás\, se conserva una pequeña sección de los muros de tapial de la alcazaba exterior. En 2012 se llevaron a cabo obras de rehabilitación y cambio a uso museístico de la torre Norte. \nSe trata\, junto al castillo de La Guardia\, de uno de los castillos mejor conservados de la zona. \nActualmente en la torre Norte se encuentra el Centro de Interpretación de la Historia de Jódar\, inaugurado en 2013.​ \nEn la torre Sur se encuentra el centro de visitantes del parque natural de Sierra Mágina. \n\nMercado Medieval de la Embajada en Jódar\, Jaén 2024 \n 
URL:https://demercadosmedievales.info/mercadomedieval/mercado-medieval-de-la-embajada-en-jodar-jaen-2024/
LOCATION:Jódar (Jaén) (***)\, Paseo 1ro. de Mayo\, Jódar\, Jaén\, España
CATEGORIES:Jaén,Mercado Medieval
ATTACH;FMTTYPE=image/jpeg:https://demercadosmedievales.info/wp-content/uploads/2023/11/mercado_mieval_JODAR_2024_CARTEL.jpg
ORGANIZER;CN="Artesanos reunidos":MAILTO:artesanosreunidos@gmail.com
GEO:37.8381872;-3.3514863
X-APPLE-STRUCTURED-LOCATION;VALUE=URI;X-ADDRESS=Jódar (Jaén) (***) Paseo 1ro. de Mayo Jódar Jaén España;X-APPLE-RADIUS=500;X-TITLE=Paseo 1ro. de Mayo:geo:-3.3514863,37.8381872
END:VEVENT
BEGIN:VEVENT
DTSTART;VALUE=DATE:20240216
DTEND;VALUE=DATE:20240219
DTSTAMP:20260425T155121
CREATED:20240215T050703Z
LAST-MODIFIED:20240215T050703Z
UID:10000907-1708041600-1708300799@demercadosmedievales.info
SUMMARY:Programación del Porrat del RAVAL DE GANDIA - Valencia 2024
DESCRIPTION:La edil y presidenta de la Junta de Distrito del Raval\, Maribel Codina; el presidente de la Asociación de Vecinos\, Diego Morant\, y su tesorero\, Paco Perelló\, han presentado la nueva edición del Porrat del barrio\, que tendrá lugar del 16 al 18 de febrero del 2024. \n \nPorrat del RAVAL DE GANDIA\nEl programa empezará viernes a las 18 horas\, momento en que se abrirán tanto las atracciones de la feria como el mercado tradicional. No será\, sin embargo\, hasta el sábado a las 12 horas cuando tendrá lugar el pregón inaugural\, que se hará en la plaza de Sant Josep. \nDespués\, habrá una exhibición canina a cargo de la Asociación Kuman y\, a las 14 horas\, la Asociación de Moros del Raval servirá un puchero\, cuyo precio será de 14 euros por persona\, en el patio de la Casa de la Marquesa. \nA las 17 horas\, el alumnado de la academia Dance Room bailará en la plaza de Prado. A las 19 horas\, arrancará la actuación del grupo Míster Globo\, que será en el mismo lugar que el espectáculo anterior. «Uno de los integrantes es del barrio\, cosa que nos hace mucha ilusión porque siempre intentamos que los que actúan sean parte del vecindario»\, ha comentado Morant. \nPara acabar el día\, se llevará a cabo la ya típica cena de «Enamorados»\, que costará 14 euros. Por su parte\, Perelló ha explicado que «es una cosa que se hace cada año y siempre insistimos en que\, tanto las comidas como las cenas\, son para toda la ciudadanía\, no solo para la gente del distrito». \nEl domingo empezará a las 12.15 horas con la tradicional ofrenda a San José y el posterior ‘sarao’\, que contará con la actuación de la ‘Rondalla Agridolç’\, y será entre las 13 y las 14.30 horas en la plaza de Prado. \nLas paellas\, que se harán en el patio de la Casa de la Marquesa y se comerán\, aproximadamente\, a las 14.30 horas\, serán las encargadas de poner el punto y final a las fiestas del barrio. En este caso\, participar costará 9 euros. \nFinalmente\, Morant ha agradecido al Ayuntamiento y a todas las asociaciones y grupos participantes su ayuda y apoyo\, y ha recordado que\, para reservar plaza en alguna de las tres comidas\, las personas interesadas deben llamar al número de teléfono 696 625 758 o al 620 017 669. \n  \nProgramación del Porrat\n  \n \n  \nFiesta del Porrat del Raval de Gandia es una fiesta tradicional que se celebra en el barrio del Raval de Gandia\, en la Safor\, Valencia \nAcerca del Raval de Gandía\nEl distrito del Raval es uno de los distritos de la ciudad de Gandia\, Valencia que está situado en las inmediaciones del casco histórico. El distrito se encuentra trabado entre el paseo Germanías al norte\, el río Serpis al sureste y la calle san Vicente al oeste\, limitando pues con Benipeixcar y el Centro histórico. \nRuta de los Porrats de 2024 : Fechas\, Localidades\, Vestuario\nLa Ruta dels Porrats está formada por un total de siete municipios de la comarca de la Safor: Oliva\, Benirredrà\, la Font d’en Carròs\, Raval de Gandia\, Potries\, Rótova\, Tavernes de la Valldigna y l’Alqueria de la Comtessa. \n  \n[feedzy-rss feeds=»https://demercadosmedievales.info/feed/» offset=»1″ feed_title=»yes» refresh=»12_hours» lazy=»no» disable_default_style=»no» dryrun=»no» summary=»yes» ]
URL:https://demercadosmedievales.info/mercadomedieval/programacion-del-porrat-del-raval-de-gandia-valencia-2024/
LOCATION:Raval de Gandía (Valencia) (***)\, Barrio El Raval de Gandia\, Gandia\, Valencia\, España
CATEGORIES:Porrats,Valencia
ATTACH;FMTTYPE=image/jpeg:https://demercadosmedievales.info/wp-content/uploads/2024/02/porrat_del_raval_de_gandia_2024_cartel.jpg
GEO:38.960854;-0.1835907
X-APPLE-STRUCTURED-LOCATION;VALUE=URI;X-ADDRESS=Raval de Gandía (Valencia) (***) Barrio El Raval de Gandia Gandia Valencia España;X-APPLE-RADIUS=500;X-TITLE=Barrio El Raval de Gandia:geo:-0.1835907,38.960854
END:VEVENT
END:VCALENDAR