BEGIN:VCALENDAR
VERSION:2.0
PRODID:-//Mercados Medievales - ECPv6.15.20//NONSGML v1.0//EN
CALSCALE:GREGORIAN
METHOD:PUBLISH
X-WR-CALNAME:Mercados Medievales
X-ORIGINAL-URL:https://demercadosmedievales.info
X-WR-CALDESC:Eventos para Mercados Medievales
REFRESH-INTERVAL;VALUE=DURATION:PT1H
X-Robots-Tag:noindex
X-PUBLISHED-TTL:PT1H
BEGIN:VTIMEZONE
TZID:Europe/Madrid
BEGIN:DAYLIGHT
TZOFFSETFROM:+0100
TZOFFSETTO:+0200
TZNAME:CEST
DTSTART:20230326T010000
END:DAYLIGHT
BEGIN:STANDARD
TZOFFSETFROM:+0200
TZOFFSETTO:+0100
TZNAME:CET
DTSTART:20231029T010000
END:STANDARD
BEGIN:DAYLIGHT
TZOFFSETFROM:+0100
TZOFFSETTO:+0200
TZNAME:CEST
DTSTART:20240331T010000
END:DAYLIGHT
BEGIN:STANDARD
TZOFFSETFROM:+0200
TZOFFSETTO:+0100
TZNAME:CET
DTSTART:20241027T010000
END:STANDARD
BEGIN:DAYLIGHT
TZOFFSETFROM:+0100
TZOFFSETTO:+0200
TZNAME:CEST
DTSTART:20250330T010000
END:DAYLIGHT
BEGIN:STANDARD
TZOFFSETFROM:+0200
TZOFFSETTO:+0100
TZNAME:CET
DTSTART:20251026T010000
END:STANDARD
END:VTIMEZONE
BEGIN:VEVENT
DTSTART;TZID=Europe/Madrid:20240201T000000
DTEND;TZID=Europe/Madrid:20240204T235959
DTSTAMP:20260425T142918
CREATED:20240121T185140Z
LAST-MODIFIED:20250104T111929Z
UID:10000796-1706745600-1707091199@demercadosmedievales.info
SUMMARY:Mercado Tradicional de las Candelas de Palencia (Palencia) 2024
DESCRIPTION:El Mercado Tradicional de las Candelas es desde hace muchos años una importante feria de artesanía y gastronomía\, que coincide con la festividad del 2 de febrero. \n \n+ Detalles del Mercado Tradicional\nCuando se celebra ?\n01 al 04 de Febrero del 2024 \nEn que localidad y Provincia \nEn Palencia capital \nQuien organiza ?\nTEMPUS AEVUS   en colaboración con Claxon\nCONTACTO :\nE-Mail:  tempusaevus@gmail.com\nTelf.: 622 712 382 \nPara saber el precio ?\nConsultar con el organizador del Mercado de la Matanza \nComo debe ser el Vestuario y decoración de la parada: \nDebe ser del campo \nCual es la ubicación ?\nplaza del ayuntamiento y plaza de la iglesia \nOBSERVACIONES: no se pueden llevar motivos medievales\, hay que esconderlos o quitarlos y hay que decorar con cosas rusticas\, del campo\, etc.. \n \nQue festividad se celebra el 02 de Febrero ?\nNtra. Sra. de la Calle \nEl día 2 de febrero celebra Palencia la fiesta de su patrona\, la Virgen de la Calle. En la parroquia de su nombre\, conocida también por «La Compañía» de Jesús\, se venera su imagen: una Virgen morena que sostiene a su Hijo en brazos\, a la que los palentinos dedican una fervorosa novena en los días anteriores a su fiesta. \nEl día de las Candelas\, tras realizar la bendición de las candelas\, «la Morenilla» en carroza\, sale de su santuario  y\, en medio de la devoción popular\, es llevada en procesión hasta la Catedral\, donde se le rinde un entrañable homenaje . \nCelebrada la solemne misa\, regresa la Virgen de la Calle a su parroquia donde se le hace una ofrenda  floral . \nAcerca de Palencia\nPalencia es un municipio y ciudad española\, capital de la provincia homónima\, en la comunidad autónoma de Castilla y León. Se encuentra situada en la llanura de la Tierra de Campos\, a orillas del río Carrión. \n  \n  \n 
URL:https://demercadosmedievales.info/mercadomedieval/mercado-tradicional-de-las-candelas-de-palencia-palencia-2024/
LOCATION:Valencia
CATEGORIES:Feria tradicional,Mercado tradicional,Palencia,Palencia capital,Tempus Aevus
ATTACH;FMTTYPE=image/jpeg:https://demercadosmedievales.info/wp-content/uploads/2024/01/mercado_tradicional_candelas_2024_f.jpg
END:VEVENT
BEGIN:VEVENT
DTSTART;VALUE=DATE:20240202
DTEND;VALUE=DATE:20240205
DTSTAMP:20260425T142918
CREATED:20231207T114838Z
LAST-MODIFIED:20240126T190926Z
UID:10000756-1706832000-1707091199@demercadosmedievales.info
SUMMARY:Feria medieval de Orihuela 2024
DESCRIPTION:Inscripción a la Feria Medieval de Orihuela que se celebra del 02 al 04 de Febrero en el centro histórico. organiza La Fragua de Vulcano. \n \n\nDetalles del Feria Medieval\nFechas:\nDel 2 al 4 de febrero de 2024.\nLugar:\nCentro histórico de Orihuela\, Alicante.\nPreinscripción:\nAbierta hasta el 31 de enero de 2024. \nOrganiza : \nInformación e Inscripciones:\nlafragua@espectaculosamb.com \nInformación e Inscripciones:\n\n  \n\nDada la proximidad de las fechas de celebración del Feria Medieval de Orihuela (Alicante)\, que se celebra este año del 2 al 4 de febrero\, queremos compartir con vosotros que NUESTRA EMPRESA\,  LA FRAGUA DE VULCANO\,  YA HA SIDO CONFIRMADA COMO ADJUDICATARIA de la organización del mercado. \nDada la envergadura del mercado\, con un gran número de paradas participantes\, y la celebración tan cercana\, a falta de una semana de su inicio\, TODO AQUEL INTERESADO QUE AÚN TENGA PENDIENTE DE CONTACTAR CON NOSOTROS Y ASÍ PODER CONFIRMAR SU PARTICIPACIÓN\, QUE LO HAGA DE INMEDIATO. \nEl Feria Medieval de Orihuela\, que este año celebra su XX Edición\, es una de las grandes citas anuales de comienzos de año\, y como tal\, tiene una enorme demanda de interesados en participar. \nSi estás interesado en recibir información de este mercado\, dadas las fechas tan próximas\, envíanos lo antes posible un correo electrónico. \n\n Información e Inscripciones:\nlafragua@espectaculosamb.com \n  \n \nAbierta la licitación para organizar el Feria Medieval de Orihuela 2024\nFeria medieval de Orihuela\n\n\nFerias y mercados medievales\n\n\nLas Ferias y mercados medievales son eventos populares que recrean el ambiente y la atmósfera de la Edad Media. \nEstos eventos suelen tener lugar en diferentes partes de España y atraen a numerosos visitantes que desean sumergirse en la historia y disfrutar de una experiencia única. \n\n\n\nDurante estas Ferias y mercados medievales\, se recrea un pueblo o una ciudad medieval\, con puestos de artesanía\, alimentos\, entretenimiento y actividades relacionadas con la época.\nLos participantes\, vestidos con trajes medievales\, venden productos tradicionales como joyería\, armas\, vestimenta\, objetos de cuero\, cerámica y otros productos artesanales. \nLos alimentos y bebidas también desempeñan un papel importante en las ferias medievales.  + Leer más \n\nMercados Medievales de Alicante\, España\, Comunidad Valenciana\, Alicante\, Orihuela. Feria Medieval de Orihuela
URL:https://demercadosmedievales.info/mercadomedieval/feria-medieval-de-orihuela/
LOCATION:Orihuela (Alicante) (***)\, Orihuela\, Alicante\, Spain
CATEGORIES:Alicante,La Fragua de Vulcano,Mercado Medieval
ATTACH;FMTTYPE=image/png:https://demercadosmedievales.info/wp-content/uploads/2024/01/ORIHUELA-ALICANTE-MERCADO-MEDIEVAL-f.png
ORGANIZER;CN="La Fragua de Vulcano":MAILTO:lafragua@espectaculosamb.com
GEO:38.0855352;-0.9480358
END:VEVENT
BEGIN:VEVENT
DTSTART;VALUE=DATE:20240202
DTEND;VALUE=DATE:20240205
DTSTAMP:20260425T142918
CREATED:20231219T172244Z
LAST-MODIFIED:20231219T172244Z
UID:10000773-1706832000-1707091199@demercadosmedievales.info
SUMMARY:Medieval - 4ª Feria Internacional de Coleccionismo de Bailén (Jaén).
DESCRIPTION:La 4ta Feria Internacional de Coleccionismo será el próximo mes de Febrero del 2024 \, Bailén volverá a convertirse en el epicentro provincial y autonómico del mundo del coleccionismo y las antigüedades.\n \nDurante los días 02 al 04 de Febrero el Pabellón de Deportes acogerá la cuarta edición de la Feria Internacional de Coleccionismo y Antigüedades de Bailén. \n\n\n+ Cuando es la Feria Internacional de Coleccionismo?\n\nLos días 02\, 03 y 04 de Febrero del 2024\n\n+ Donde es ?\nEn el pabellón de deportes de Bailes\, C/ Pablo Picasso S/N\n\n+ Horario\nViernes\, 2 de Febrero de 18:00 a 22:00\nSábado\, 3 de Febrero de 10:00 a 22:00\nDomingo\, 4 de Febrero de 10:00 a 15:00\n\n+ Para participar ?\nInscríbete en mail feriacoleccionismobailen@gmail.com\n\n+ Cartel de la próxima Feria Internacional de Coleccionismo\n\n\n+ Sobre Bailen\n\nBailén es una ciudad y municipio español perteneciente a la provincia de Jaén\, en la comunidad autónoma de Andalucía. Bailén está ubicado en la comarca de Sierra Morena\, paso natural de las vías de comunicación que enlazan el centro\, este y norte de la península ibérica con el sur. \nLa ciudad tiene una población de 17.377 habitantes (2022). Su economía se basa principalmente en la agricultura\, la ganadería y la industria. \n\n 
URL:https://demercadosmedievales.info/mercadomedieval/medieval-4a-feria-internacional-de-coleccionismo-de-bailen-jaen/
LOCATION:Bailén (Jaén) (***)\, Bailén\, Jaén\, 23710\, Spain
CATEGORIES:Feria del Coleccionismo,Jaén
ATTACH;FMTTYPE=image/jpeg:https://demercadosmedievales.info/wp-content/uploads/2023/12/bailen_feria_coleccionismo_2024_f.jpg
GEO:38.0951601;-3.7765276
END:VEVENT
BEGIN:VEVENT
DTSTART;VALUE=DATE:20240202
DTEND;VALUE=DATE:20240205
DTSTAMP:20260425T142918
CREATED:20231221T184836Z
LAST-MODIFIED:20231222T062855Z
UID:10000775-1706832000-1707091199@demercadosmedievales.info
SUMMARY:Medievales - Mercado Medieval de Albal 2024 (Valencia)
DESCRIPTION:La población de Albal (Valencia) celebra del 02 al 04 de febrero de 2024 su Mercado Medieval\, es organizado por la empresa El Trovador. \n \nMercado Medieval\nEn cuanto al mercado medieval o Mercat d´Artesania\, este lo organiza la empresa El Trovador.   \nEl mercado donde habrá sobre cuarenta y cinco puestos aproximadamente entre artesanía alimentación y gastronomía y que contará con espectáculo de zancudos\, espectáculos de fuego\, música en directo\, talleres para niños y atracciones infantiles\, siendo la inauguración el viernes 2 de febrero a las 18:00 horas de la tarde por la comitiva del Ayuntamiento. \n\nFECHAS : 02 al 04 de Febrero  2024 \nLOCALIDAD Y PROVINCIA: ALBAL \, VALENCIA\nPaiporta es un municipio de la Comunidad Valenciana\, España. Pertenece a la provincia de Valencia\, en la comarca de la Huerta Sur. \nUBICACION : calle San Blas y plaza mercado \nMONTAJE EN LA MAÑANA \nINAUGURACIÓN EN LA TARDE \nHORARIO : MAÑANA Y TARDE \nEl organizador proveerá de : \n\nLuz\nAgua\nVigilancia\nPublicidad\n\nComo participar en este Mercado ?\nLlama al organizador y el te informa de todos los detalles ( precio\, condiciones\, etc)\nORGANIZADOR : EL TROVADOR Ver ficha\nDatos de contacto :\nTeléfono y WhatsApp : 675 190 524\nCorreo electrónico : mars.guz@hotmail.es \n  \n \n  \nSobre Albal\n\nAlbal es una localidad y un municipio de la Comunidad Valenciana\, España. Está situado en la provincia de Valencia\, en la comarca de la Huerta Sur. Contaba con una población censada de 16 577 habitantes en 2020 (según padrón municipal). \nIntegrado en la comarca de Huerta Sur\, se sitúa a 10 kilómetros de Valencia. El término municipal está atravesado por la autovía V-31\, por la carretera autonómica CV-33 (Torrente-Albal) y por carreteras locales que permiten la comunicación con Catarroja y Beniparrell. \nEl municipio limita con Catarroja\, Beniparrell\, Silla\, Valencia y Alcácer \n\n  \nMercado Medieval de Albal\, España\,Comunidad Valenciana\, Albal\, Valencia\,
URL:https://demercadosmedievales.info/mercadomedieval/medievales-mercado-medieval-de-albal-2024-valencia/
LOCATION:Albal (Valencia) (***)\, Albal\, Valencia\, España
CATEGORIES:Valencia
ATTACH;FMTTYPE=image/png:https://demercadosmedievales.info/wp-content/uploads/2023/12/albal_medieval_2024_f.png
GEO:39.3963775;-0.4136962
END:VEVENT
BEGIN:VEVENT
DTSTART;VALUE=DATE:20240202
DTEND;VALUE=DATE:20240205
DTSTAMP:20260425T142918
CREATED:20231222T094308Z
LAST-MODIFIED:20231222T094338Z
UID:10000776-1706832000-1707091199@demercadosmedievales.info
SUMMARY:XXV Mercado Renacentista de Jarandilla de la Vera y Aldeanueva de la Vera 2024
DESCRIPTION:XXV Mercado Renacentista «Ruta del emperador en su 25 edición »  en la ruta de la Vera \, fiesta de interés turístico europeo\, habrá cuentacuentos\, pasacalles\, visitas teatralizadas y talleres infantiles. \n \nGastronomía\, mercados renacentistas y música\nEl mercado renacentista se va a celebrar en dos localidades Jarandilla de la Vera y Aldeanueva de la Vera simultáneamente (al mismo tiempo). Las dos localidad están separadas por 4 km y pertenecen a la ruta de la Vera. \nMercado Renacentista de la ruta de Carlos V en Jarandilla de la Vera y Aldeanueva de la Vera simultáneamente en su 25 edición\, fiesta de interés turístico regional e itinerario cultural Europeo. \nLa Recreación histórica del último viaje de Carlos V desde el parador Nacional de Jarandilla ( palacio de los condes Oropesa) al Monasterio de Yuste\, ruta senderista con miles de participantes\, en pleno centro de la comarca de la Vera\, zona turística por excelencia del norte de Extremadura. \n+ Detalles del Mercado Renacentista\n+ Cual es la fecha ?\nLos días del 02 al 04 de Febrero del 2024 \n+ Donde se celebra  :  \nEn los dos pueblos al mismo tiempo : \nJarandilla de la Vera es un municipio español de la provincia de CACERES\, en la comunidad autónoma de Extremadura. Es el segundo municipio más poblado de La Vera después de Jaraiz. \nAldeanueva de la Vera es un municipio y localidad española de la provincia de CACERES\, en la comunidad autónoma de Extremadura. Pertenece a la mancomunidad de La Vera \n+ Las Ferias Renacentistas son organizadas por :\nLa empresa encargada de su organización es ARTESANOS ERRANTES\nInformación por WhatsApp 690085297 \nHabrá cuentacuentos\, pasacalles\, visitas teatralizadas y talleres infantiles.\n+ Cartel del Mercado Renacentista\n \n  \nMercados Renacentistas\nLos mercados renacentistas son recreaciones de los mercados que se celebraban en la Europa del Renacimiento\, entre los siglos XIV y XVI. Estos mercados se caracterizaban por su ambiente festivo y por la venta de productos artesanales y alimentos típicos de la época. \nLos mercados renacentistas se organizan en España con frecuencia\, tanto en ciudades grandes como en pueblos pequeños. En ellos\, los visitantes pueden encontrar una amplia variedad de productos\, desde artesanías como cerámica\, vidrio\, textiles y joyería\, hasta alimentos como embutidos\, quesos\, dulces y vinos. \nAdemás de la venta de productos\, los mercados renacentistas también ofrecen un programa de actividades culturales que incluye espectáculos de música\, danza y teatro. Estas actividades ayudan a recrear el ambiente de la época renacentista y a ofrecer a los visitantes una experiencia única. \nPuedes consultar + fechas en nuestra sección :  Mercados Renacentistas \n  \nRUTA DE LA VERA\nHermosa ruta en la cual tendremos la ocasión de visitar algunos de los principales pueblos de la comarca de La Vera como Jarandilla\, Aldeanueva\, Cuacos de Yuste y Garganta de la Olla\, además de visitar el famoso monasterio de Yuste. \nAdemás\, la ruta recorre al mismo tiempo el tramo de la ruta del emperador que recrea el último tramo del viaje que realizó el emperador Carlos I de España y V de Alemania\, desde Jarandilla de la Vera hasta el Monasterio de Yuste\, a donde se retiró y falleció. \nLa ruta se encuentra señalizada\, hasta Yuste con letreros y a partir de ahí con marcas de pintura. \nDetalles de la Ruta de la Vera.\nPartimos del pueblo de Jarandilla de la Vera\, delante del parador nacional\, haciendo una pequeña visita a la bonita plaza mayor\, donde se halla la iglesia de Sta. Mª de la Torre\, con un mirador pegado a la misma que es público. \nDesde aquí continuamos hasta enlazar con un buen camino empedrado pasando por el puente medieval del Parral y seguir por zonas con cerezos y olivos. \nTras pasar el puente Viejo\, entramos en la segunda población: Aldeanueva de la Vera\, en la cual podremos ver la iglesia de San Pedro y la bonita Fuente de los Ocho Caños. \nSeguimos por el camino empedrado pasando el puente del Téjar con paisaje de olivares y cerezos hasta entrar en el pueblo de Cuacos de Yuste\, uno de los más bonitos de la comarca de la Vera\, en el cual recorreremos sus calles empedradas contemplando bellos rincones como la playa Mayor\, plaza Fuente de los Chorros\, iglesia de Ntra. Señora de la Asunción y la Plaza Juan de Austria. \nY continuamos por…\nSalimos del pueblo por caminos y al contactar con la carretera que va al monasterio\, continuamos por un sendero que se introduce en un bello bosque por el que seguimos hasta un desvío que nos lleva a un lugar diferente y único: un antiguo cementerio alemán donde reposan los restos traídos hasta aquí de toda España de alemanes de la I y II Guerra Mundial fallecidos. \nContinuamos hasta llegar al famoso Monasterio de Yuste\, que podemos visitar abonando la entrada\, donde llegó el emperador Carlos I para retirarse y finalmente falleció. \nDesde aquí continuamos por un buen camino entre el bosque que conduce a una pista y más adelante al Mojón Alto\, una pradera\, desde el cual alcanzamos el mirador de la Loma de la Atalaya. \nDesde aquí descendemos\, pasando antes por la Fuente Blanca\, hasta contactar con la carretera y llegar al Monumento a la Serrana de la Vera. \nY llegamos a nuestro destino…\nSeguimos un corto tramo por la carretera hasta llegar al puente de la Garganta Mayor donde cogemos un camino que nos conduce al puente del Salvador\, puerta de entrada en Garganta La Olla\, otro de los pueblos más bonitos de la comarca de La Vera\, con construcciones tradicionales\, la iglesia de San Lorenzo\, la plaza del ayuntamiento\, etc. En este pueblo finalizamos esta bonita ruta. \nDistancia: 17 km\nDuración: 4 horas 30 min\nDificultad: Fácil \n\nMercado Renacentista\, España\, Extremadura\, Cáceres\, Jarandilla de la Vera\, Aldeanueva de la Vera
URL:https://demercadosmedievales.info/mercadomedieval/xxv-mercado-renacentista-de-jarandilla-de-la-vera-y-aldeanueva-de-la-vera-2024/
LOCATION:Jarandilla de La Vera y Aldeanueva de La Vera (Cáceres) (***)\, Jarandilla de la Vera\, Cáceres\, 10450\, Spain
CATEGORIES:Caceres
ATTACH;FMTTYPE=image/jpeg:https://demercadosmedievales.info/wp-content/uploads/2023/12/jarandilla_medieval_2024_f.jpg
GEO:40.1286709;-5.6602562
END:VEVENT
END:VCALENDAR