BEGIN:VCALENDAR
VERSION:2.0
PRODID:-//Mercados Medievales - ECPv6.15.20//NONSGML v1.0//EN
CALSCALE:GREGORIAN
METHOD:PUBLISH
X-WR-CALNAME:Mercados Medievales
X-ORIGINAL-URL:https://demercadosmedievales.info
X-WR-CALDESC:Eventos para Mercados Medievales
REFRESH-INTERVAL;VALUE=DURATION:PT1H
X-Robots-Tag:noindex
X-PUBLISHED-TTL:PT1H
BEGIN:VTIMEZONE
TZID:Europe/Madrid
BEGIN:DAYLIGHT
TZOFFSETFROM:+0100
TZOFFSETTO:+0200
TZNAME:CEST
DTSTART:20230326T010000
END:DAYLIGHT
BEGIN:STANDARD
TZOFFSETFROM:+0200
TZOFFSETTO:+0100
TZNAME:CET
DTSTART:20231029T010000
END:STANDARD
BEGIN:DAYLIGHT
TZOFFSETFROM:+0100
TZOFFSETTO:+0200
TZNAME:CEST
DTSTART:20240331T010000
END:DAYLIGHT
BEGIN:STANDARD
TZOFFSETFROM:+0200
TZOFFSETTO:+0100
TZNAME:CET
DTSTART:20241027T010000
END:STANDARD
BEGIN:DAYLIGHT
TZOFFSETFROM:+0100
TZOFFSETTO:+0200
TZNAME:CEST
DTSTART:20250330T010000
END:DAYLIGHT
BEGIN:STANDARD
TZOFFSETFROM:+0200
TZOFFSETTO:+0100
TZNAME:CET
DTSTART:20251026T010000
END:STANDARD
END:VTIMEZONE
BEGIN:VEVENT
DTSTART;VALUE=DATE:20240119
DTEND;VALUE=DATE:20240122
DTSTAMP:20260425T142150
CREATED:20231016T093922Z
LAST-MODIFIED:20231211T161449Z
UID:10000199-1705622400-1705881599@demercadosmedievales.info
SUMMARY:MERCADO RENACENTISTA en LLombai (Valencia) 19 al 21 de Enero 2024
DESCRIPTION:El MERCADO RENACENTISTA \, como cada año desde hace más de una década\, al finalizar el mes de enero\, hace que LLombai se transforme en una fiel recreación de la época renacentista\, con cerca de un centenar de  paradas de artesanos y mercaderes que recorrerán el casco antiguo\, pasacalles\, teatro de calle y un extenso programa de actividades dirigidas a todos los públicos. \n \nMERCADO RENACENTISTA EN HONOR A SAN FRANCISCO DE BORJA\nLocalidad y provincia : LLOMBAI (Valencia)\nFechas : 19\, 20 Y 21 DE ENERO DE 2024\nUbicación dentro de la localidad : PLAZA DEL AYUNTAMIENTO Y ALREDEDORES\nDescripción del MERCADO RENACENTISTA :\nComo cada año desde hace más de una década\, al finalizar el mes de enero\, Llombai se transforma en una fiel recreación de la época renacentista\, con cerca de un centenar de  paradas de artesanos y mercaderes que recorrerán el casco antiguo\, pasacalles\, teatro de calle y un extenso programa de actividades dirigidas a todos los públicos.\n\nEl Mercado se ha convertido en la cita más importante para Llombai en cuanto al sector turístico y comercial y se consolida como un referente comarcal: en las últimas ediciones han acudido decenas de miles de visitantes.Este evento\, cuenta con una gran campaña de promoción y publicidad\, en radio\, prensa\, vallas publicitarias\, redes sociales…\nPrevisión de montaje: Por confirmar.\nSi estás interesado en conocer los detalles de participación de este mercado\,  solicita ampliar información lo antes posible.\nInformación e Inscripciones:\ncontacto@espectaculosamb.com \nComo participar en el Mercado renacentista ?\nPonte en contacto con LA FRAGUA DE VULCANO  \n📞 Teléfono  963 400 037 \n📧 email : contacto@espectaculosamb.com \nFoto de Valencia Extra\n  \n  \nMERCADO RENACENTISTA en LLombai (Valencia) 19 al 21 de Enero 2024 \nEl mercado renacentista de Llombai es una recreación histórica de la época renacentista que se celebra cada año\, durante los días 19\, 20 y 21 de enero. Es uno de los eventos más importantes de la Comunidad Valenciana y atrae a miles de visitantes de toda España y el mundo. \nEl mercado se instala en el casco histórico de la localidad\, que se transforma por completo para recrear la época renacentista. Las calles se llenan de puestos de artesanía\, gastronomía y espectáculos. \nCartel del Mercado renacentista\n 
URL:https://demercadosmedievales.info/mercadomedieval/mercado-renacentista-en-llombai-valencia-19-al-21-de-enero-2024/
LOCATION:Llombai (Valencia) (***)\, PLAZA DEL AYUNTAMIENTO Y ALREDEDORES\, Llombai\, Valencia\, España
CATEGORIES:La Fragua de Vulcano,Mercado Renacentista y Siglo de Oro,Valencia
ATTACH;FMTTYPE=image/jpeg:https://demercadosmedievales.info/wp-content/uploads/2023/10/llombai_medieval_2024_cartel-f.jpg
ORGANIZER;CN="La Fragua de Vulcano":MAILTO:lafragua@espectaculosamb.com
GEO:39.2815767;-0.57175
X-APPLE-STRUCTURED-LOCATION;VALUE=URI;X-ADDRESS=Llombai (Valencia) (***) PLAZA DEL AYUNTAMIENTO Y ALREDEDORES Llombai Valencia España;X-APPLE-RADIUS=500;X-TITLE=PLAZA DEL AYUNTAMIENTO Y ALREDEDORES:geo:-0.57175,39.2815767
END:VEVENT
BEGIN:VEVENT
DTSTART;VALUE=DATE:20240119
DTEND;VALUE=DATE:20240122
DTSTAMP:20260425T142150
CREATED:20231118T182357Z
LAST-MODIFIED:20231118T182358Z
UID:10000697-1705622400-1705881599@demercadosmedievales.info
SUMMARY:Fira multisectorial de Sant Sebastiá de Silla 2024
DESCRIPTION:Fira de Sant Sebastiá en Silla \, mercado multisectorial que se celebra anualmente en la localidad valenciana de Silla. \n \nPara participar en está feria\, lo primero que debes hacer es ponerte en contacto con el organizador y te explicarán las condiciones y te darán todos los detalles: como el precio\, el montaje\, el tipo de puestos\, los servicios que ofrecen\, etc. \nFira multisectorial de Sant Sebastiá de Silla\nEstá considerada como feria de interés turístico local. \nFecha de inicio y finalización :  \n19 al 21 de enero del 2024 \nLocalidad y Provincia : Silla\, VALENCIA \nUbicación : en el centro del pueblo \nSilla es un municipio de la Comunidad Valenciana\, España. Perteneciente a la provincia de Valencia\, en la comarca de la Huerta Sur. \nORGANIZA la Fira multisectorial :  EL PALLETER MEDIEVAL \nTeléfono : 653 555 365 \ne-mail: elpalletermedieval@gmail.com \nFeria de San Sebastiá\nUna de las primeras ferias del año es la ya tradicional y famosa Fira de Sant Sebastià de Silla. Una feria comercial\, agrícola y de alimentación llena de actividades infantiles que se celebra del 19 al 21 de enero de 2024. \nDecenas de puestos llenarán las calles del municipio para que encontremos todo tipo de productos. Además\, existen talleres infantiles y manualidades para divertir a los más peques. \nDesde hace varios años la Fira se complementa con una extensa feria medieval que se monta alrededor de la feria comercial\, agrícola y de alimentación. \nDescripción de la feria de San Sebastiá\nLa Feria de San Sebastián es una feria comercial\, agrícola y de alimentación que se realizará alrededor del 20 de enero\, día de San Sebastián\, en el casco antiguo de Silla. \nTres días festivos en los que la ciudadanía y los visitantes de fuera del pueblo disfrutan de la población\, de su gente y de su gastronomía. \n\nFira de Sant Sebastiá en Silla \, Valencia 19 al 21 de Enero 2024 \n \nMercado multisectorial\, España\, Comunidad Valenciana. Valencia\, Silla
URL:https://demercadosmedievales.info/mercadomedieval/fira-multisectorial-de-sant-sebastia-de-silla-2024/
LOCATION:Silla (Valencia) (***)\, en el centro\, Silla\, Valencia\, España
CATEGORIES:El Palleter medieval,Multisectorial,Valencia
ATTACH;FMTTYPE=image/jpeg:https://demercadosmedievales.info/wp-content/uploads/2023/11/silla_fira_sant_sebastia_2024f.jpg
ORGANIZER;CN="El Palleter medieval":MAILTO:elpalletermedieval@gmail.com
GEO:39.3626846;-0.4120058
X-APPLE-STRUCTURED-LOCATION;VALUE=URI;X-ADDRESS=Silla (Valencia) (***) en el centro Silla Valencia España;X-APPLE-RADIUS=500;X-TITLE=en el centro:geo:-0.4120058,39.3626846
END:VEVENT
BEGIN:VEVENT
DTSTART;VALUE=DATE:20240119
DTEND;VALUE=DATE:20240122
DTSTAMP:20260425T142150
CREATED:20231128T095810Z
LAST-MODIFIED:20231128T095811Z
UID:10000731-1705622400-1705881599@demercadosmedievales.info
SUMMARY:Mercado medieval del Valle de Ricote - Murcia - 19 al 21 de Enero del 2023
DESCRIPTION:El Mercado medieval vuelve al Valle de Ricote \, en el parque huerta del celestino\,  los días son del 19 al 21 de Enero del 2024. Artesanía\, complementos\, bisutería\, plata\, jabones \, inciensos\, cuero\, alimentación y gastronomía. \n \nDetalles del Mercado medieval del Valle de Ricote\nCuando es el Mercado medieval de Ricote ?\nLos días 19 \, 20 y 21  DE ENERO  del 2024 \nDonde se encuentra Ricote ?\nRicote  es un municipio español de la Región de MURCIA\, cabeza de la histórica comarca murciana del Valle de Ricote. \nY en lugar estará ubicado  : en el CENTRO\, exactamente en el Parque Huerto del Celestino \nComo deben vestir los artesanos / mercaderes y como debe estar decorada la parada ?\nLa temática del mercado es medieval\, por lo tanto tanto parada como vestuario debe estar adecuado a esa época. \nTienes dudas sobre el vestuario \, puedes consultar el articulo en nuestra web  : Vestuario para los mercados y ferias temáticas. \nMuchos nos preguntan como hacer para participar en una feria o mercado medieval\, aquí tienes algunos consejos : Como participar en un mercado medieval \nY como puedo inscribirme para participar ?\nLa empresa EXCALIBUR MEDIEVAL organiza y gestiona a los artesanos. \nSe puede reservar el sitio llamando al 619.57.49.21\, la persona de contacto es Antonio. Puedes llamar o enviar mensajes por WhatsApp.\nSu email es : excaliburmedieval@hotmail.com \nQue servicios dará el organizador a los participantes : \n\nLUZ\nAGUA\nPUBLICIDAD\nVIGILANCIA\nDECORACION\n\n** Para cualquier duda\, llama al organizador que te la resolverá. \nORGANIZA : EXCALIBUR MEDIEVAL\nPersona de contacto: Antonio\nE-mail : excaliburmedieval@hotmail.com\nTeléfono // WhatsApp : 619574921 \n \nConsultar más fechas de mercados y ferias \n\nPara conocer el calendario de próximos mercados y ferias consulta nuestra web :  Agenda de mercados medievales y ferias temáticas \n  \nComo son los mercados y ferias temáticos \n\nHemos creado un articulo donde describimos los mercados medievales :  Ferias y mercados medievales. \n  \n  \n  \n  \nSiempre a tu lado !!!
URL:https://demercadosmedievales.info/mercadomedieval/mercado-medieval-del-valle-de-ricote-murcia-19-al-21-de-enero-del-2023/
LOCATION:Ricote (Murcia) (***)\, Ricote\, Región de Murcia\, 30610\, Spain
CATEGORIES:Excalibur medueval,Mercado Medieval,Region de Murcia
ATTACH;FMTTYPE=image/png:https://demercadosmedievales.info/wp-content/uploads/2023/11/ricote_medieval_feria_medieval_2024_f-1.png
GEO:38.1536867;-1.365613
END:VEVENT
BEGIN:VEVENT
DTSTART;VALUE=DATE:20240119
DTEND;VALUE=DATE:20240122
DTSTAMP:20260425T142150
CREATED:20231201T191324Z
LAST-MODIFIED:20231201T191630Z
UID:10000743-1705622400-1705881599@demercadosmedievales.info
SUMMARY:Mercado medieval de Murcia del 19 al 21 de Enero del 2024
DESCRIPTION:Durante dos días y medio\, Mercado Arlekin organiza un Mercado medieval en el Jardín del Salitre de la ciudad de Murcia. \n \nCuando es el Mercado medieval ?\nSerá los días 19 al 21 de Enero del 2024\nUbicación \nJardín del Salitre de Murcia capital\, provincia de MURCIA \nEl Jardín del Salitre\, es un Parque en el solar de una antigua fábrica de pólvora\, con un estanque con patos\, una zona infantil y una terraza que sirve tapas. \nLos servicios que facilitará  el organizador a los artesanos son: \n\nagua\nelectricidad\nvigilancia disuasoria\nsuelo municipal\n\n  \nPublico\nLa entrada al mercado medieval para el público visitante es gratuita \nPara el publico habrá : \n\nanimación\nespectaculos\n\nPrecio del metro lineal para los artesanos \nEstá información solo la facilita el organizador\, llámale y pregúntale. \nOrganizador\nLa empresa que organiza la feria es MERCADOS ARLEKIN  y sus teléfonos son 677538351 (JUANJO) y él 628100548.  \nTambién disponen de un email de contacto : mercadosarlekin@gmail.com \nCartel anunciador\n \n  \nMercados medievales\n\nEstos eventos  recrean la atmósfera de la Edad Media. Y sus puestos están decorados con elementos medievales\, y los vendedores visten ropa de la época. \nEl publico visitante pueden encontrar una gran variedad de productos\, desde artesanía hasta comida y bebida. \nAdemás de la venta de productos\, los mercados medievales también ofrecen actividades culturales\, como espectáculos de música\, danza y teatro. \nEs una oportunidad para conocer la cultura y la historia de la Edad Media de una forma divertida y emocionante. \nSi quieres descubrir más fechas\, visita la sección de nuestra web : Ferias y mercados medievales \n\nMedieval markets\nThese events recreate the atmosphere of the Middle Ages. And its stalls are decorated with medieval elements\, and the vendors wear period clothing. \nThe visiting public can find a wide variety of products\, from crafts to food and drinks. \nIn addition to the sale of products\, medieval markets also offer cultural activities\, such as music\, dance and theater performances. \nIt is an opportunity to learn about the culture and history of the Middle Ages in a fun and exciting way. \nIf you want to discover more dates\, visit the section of our website : Ferias y mercados medievales
URL:https://demercadosmedievales.info/mercadomedieval/mercado-medieval-de-murcia-del-19-al-21-de-enero-del-2024/
LOCATION:Murcia (***)\, Murcia\, Murcia\, España
CATEGORIES:Mercado Medieval,Mercados Arlekin,Region de Murcia
ATTACH;FMTTYPE=image/jpeg:https://demercadosmedievales.info/wp-content/uploads/2023/12/murcia_jardin_del_salitre_2024_cartel_f.jpg
ORGANIZER;CN="Mercados Arlekin":MAILTO:mercadosarlekin@gmail.com
GEO:37.9922399;-1.1306544
END:VEVENT
BEGIN:VEVENT
DTSTART;VALUE=DATE:20240119
DTEND;VALUE=DATE:20240122
DTSTAMP:20260425T142150
CREATED:20240114T093510Z
LAST-MODIFIED:20240114T093510Z
UID:10000782-1705622400-1705881599@demercadosmedievales.info
SUMMARY:Mercado Medieval del Castillo de Santa Pola 2024 - Alicante
DESCRIPTION:Mercado Medieval del Castillo de Santa Pola con motivo de la 32\, MITJA MARATO de Interés Turístico Internacional. \n \n+ Detalles del Mercado Medieval\nFECHAS :  19 al 21 de Enero 2024 \nLOCALIDAD Y PROVINCIA : SANTA POLA \, ALICANTE \nUBICACIÓN : ALREDEDORES DEL CASTILLO DE SANTA POLA \nComo participo en este Mercado Medieval ?\nPoniendo en contacto con el organizador EL TROVADOR \nTeléfono y WhatsApp : 675 190 524 \nEL ORGANIZADOR proveerá de :\nPara los artesanos \, los servicios de : \n\n\n\nLUZ\nAGUA\nPUBLICIDAD\nVIGILANCIA DISUASORIA\n\n\n\nPara el público visitante : \n\nESPECTACULOS\n\n \nSobre Santa Pola\nSanta Pola​ es un municipio de la Comunidad Valenciana situado en la costa de la provincia de ALICANTE \, en la comarca del Bajo Vinalopó. Contaba con 33 303 habitantes en 2020. \nLa distancia entre Santa Pola y Alicante es de 19 km. La distancia por carretera es de 20.6 km. \n\n  \nLos principales atractivos de Santa Pola son sus restos históricos\, su puerto\, sus salinas y sus playas dotadas de bandera azul\, símbolo de calidad ambiental otorgado por la Fundación Europea de Educación Ambiental.\n  \n\n  \nSabias que ….\nEl castillo-fortaleza de Santa Pola está situado en la Plaza Glorieta y fue construido en el siglo siglo XVI en estilo renacentista\, ​ teniendo reformas posteriores de los siglos XVIII y XIX. \nEl castillo-fortaleza de Santa Pola (Alicante\, España) está situado en la Plaza Glorieta y fue construido en el siglo siglo XVI en estilo renacentista\,​ teniendo reformas posteriores de los siglos XVIII y XIX. \n\nmercadosmedievales.net – Mercado medieval en el Castillo de Santa Pola\, Alicante 2024\, Santa Pola\, Mercado Medieval\,
URL:https://demercadosmedievales.info/mercadomedieval/mercado-medieval-del-castillo-de-santa-pola-2024-alicante/
LOCATION:Santa Pola (Alicante) (***)\, Alrededores del Castillo de Santa Pola\, Santa Pola\, Alicante\, 03130\, España
CATEGORIES:Alicante,El Trovador,Mercado Medieval
ATTACH;FMTTYPE=image/jpeg:https://demercadosmedievales.info/wp-content/uploads/2024/01/santapola_medieval_2024_enero_faceb.jpg
GEO:38.1918507;-0.5544076
X-APPLE-STRUCTURED-LOCATION;VALUE=URI;X-ADDRESS=Santa Pola (Alicante) (***) Alrededores del Castillo de Santa Pola Santa Pola Alicante 03130 España;X-APPLE-RADIUS=500;X-TITLE=Alrededores del Castillo de Santa Pola:geo:-0.5544076,38.1918507
END:VEVENT
BEGIN:VEVENT
DTSTART;VALUE=DATE:20240120
DTEND;VALUE=DATE:20240122
DTSTAMP:20260425T142150
CREATED:20231211T072309Z
LAST-MODIFIED:20231211T072310Z
UID:10000765-1705708800-1705881599@demercadosmedievales.info
SUMMARY:Mercado medieval de Parets del Valles 2024 Barcelona\, Org. La Fragua de Vulcano
DESCRIPTION:Mercado medieval que se celebra anualmente cada 4º fin de semana de enero en Parets del Vallès\,  coincidiendo con la Festa Major d´Hivern y conocido tradicionalmente como Parets Medieval \n \nParets Medieval\,\nel Mercado medieval de Parets del Valles\n  \n+ Detalles\nMERCADO MEDIEVAL\nPARETS DEL VALLÈS (BARCELONA)\nFESTA MAJOR D´HIVERN\n20 Y 21 DE ENERO DE 2024\nPLAÇA DE LA VILA\, CARRER DE LA FÀBRICA\, PARC LA LINERA \n+ Descripción del Mercado medieval\n\nLA FRAGUA DE VULCANO organizará un año más el Mercado Medieval que se celebra anualmente en torno al fin de semana anterior al 4º lunes de enero en Parets del Vallès\, coincidiendo con la Festa Major d´Hivern y conocido tradicionalmente como Parets Medieval\, en esta villa situada en la comarca del Vallès Oriental\, muy próxima a Granollers y cercana también a Barcelona capital\, que cuenta con unos 19.000 habitantes. \nEste mercado contará con actividades de animación\, música\, pasacalles\, rincón infantil y atracciones\, exposiciones… \n\n+ Horario del Mercado Medieval\nSábado 20 de enero: de 11.00 a 22.00 horas\nDomingo 21 de enero: de 11.00 a 20.00 horas \n\n+ Datos técnicos\nMontaje: Viernes 19 de enero (horario por confirmar)\nLugar: Plaça de la Vila\, Carrer de la Fàbrica y Parc La Linera \n+ Datos del organizador\nOrganiza :  LA FRAGUA DE VULCANO\nInformación e Inscripciones: lafragua@espectaculosamb.com\nTel. 963 400 037 \nCreador: Enric BartelCopyright: Enric Bartel\n+ información sobre Parets del Valles\nParets​ es un municipio español de la Provincia de Barcelona. Se sitúa al suroeste de la comarca del Vallés Oriental\, a 7 km de su capital Granollers\, y a 23 km de Barcelona. Tiene una área de unos 9 km²\, y unos 19 000 habitantes. De norte a sur\, el río Tenes cruza el municipio \n  \n+ Quieres descubrir más fechas de mercados medievales\nVisita nuestro calendario de Ferias medievales y mercados medievales en 2024 \n+ Para ver más mercados medievales en Barcelona\nConsulta todos los mercados medievales en BARCELONA \n  \nEn resumen…\nEl Mercado Medieval de Parets del Vallès es una fiesta tradicional que se celebra cada año en el municipio de Parets del Vallès\, en la comarca del Vallès Oriental\, en España. La fiesta se celebra durante dos días\, el último fin de semana de enero\, y cuenta con una amplia programación de actividades culturales y lúdicas. \nEl mercado se instala en la Plaça de la Vila\, el Carrer de la Fàbrica y el Parc la Linera. En él\, se pueden encontrar puestos de venta de artesanía\, productos gastronómicos\, espectáculos de animación\, talleres y demostraciones.
URL:https://demercadosmedievales.info/mercadomedieval/mercado-medieval-de-parets-del-valles-2024-barcelona-org-la-fragua-de-vulcano/
LOCATION:Parets del Vallés (Barcelona) (***)\, Parets del Vallès\, Barcelona\, Spain
CATEGORIES:Barcelona,La Fragua de Vulcano,Mercado Medieval
ATTACH;FMTTYPE=image/jpeg:https://demercadosmedievales.info/wp-content/uploads/2023/12/parets_medieval_2024.jpg
ORGANIZER;CN="La Fragua de Vulcano":MAILTO:lafragua@espectaculosamb.com
GEO:41.5636447;2.2288957
END:VEVENT
END:VCALENDAR